BEGIN:VCALENDAR
VERSION:2.0
PRODID:https://www.kufer.de/kuferweb / DE
METHOD:PUBLISH
CALSCALE:GREGORIAN
X-WR-TIMEZONE:Europe/Berlin
BEGIN:VTIMEZONE
TZID:Europe/Berlin
X-LIC-LOCATION:Europe/Berlin
BEGIN:DAYLIGHT
TZOFFSETFROM:+0100
TZOFFSETTO:+0200
TZNAME:CEST
DTSTART:19700329T020000
RRULE:FREQ=YEARLY;INTERVAL=1;BYDAY=-1SU;BYMONTH=3
END:DAYLIGHT
BEGIN:STANDARD
TZOFFSETFROM:+0200
TZOFFSETTO:+0100
TZNAME:CET
DTSTART:19701025T030000
RRULE:FREQ=YEARLY;INTERVAL=1;BYDAY=-1SU;BYMONTH=10
END:STANDARD
END:VTIMEZONE
BEGIN:VEVENT
DTSTAMP:20260423T105511
DTSTART;TZID=Europe/Berlin:20260505T184500
DTEND;TZID=Europe/Berlin:20260505T201500
UID:26Z467132-20260505T184500@KÖLNER VHS
SUMMARY:Curso de conversación B2 (Spanisch Konversation B2) (26Z467132) 
LOCATION:VHS Studienhaus, Raum 304, Cäcilienstr. 35, 50667 Köln
END:VEVENT
BEGIN:VEVENT
DTSTAMP:20260423T105511
DTSTART;TZID=Europe/Berlin:20260512T184500
DTEND;TZID=Europe/Berlin:20260512T201500
UID:26Z467132-20260512T184500@KÖLNER VHS
SUMMARY:Curso de conversación B2 (Spanisch Konversation B2) (26Z467132) 
LOCATION:VHS Studienhaus, Raum 304, Cäcilienstr. 35, 50667 Köln
END:VEVENT
BEGIN:VEVENT
DTSTAMP:20260423T105511
DTSTART;TZID=Europe/Berlin:20260519T184500
DTEND;TZID=Europe/Berlin:20260519T201500
UID:26Z467132-20260519T184500@KÖLNER VHS
SUMMARY:Curso de conversación B2 (Spanisch Konversation B2) (26Z467132) 
LOCATION:VHS Studienhaus, Raum 304, Cäcilienstr. 35, 50667 Köln
END:VEVENT
BEGIN:VEVENT
DTSTAMP:20260423T105511
DTSTART;TZID=Europe/Berlin:20260526T184500
DTEND;TZID=Europe/Berlin:20260526T201500
UID:26Z467132-20260526T184500@KÖLNER VHS
SUMMARY:Curso de conversación B2 (Spanisch Konversation B2) (26Z467132) 
LOCATION:VHS Studienhaus, Raum 304, Cäcilienstr. 35, 50667 Köln
END:VEVENT
BEGIN:VEVENT
DTSTAMP:20260423T105511
DTSTART;TZID=Europe/Berlin:20260602T184500
DTEND;TZID=Europe/Berlin:20260602T201500
UID:26Z467132-20260602T184500@KÖLNER VHS
SUMMARY:Curso de conversación B2 (Spanisch Konversation B2) (26Z467132) 
LOCATION:VHS Studienhaus, Raum 304, Cäcilienstr. 35, 50667 Köln
END:VEVENT
BEGIN:VEVENT
DTSTAMP:20260423T105511
DTSTART;TZID=Europe/Berlin:20260609T184500
DTEND;TZID=Europe/Berlin:20260609T201500
UID:26Z467132-20260609T184500@KÖLNER VHS
SUMMARY:Curso de conversación B2 (Spanisch Konversation B2) (26Z467132) 
LOCATION:VHS Studienhaus, Raum 304, Cäcilienstr. 35, 50667 Köln
END:VEVENT
BEGIN:VEVENT
DTSTAMP:20260423T105511
DTSTART;TZID=Europe/Berlin:20260616T184500
DTEND;TZID=Europe/Berlin:20260616T201500
UID:26Z467132-20260616T184500@KÖLNER VHS
SUMMARY:Curso de conversación B2 (Spanisch Konversation B2) (26Z467132) 
LOCATION:VHS Studienhaus, Raum 304, Cäcilienstr. 35, 50667 Köln
END:VEVENT
BEGIN:VEVENT
DTSTAMP:20260423T105511
DTSTART;TZID=Europe/Berlin:20260623T184500
DTEND;TZID=Europe/Berlin:20260623T201500
UID:26Z467132-20260623T184500@KÖLNER VHS
SUMMARY:Curso de conversación B2 (Spanisch Konversation B2) (26Z467132) 
LOCATION:VHS Studienhaus, Raum 304, Cäcilienstr. 35, 50667 Köln
END:VEVENT
BEGIN:VEVENT
DTSTAMP:20260423T105511
DTSTART;TZID=Europe/Berlin:20260630T184500
DTEND;TZID=Europe/Berlin:20260630T201500
UID:26Z467132-20260630T184500@KÖLNER VHS
SUMMARY:Curso de conversación B2 (Spanisch Konversation B2) (26Z467132) 
LOCATION:VHS Studienhaus, Raum 304, Cäcilienstr. 35, 50667 Köln
END:VEVENT
END:VCALENDAR