BEGIN:VCALENDAR
VERSION:2.0
PRODID:https://www.kufer.de/kuferweb / DE
METHOD:PUBLISH
CALSCALE:GREGORIAN
X-WR-TIMEZONE:Europe/Berlin
BEGIN:VTIMEZONE
TZID:Europe/Berlin
X-LIC-LOCATION:Europe/Berlin
BEGIN:DAYLIGHT
TZOFFSETFROM:+0100
TZOFFSETTO:+0200
TZNAME:CEST
DTSTART:19700329T020000
RRULE:FREQ=YEARLY;INTERVAL=1;BYDAY=-1SU;BYMONTH=3
END:DAYLIGHT
BEGIN:STANDARD
TZOFFSETFROM:+0200
TZOFFSETTO:+0100
TZNAME:CET
DTSTART:19701025T030000
RRULE:FREQ=YEARLY;INTERVAL=1;BYDAY=-1SU;BYMONTH=10
END:STANDARD
END:VTIMEZONE
BEGIN:VEVENT
DTSTAMP:20260425T194338
DTSTART;TZID=Europe/Berlin:20260603T130000
DTEND;TZID=Europe/Berlin:20260603T161500
UID:26Z426057-20260603T130000@KÖLNER VHS
SUMMARY:Modul 5 - Integrationskurs mit Alphabetisierung Aufbaukurs Abschnitt 2 - Nr. 804 (26Z426057) 
LOCATION:VHS Studienhaus, Raum 406, Cäcilienstr. 35, 50667 Köln
END:VEVENT
BEGIN:VEVENT
DTSTAMP:20260425T194338
DTSTART;TZID=Europe/Berlin:20260608T130000
DTEND;TZID=Europe/Berlin:20260608T161500
UID:26Z426057-20260608T130000@KÖLNER VHS
SUMMARY:Modul 5 - Integrationskurs mit Alphabetisierung Aufbaukurs Abschnitt 2 - Nr. 804 (26Z426057) 
LOCATION:VHS Studienhaus, Raum 406, Cäcilienstr. 35, 50667 Köln
END:VEVENT
BEGIN:VEVENT
DTSTAMP:20260425T194338
DTSTART;TZID=Europe/Berlin:20260610T130000
DTEND;TZID=Europe/Berlin:20260610T161500
UID:26Z426057-20260610T130000@KÖLNER VHS
SUMMARY:Modul 5 - Integrationskurs mit Alphabetisierung Aufbaukurs Abschnitt 2 - Nr. 804 (26Z426057) 
LOCATION:VHS Studienhaus, Raum 406, Cäcilienstr. 35, 50667 Köln
END:VEVENT
BEGIN:VEVENT
DTSTAMP:20260425T194338
DTSTART;TZID=Europe/Berlin:20260611T130000
DTEND;TZID=Europe/Berlin:20260611T161500
UID:26Z426057-20260611T130000@KÖLNER VHS
SUMMARY:Modul 5 - Integrationskurs mit Alphabetisierung Aufbaukurs Abschnitt 2 - Nr. 804 (26Z426057) 
LOCATION:VHS Studienhaus, Raum 406, Cäcilienstr. 35, 50667 Köln
END:VEVENT
BEGIN:VEVENT
DTSTAMP:20260425T194338
DTSTART;TZID=Europe/Berlin:20260615T130000
DTEND;TZID=Europe/Berlin:20260615T161500
UID:26Z426057-20260615T130000@KÖLNER VHS
SUMMARY:Modul 5 - Integrationskurs mit Alphabetisierung Aufbaukurs Abschnitt 2 - Nr. 804 (26Z426057) 
LOCATION:VHS Studienhaus, Raum 406, Cäcilienstr. 35, 50667 Köln
END:VEVENT
BEGIN:VEVENT
DTSTAMP:20260425T194338
DTSTART;TZID=Europe/Berlin:20260617T130000
DTEND;TZID=Europe/Berlin:20260617T161500
UID:26Z426057-20260617T130000@KÖLNER VHS
SUMMARY:Modul 5 - Integrationskurs mit Alphabetisierung Aufbaukurs Abschnitt 2 - Nr. 804 (26Z426057) 
LOCATION:VHS Studienhaus, Raum 406, Cäcilienstr. 35, 50667 Köln
END:VEVENT
BEGIN:VEVENT
DTSTAMP:20260425T194338
DTSTART;TZID=Europe/Berlin:20260618T130000
DTEND;TZID=Europe/Berlin:20260618T161500
UID:26Z426057-20260618T130000@KÖLNER VHS
SUMMARY:Modul 5 - Integrationskurs mit Alphabetisierung Aufbaukurs Abschnitt 2 - Nr. 804 (26Z426057) 
LOCATION:VHS Studienhaus, Raum 406, Cäcilienstr. 35, 50667 Köln
END:VEVENT
BEGIN:VEVENT
DTSTAMP:20260425T194338
DTSTART;TZID=Europe/Berlin:20260622T130000
DTEND;TZID=Europe/Berlin:20260622T161500
UID:26Z426057-20260622T130000@KÖLNER VHS
SUMMARY:Modul 5 - Integrationskurs mit Alphabetisierung Aufbaukurs Abschnitt 2 - Nr. 804 (26Z426057) 
LOCATION:VHS Studienhaus, Raum 406, Cäcilienstr. 35, 50667 Köln
END:VEVENT
BEGIN:VEVENT
DTSTAMP:20260425T194338
DTSTART;TZID=Europe/Berlin:20260624T130000
DTEND;TZID=Europe/Berlin:20260624T161500
UID:26Z426057-20260624T130000@KÖLNER VHS
SUMMARY:Modul 5 - Integrationskurs mit Alphabetisierung Aufbaukurs Abschnitt 2 - Nr. 804 (26Z426057) 
LOCATION:VHS Studienhaus, Raum 406, Cäcilienstr. 35, 50667 Köln
END:VEVENT
BEGIN:VEVENT
DTSTAMP:20260425T194338
DTSTART;TZID=Europe/Berlin:20260625T130000
DTEND;TZID=Europe/Berlin:20260625T161500
UID:26Z426057-20260625T130000@KÖLNER VHS
SUMMARY:Modul 5 - Integrationskurs mit Alphabetisierung Aufbaukurs Abschnitt 2 - Nr. 804 (26Z426057) 
LOCATION:VHS Studienhaus, Raum 406, Cäcilienstr. 35, 50667 Köln
END:VEVENT
BEGIN:VEVENT
DTSTAMP:20260425T194338
DTSTART;TZID=Europe/Berlin:20260629T130000
DTEND;TZID=Europe/Berlin:20260629T161500
UID:26Z426057-20260629T130000@KÖLNER VHS
SUMMARY:Modul 5 - Integrationskurs mit Alphabetisierung Aufbaukurs Abschnitt 2 - Nr. 804 (26Z426057) 
LOCATION:VHS Studienhaus, Raum 406, Cäcilienstr. 35, 50667 Köln
END:VEVENT
BEGIN:VEVENT
DTSTAMP:20260425T194338
DTSTART;TZID=Europe/Berlin:20260701T130000
DTEND;TZID=Europe/Berlin:20260701T161500
UID:26Z426057-20260701T130000@KÖLNER VHS
SUMMARY:Modul 5 - Integrationskurs mit Alphabetisierung Aufbaukurs Abschnitt 2 - Nr. 804 (26Z426057) 
LOCATION:VHS Studienhaus, Raum 406, Cäcilienstr. 35, 50667 Köln
END:VEVENT
BEGIN:VEVENT
DTSTAMP:20260425T194338
DTSTART;TZID=Europe/Berlin:20260702T130000
DTEND;TZID=Europe/Berlin:20260702T161500
UID:26Z426057-20260702T130000@KÖLNER VHS
SUMMARY:Modul 5 - Integrationskurs mit Alphabetisierung Aufbaukurs Abschnitt 2 - Nr. 804 (26Z426057) 
LOCATION:VHS Studienhaus, Raum 406, Cäcilienstr. 35, 50667 Köln
END:VEVENT
BEGIN:VEVENT
DTSTAMP:20260425T194338
DTSTART;TZID=Europe/Berlin:20260706T130000
DTEND;TZID=Europe/Berlin:20260706T161500
UID:26Z426057-20260706T130000@KÖLNER VHS
SUMMARY:Modul 5 - Integrationskurs mit Alphabetisierung Aufbaukurs Abschnitt 2 - Nr. 804 (26Z426057) 
LOCATION:VHS Studienhaus, Raum 406, Cäcilienstr. 35, 50667 Köln
END:VEVENT
BEGIN:VEVENT
DTSTAMP:20260425T194338
DTSTART;TZID=Europe/Berlin:20260708T130000
DTEND;TZID=Europe/Berlin:20260708T161500
UID:26Z426057-20260708T130000@KÖLNER VHS
SUMMARY:Modul 5 - Integrationskurs mit Alphabetisierung Aufbaukurs Abschnitt 2 - Nr. 804 (26Z426057) 
LOCATION:VHS Studienhaus, Raum 406, Cäcilienstr. 35, 50667 Köln
END:VEVENT
BEGIN:VEVENT
DTSTAMP:20260425T194338
DTSTART;TZID=Europe/Berlin:20260709T130000
DTEND;TZID=Europe/Berlin:20260709T161500
UID:26Z426057-20260709T130000@KÖLNER VHS
SUMMARY:Modul 5 - Integrationskurs mit Alphabetisierung Aufbaukurs Abschnitt 2 - Nr. 804 (26Z426057) 
LOCATION:VHS Studienhaus, Raum 406, Cäcilienstr. 35, 50667 Köln
END:VEVENT
BEGIN:VEVENT
DTSTAMP:20260425T194338
DTSTART;TZID=Europe/Berlin:20260713T130000
DTEND;TZID=Europe/Berlin:20260713T161500
UID:26Z426057-20260713T130000@KÖLNER VHS
SUMMARY:Modul 5 - Integrationskurs mit Alphabetisierung Aufbaukurs Abschnitt 2 - Nr. 804 (26Z426057) 
LOCATION:VHS Studienhaus, Raum 406, Cäcilienstr. 35, 50667 Köln
END:VEVENT
BEGIN:VEVENT
DTSTAMP:20260425T194338
DTSTART;TZID=Europe/Berlin:20260715T130000
DTEND;TZID=Europe/Berlin:20260715T161500
UID:26Z426057-20260715T130000@KÖLNER VHS
SUMMARY:Modul 5 - Integrationskurs mit Alphabetisierung Aufbaukurs Abschnitt 2 - Nr. 804 (26Z426057) 
LOCATION:VHS Studienhaus, Raum 406, Cäcilienstr. 35, 50667 Köln
END:VEVENT
BEGIN:VEVENT
DTSTAMP:20260425T194338
DTSTART;TZID=Europe/Berlin:20260716T130000
DTEND;TZID=Europe/Berlin:20260716T161500
UID:26Z426057-20260716T130000@KÖLNER VHS
SUMMARY:Modul 5 - Integrationskurs mit Alphabetisierung Aufbaukurs Abschnitt 2 - Nr. 804 (26Z426057) 
LOCATION:VHS Studienhaus, Raum 406, Cäcilienstr. 35, 50667 Köln
END:VEVENT
BEGIN:VEVENT
DTSTAMP:20260425T194338
DTSTART;TZID=Europe/Berlin:20260902T130000
DTEND;TZID=Europe/Berlin:20260902T161500
UID:26Z426057-20260902T130000@KÖLNER VHS
SUMMARY:Modul 5 - Integrationskurs mit Alphabetisierung Aufbaukurs Abschnitt 2 - Nr. 804 (26Z426057) 
LOCATION:VHS Studienhaus, Raum 406, Cäcilienstr. 35, 50667 Köln
END:VEVENT
BEGIN:VEVENT
DTSTAMP:20260425T194338
DTSTART;TZID=Europe/Berlin:20260903T130000
DTEND;TZID=Europe/Berlin:20260903T161500
UID:26Z426057-20260903T130000@KÖLNER VHS
SUMMARY:Modul 5 - Integrationskurs mit Alphabetisierung Aufbaukurs Abschnitt 2 - Nr. 804 (26Z426057) 
LOCATION:VHS Studienhaus, Raum 406, Cäcilienstr. 35, 50667 Köln
END:VEVENT
BEGIN:VEVENT
DTSTAMP:20260425T194338
DTSTART;TZID=Europe/Berlin:20260907T130000
DTEND;TZID=Europe/Berlin:20260907T161500
UID:26Z426057-20260907T130000@KÖLNER VHS
SUMMARY:Modul 5 - Integrationskurs mit Alphabetisierung Aufbaukurs Abschnitt 2 - Nr. 804 (26Z426057) 
LOCATION:VHS Studienhaus, Raum 406, Cäcilienstr. 35, 50667 Köln
END:VEVENT
BEGIN:VEVENT
DTSTAMP:20260425T194338
DTSTART;TZID=Europe/Berlin:20260909T130000
DTEND;TZID=Europe/Berlin:20260909T161500
UID:26Z426057-20260909T130000@KÖLNER VHS
SUMMARY:Modul 5 - Integrationskurs mit Alphabetisierung Aufbaukurs Abschnitt 2 - Nr. 804 (26Z426057) 
LOCATION:VHS Studienhaus, Raum 406, Cäcilienstr. 35, 50667 Köln
END:VEVENT
BEGIN:VEVENT
DTSTAMP:20260425T194338
DTSTART;TZID=Europe/Berlin:20260910T130000
DTEND;TZID=Europe/Berlin:20260910T161500
UID:26Z426057-20260910T130000@KÖLNER VHS
SUMMARY:Modul 5 - Integrationskurs mit Alphabetisierung Aufbaukurs Abschnitt 2 - Nr. 804 (26Z426057) 
LOCATION:VHS Studienhaus, Raum 406, Cäcilienstr. 35, 50667 Köln
END:VEVENT
BEGIN:VEVENT
DTSTAMP:20260425T194338
DTSTART;TZID=Europe/Berlin:20260914T130000
DTEND;TZID=Europe/Berlin:20260914T161500
UID:26Z426057-20260914T130000@KÖLNER VHS
SUMMARY:Modul 5 - Integrationskurs mit Alphabetisierung Aufbaukurs Abschnitt 2 - Nr. 804 (26Z426057) 
LOCATION:VHS Studienhaus, Raum 406, Cäcilienstr. 35, 50667 Köln
END:VEVENT
END:VCALENDAR