BEGIN:VCALENDAR
VERSION:2.0
PRODID:https://www.kufer.de/kuferweb / DE
METHOD:PUBLISH
CALSCALE:GREGORIAN
X-WR-TIMEZONE:Europe/Berlin
BEGIN:VTIMEZONE
TZID:Europe/Berlin
X-LIC-LOCATION:Europe/Berlin
BEGIN:DAYLIGHT
TZOFFSETFROM:+0100
TZOFFSETTO:+0200
TZNAME:CEST
DTSTART:19700329T020000
RRULE:FREQ=YEARLY;INTERVAL=1;BYDAY=-1SU;BYMONTH=3
END:DAYLIGHT
BEGIN:STANDARD
TZOFFSETFROM:+0200
TZOFFSETTO:+0100
TZNAME:CET
DTSTART:19701025T030000
RRULE:FREQ=YEARLY;INTERVAL=1;BYDAY=-1SU;BYMONTH=10
END:STANDARD
END:VTIMEZONE
BEGIN:VEVENT
DTSTAMP:20260425T193935
DTSTART;TZID=Europe/Berlin:20260519T140000
DTEND;TZID=Europe/Berlin:20260519T171500
UID:26Z426046-20260519T140000@KÖLNER VHS
SUMMARY:Modul 4 - Integrationskurs mit Alphabetisierung Aufbaukurs Abschnitt 1 - Nr. 836 (26Z426046) 
LOCATION:VHS Studienhaus, Raum 408, Cäcilienstr. 35, 50667 Köln
END:VEVENT
BEGIN:VEVENT
DTSTAMP:20260425T193935
DTSTART;TZID=Europe/Berlin:20260520T140000
DTEND;TZID=Europe/Berlin:20260520T171500
UID:26Z426046-20260520T140000@KÖLNER VHS
SUMMARY:Modul 4 - Integrationskurs mit Alphabetisierung Aufbaukurs Abschnitt 1 - Nr. 836 (26Z426046) 
LOCATION:VHS Studienhaus, Raum 408, Cäcilienstr. 35, 50667 Köln
END:VEVENT
BEGIN:VEVENT
DTSTAMP:20260425T193935
DTSTART;TZID=Europe/Berlin:20260526T140000
DTEND;TZID=Europe/Berlin:20260526T171500
UID:26Z426046-20260526T140000@KÖLNER VHS
SUMMARY:Modul 4 - Integrationskurs mit Alphabetisierung Aufbaukurs Abschnitt 1 - Nr. 836 (26Z426046) 
LOCATION:VHS Studienhaus, Raum 408, Cäcilienstr. 35, 50667 Köln
END:VEVENT
BEGIN:VEVENT
DTSTAMP:20260425T193935
DTSTART;TZID=Europe/Berlin:20260527T140000
DTEND;TZID=Europe/Berlin:20260527T171500
UID:26Z426046-20260527T140000@KÖLNER VHS
SUMMARY:Modul 4 - Integrationskurs mit Alphabetisierung Aufbaukurs Abschnitt 1 - Nr. 836 (26Z426046) 
LOCATION:VHS Studienhaus, Raum 408, Cäcilienstr. 35, 50667 Köln
END:VEVENT
BEGIN:VEVENT
DTSTAMP:20260425T193935
DTSTART;TZID=Europe/Berlin:20260601T140000
DTEND;TZID=Europe/Berlin:20260601T171500
UID:26Z426046-20260601T140000@KÖLNER VHS
SUMMARY:Modul 4 - Integrationskurs mit Alphabetisierung Aufbaukurs Abschnitt 1 - Nr. 836 (26Z426046) 
LOCATION:VHS Studienhaus, Raum 408, Cäcilienstr. 35, 50667 Köln
END:VEVENT
BEGIN:VEVENT
DTSTAMP:20260425T193935
DTSTART;TZID=Europe/Berlin:20260602T140000
DTEND;TZID=Europe/Berlin:20260602T171500
UID:26Z426046-20260602T140000@KÖLNER VHS
SUMMARY:Modul 4 - Integrationskurs mit Alphabetisierung Aufbaukurs Abschnitt 1 - Nr. 836 (26Z426046) 
LOCATION:VHS Studienhaus, Raum 408, Cäcilienstr. 35, 50667 Köln
END:VEVENT
BEGIN:VEVENT
DTSTAMP:20260425T193935
DTSTART;TZID=Europe/Berlin:20260603T140000
DTEND;TZID=Europe/Berlin:20260603T171500
UID:26Z426046-20260603T140000@KÖLNER VHS
SUMMARY:Modul 4 - Integrationskurs mit Alphabetisierung Aufbaukurs Abschnitt 1 - Nr. 836 (26Z426046) 
LOCATION:VHS Studienhaus, Raum 408, Cäcilienstr. 35, 50667 Köln
END:VEVENT
BEGIN:VEVENT
DTSTAMP:20260425T193935
DTSTART;TZID=Europe/Berlin:20260608T140000
DTEND;TZID=Europe/Berlin:20260608T171500
UID:26Z426046-20260608T140000@KÖLNER VHS
SUMMARY:Modul 4 - Integrationskurs mit Alphabetisierung Aufbaukurs Abschnitt 1 - Nr. 836 (26Z426046) 
LOCATION:VHS Studienhaus, Raum 408, Cäcilienstr. 35, 50667 Köln
END:VEVENT
BEGIN:VEVENT
DTSTAMP:20260425T193935
DTSTART;TZID=Europe/Berlin:20260609T140000
DTEND;TZID=Europe/Berlin:20260609T171500
UID:26Z426046-20260609T140000@KÖLNER VHS
SUMMARY:Modul 4 - Integrationskurs mit Alphabetisierung Aufbaukurs Abschnitt 1 - Nr. 836 (26Z426046) 
LOCATION:VHS Studienhaus, Raum 408, Cäcilienstr. 35, 50667 Köln
END:VEVENT
BEGIN:VEVENT
DTSTAMP:20260425T193935
DTSTART;TZID=Europe/Berlin:20260610T140000
DTEND;TZID=Europe/Berlin:20260610T171500
UID:26Z426046-20260610T140000@KÖLNER VHS
SUMMARY:Modul 4 - Integrationskurs mit Alphabetisierung Aufbaukurs Abschnitt 1 - Nr. 836 (26Z426046) 
LOCATION:VHS Studienhaus, Raum 408, Cäcilienstr. 35, 50667 Köln
END:VEVENT
BEGIN:VEVENT
DTSTAMP:20260425T193935
DTSTART;TZID=Europe/Berlin:20260615T140000
DTEND;TZID=Europe/Berlin:20260615T171500
UID:26Z426046-20260615T140000@KÖLNER VHS
SUMMARY:Modul 4 - Integrationskurs mit Alphabetisierung Aufbaukurs Abschnitt 1 - Nr. 836 (26Z426046) 
LOCATION:VHS Studienhaus, Raum 408, Cäcilienstr. 35, 50667 Köln
END:VEVENT
BEGIN:VEVENT
DTSTAMP:20260425T193935
DTSTART;TZID=Europe/Berlin:20260616T140000
DTEND;TZID=Europe/Berlin:20260616T171500
UID:26Z426046-20260616T140000@KÖLNER VHS
SUMMARY:Modul 4 - Integrationskurs mit Alphabetisierung Aufbaukurs Abschnitt 1 - Nr. 836 (26Z426046) 
LOCATION:VHS Studienhaus, Raum 408, Cäcilienstr. 35, 50667 Köln
END:VEVENT
BEGIN:VEVENT
DTSTAMP:20260425T193935
DTSTART;TZID=Europe/Berlin:20260617T140000
DTEND;TZID=Europe/Berlin:20260617T171500
UID:26Z426046-20260617T140000@KÖLNER VHS
SUMMARY:Modul 4 - Integrationskurs mit Alphabetisierung Aufbaukurs Abschnitt 1 - Nr. 836 (26Z426046) 
LOCATION:VHS Studienhaus, Raum 408, Cäcilienstr. 35, 50667 Köln
END:VEVENT
BEGIN:VEVENT
DTSTAMP:20260425T193935
DTSTART;TZID=Europe/Berlin:20260622T140000
DTEND;TZID=Europe/Berlin:20260622T171500
UID:26Z426046-20260622T140000@KÖLNER VHS
SUMMARY:Modul 4 - Integrationskurs mit Alphabetisierung Aufbaukurs Abschnitt 1 - Nr. 836 (26Z426046) 
LOCATION:VHS Studienhaus, Raum 408, Cäcilienstr. 35, 50667 Köln
END:VEVENT
BEGIN:VEVENT
DTSTAMP:20260425T193935
DTSTART;TZID=Europe/Berlin:20260623T140000
DTEND;TZID=Europe/Berlin:20260623T171500
UID:26Z426046-20260623T140000@KÖLNER VHS
SUMMARY:Modul 4 - Integrationskurs mit Alphabetisierung Aufbaukurs Abschnitt 1 - Nr. 836 (26Z426046) 
LOCATION:VHS Studienhaus, Raum 408, Cäcilienstr. 35, 50667 Köln
END:VEVENT
BEGIN:VEVENT
DTSTAMP:20260425T193935
DTSTART;TZID=Europe/Berlin:20260624T140000
DTEND;TZID=Europe/Berlin:20260624T171500
UID:26Z426046-20260624T140000@KÖLNER VHS
SUMMARY:Modul 4 - Integrationskurs mit Alphabetisierung Aufbaukurs Abschnitt 1 - Nr. 836 (26Z426046) 
LOCATION:VHS Studienhaus, Raum 408, Cäcilienstr. 35, 50667 Köln
END:VEVENT
BEGIN:VEVENT
DTSTAMP:20260425T193935
DTSTART;TZID=Europe/Berlin:20260629T140000
DTEND;TZID=Europe/Berlin:20260629T171500
UID:26Z426046-20260629T140000@KÖLNER VHS
SUMMARY:Modul 4 - Integrationskurs mit Alphabetisierung Aufbaukurs Abschnitt 1 - Nr. 836 (26Z426046) 
LOCATION:VHS Studienhaus, Raum 408, Cäcilienstr. 35, 50667 Köln
END:VEVENT
BEGIN:VEVENT
DTSTAMP:20260425T193935
DTSTART;TZID=Europe/Berlin:20260630T140000
DTEND;TZID=Europe/Berlin:20260630T171500
UID:26Z426046-20260630T140000@KÖLNER VHS
SUMMARY:Modul 4 - Integrationskurs mit Alphabetisierung Aufbaukurs Abschnitt 1 - Nr. 836 (26Z426046) 
LOCATION:VHS Studienhaus, Raum 408, Cäcilienstr. 35, 50667 Köln
END:VEVENT
BEGIN:VEVENT
DTSTAMP:20260425T193935
DTSTART;TZID=Europe/Berlin:20260701T140000
DTEND;TZID=Europe/Berlin:20260701T171500
UID:26Z426046-20260701T140000@KÖLNER VHS
SUMMARY:Modul 4 - Integrationskurs mit Alphabetisierung Aufbaukurs Abschnitt 1 - Nr. 836 (26Z426046) 
LOCATION:VHS Studienhaus, Raum 408, Cäcilienstr. 35, 50667 Köln
END:VEVENT
BEGIN:VEVENT
DTSTAMP:20260425T193935
DTSTART;TZID=Europe/Berlin:20260706T140000
DTEND;TZID=Europe/Berlin:20260706T171500
UID:26Z426046-20260706T140000@KÖLNER VHS
SUMMARY:Modul 4 - Integrationskurs mit Alphabetisierung Aufbaukurs Abschnitt 1 - Nr. 836 (26Z426046) 
LOCATION:VHS Studienhaus, Raum 408, Cäcilienstr. 35, 50667 Köln
END:VEVENT
BEGIN:VEVENT
DTSTAMP:20260425T193935
DTSTART;TZID=Europe/Berlin:20260707T140000
DTEND;TZID=Europe/Berlin:20260707T171500
UID:26Z426046-20260707T140000@KÖLNER VHS
SUMMARY:Modul 4 - Integrationskurs mit Alphabetisierung Aufbaukurs Abschnitt 1 - Nr. 836 (26Z426046) 
LOCATION:VHS Studienhaus, Raum 408, Cäcilienstr. 35, 50667 Köln
END:VEVENT
BEGIN:VEVENT
DTSTAMP:20260425T193935
DTSTART;TZID=Europe/Berlin:20260708T140000
DTEND;TZID=Europe/Berlin:20260708T171500
UID:26Z426046-20260708T140000@KÖLNER VHS
SUMMARY:Modul 4 - Integrationskurs mit Alphabetisierung Aufbaukurs Abschnitt 1 - Nr. 836 (26Z426046) 
LOCATION:VHS Studienhaus, Raum 408, Cäcilienstr. 35, 50667 Köln
END:VEVENT
BEGIN:VEVENT
DTSTAMP:20260425T193935
DTSTART;TZID=Europe/Berlin:20260713T140000
DTEND;TZID=Europe/Berlin:20260713T171500
UID:26Z426046-20260713T140000@KÖLNER VHS
SUMMARY:Modul 4 - Integrationskurs mit Alphabetisierung Aufbaukurs Abschnitt 1 - Nr. 836 (26Z426046) 
LOCATION:VHS Studienhaus, Raum 408, Cäcilienstr. 35, 50667 Köln
END:VEVENT
BEGIN:VEVENT
DTSTAMP:20260425T193935
DTSTART;TZID=Europe/Berlin:20260714T140000
DTEND;TZID=Europe/Berlin:20260714T171500
UID:26Z426046-20260714T140000@KÖLNER VHS
SUMMARY:Modul 4 - Integrationskurs mit Alphabetisierung Aufbaukurs Abschnitt 1 - Nr. 836 (26Z426046) 
LOCATION:VHS Studienhaus, Raum 408, Cäcilienstr. 35, 50667 Köln
END:VEVENT
BEGIN:VEVENT
DTSTAMP:20260425T193935
DTSTART;TZID=Europe/Berlin:20260715T140000
DTEND;TZID=Europe/Berlin:20260715T171500
UID:26Z426046-20260715T140000@KÖLNER VHS
SUMMARY:Modul 4 - Integrationskurs mit Alphabetisierung Aufbaukurs Abschnitt 1 - Nr. 836 (26Z426046) 
LOCATION:VHS Studienhaus, Raum 408, Cäcilienstr. 35, 50667 Köln
END:VEVENT
END:VCALENDAR