BEGIN:VCALENDAR
VERSION:2.0
PRODID:https://www.kufer.de/kuferweb / DE
METHOD:PUBLISH
CALSCALE:GREGORIAN
X-WR-TIMEZONE:Europe/Berlin
BEGIN:VTIMEZONE
TZID:Europe/Berlin
X-LIC-LOCATION:Europe/Berlin
BEGIN:DAYLIGHT
TZOFFSETFROM:+0100
TZOFFSETTO:+0200
TZNAME:CEST
DTSTART:19700329T020000
RRULE:FREQ=YEARLY;INTERVAL=1;BYDAY=-1SU;BYMONTH=3
END:DAYLIGHT
BEGIN:STANDARD
TZOFFSETFROM:+0200
TZOFFSETTO:+0100
TZNAME:CET
DTSTART:19701025T030000
RRULE:FREQ=YEARLY;INTERVAL=1;BYDAY=-1SU;BYMONTH=10
END:STANDARD
END:VTIMEZONE
BEGIN:VEVENT
DTSTAMP:20260425T194847
DTSTART;TZID=Europe/Berlin:20260421T091500
DTEND;TZID=Europe/Berlin:20260421T123000
UID:26Z426029-20260421T091500@KÖLNER VHS
SUMMARY:Modul 2 – Integrationskurs für gering Literalisierte Basiskurs Abschnitt 2 – Nr. 841 (26Z426029) 
LOCATION:VHS Studienhaus, Raum 406, Cäcilienstr. 35, 50667 Köln
END:VEVENT
BEGIN:VEVENT
DTSTAMP:20260425T194847
DTSTART;TZID=Europe/Berlin:20260422T091500
DTEND;TZID=Europe/Berlin:20260422T123000
UID:26Z426029-20260422T091500@KÖLNER VHS
SUMMARY:Modul 2 – Integrationskurs für gering Literalisierte Basiskurs Abschnitt 2 – Nr. 841 (26Z426029) 
LOCATION:VHS Studienhaus, Raum 406, Cäcilienstr. 35, 50667 Köln
END:VEVENT
BEGIN:VEVENT
DTSTAMP:20260425T194847
DTSTART;TZID=Europe/Berlin:20260423T091500
DTEND;TZID=Europe/Berlin:20260423T123000
UID:26Z426029-20260423T091500@KÖLNER VHS
SUMMARY:Modul 2 – Integrationskurs für gering Literalisierte Basiskurs Abschnitt 2 – Nr. 841 (26Z426029) 
LOCATION:VHS Studienhaus, Raum 406, Cäcilienstr. 35, 50667 Köln
END:VEVENT
BEGIN:VEVENT
DTSTAMP:20260425T194847
DTSTART;TZID=Europe/Berlin:20260427T091500
DTEND;TZID=Europe/Berlin:20260427T123000
UID:26Z426029-20260427T091500@KÖLNER VHS
SUMMARY:Modul 2 – Integrationskurs für gering Literalisierte Basiskurs Abschnitt 2 – Nr. 841 (26Z426029) 
LOCATION:VHS Studienhaus, Raum 406, Cäcilienstr. 35, 50667 Köln
END:VEVENT
BEGIN:VEVENT
DTSTAMP:20260425T194847
DTSTART;TZID=Europe/Berlin:20260428T091500
DTEND;TZID=Europe/Berlin:20260428T123000
UID:26Z426029-20260428T091500@KÖLNER VHS
SUMMARY:Modul 2 – Integrationskurs für gering Literalisierte Basiskurs Abschnitt 2 – Nr. 841 (26Z426029) 
LOCATION:VHS Studienhaus, Raum 406, Cäcilienstr. 35, 50667 Köln
END:VEVENT
BEGIN:VEVENT
DTSTAMP:20260425T194847
DTSTART;TZID=Europe/Berlin:20260429T091500
DTEND;TZID=Europe/Berlin:20260429T123000
UID:26Z426029-20260429T091500@KÖLNER VHS
SUMMARY:Modul 2 – Integrationskurs für gering Literalisierte Basiskurs Abschnitt 2 – Nr. 841 (26Z426029) 
LOCATION:VHS Studienhaus, Raum 406, Cäcilienstr. 35, 50667 Köln
END:VEVENT
BEGIN:VEVENT
DTSTAMP:20260425T194847
DTSTART;TZID=Europe/Berlin:20260430T091500
DTEND;TZID=Europe/Berlin:20260430T123000
UID:26Z426029-20260430T091500@KÖLNER VHS
SUMMARY:Modul 2 – Integrationskurs für gering Literalisierte Basiskurs Abschnitt 2 – Nr. 841 (26Z426029) 
LOCATION:VHS Studienhaus, Raum 406, Cäcilienstr. 35, 50667 Köln
END:VEVENT
BEGIN:VEVENT
DTSTAMP:20260425T194847
DTSTART;TZID=Europe/Berlin:20260504T091500
DTEND;TZID=Europe/Berlin:20260504T123000
UID:26Z426029-20260504T091500@KÖLNER VHS
SUMMARY:Modul 2 – Integrationskurs für gering Literalisierte Basiskurs Abschnitt 2 – Nr. 841 (26Z426029) 
LOCATION:VHS Studienhaus, Raum 406, Cäcilienstr. 35, 50667 Köln
END:VEVENT
BEGIN:VEVENT
DTSTAMP:20260425T194847
DTSTART;TZID=Europe/Berlin:20260505T091500
DTEND;TZID=Europe/Berlin:20260505T123000
UID:26Z426029-20260505T091500@KÖLNER VHS
SUMMARY:Modul 2 – Integrationskurs für gering Literalisierte Basiskurs Abschnitt 2 – Nr. 841 (26Z426029) 
LOCATION:VHS Studienhaus, Raum 406, Cäcilienstr. 35, 50667 Köln
END:VEVENT
BEGIN:VEVENT
DTSTAMP:20260425T194847
DTSTART;TZID=Europe/Berlin:20260506T091500
DTEND;TZID=Europe/Berlin:20260506T123000
UID:26Z426029-20260506T091500@KÖLNER VHS
SUMMARY:Modul 2 – Integrationskurs für gering Literalisierte Basiskurs Abschnitt 2 – Nr. 841 (26Z426029) 
LOCATION:VHS Studienhaus, Raum 406, Cäcilienstr. 35, 50667 Köln
END:VEVENT
BEGIN:VEVENT
DTSTAMP:20260425T194847
DTSTART;TZID=Europe/Berlin:20260507T091500
DTEND;TZID=Europe/Berlin:20260507T123000
UID:26Z426029-20260507T091500@KÖLNER VHS
SUMMARY:Modul 2 – Integrationskurs für gering Literalisierte Basiskurs Abschnitt 2 – Nr. 841 (26Z426029) 
LOCATION:VHS Studienhaus, Raum 406, Cäcilienstr. 35, 50667 Köln
END:VEVENT
BEGIN:VEVENT
DTSTAMP:20260425T194847
DTSTART;TZID=Europe/Berlin:20260511T091500
DTEND;TZID=Europe/Berlin:20260511T123000
UID:26Z426029-20260511T091500@KÖLNER VHS
SUMMARY:Modul 2 – Integrationskurs für gering Literalisierte Basiskurs Abschnitt 2 – Nr. 841 (26Z426029) 
LOCATION:VHS Studienhaus, Raum 406, Cäcilienstr. 35, 50667 Köln
END:VEVENT
BEGIN:VEVENT
DTSTAMP:20260425T194847
DTSTART;TZID=Europe/Berlin:20260512T091500
DTEND;TZID=Europe/Berlin:20260512T123000
UID:26Z426029-20260512T091500@KÖLNER VHS
SUMMARY:Modul 2 – Integrationskurs für gering Literalisierte Basiskurs Abschnitt 2 – Nr. 841 (26Z426029) 
LOCATION:VHS Studienhaus, Raum 406, Cäcilienstr. 35, 50667 Köln
END:VEVENT
BEGIN:VEVENT
DTSTAMP:20260425T194847
DTSTART;TZID=Europe/Berlin:20260513T091500
DTEND;TZID=Europe/Berlin:20260513T123000
UID:26Z426029-20260513T091500@KÖLNER VHS
SUMMARY:Modul 2 – Integrationskurs für gering Literalisierte Basiskurs Abschnitt 2 – Nr. 841 (26Z426029) 
LOCATION:VHS Studienhaus, Raum 406, Cäcilienstr. 35, 50667 Köln
END:VEVENT
BEGIN:VEVENT
DTSTAMP:20260425T194847
DTSTART;TZID=Europe/Berlin:20260518T091500
DTEND;TZID=Europe/Berlin:20260518T123000
UID:26Z426029-20260518T091500@KÖLNER VHS
SUMMARY:Modul 2 – Integrationskurs für gering Literalisierte Basiskurs Abschnitt 2 – Nr. 841 (26Z426029) 
LOCATION:VHS Studienhaus, Raum 406, Cäcilienstr. 35, 50667 Köln
END:VEVENT
BEGIN:VEVENT
DTSTAMP:20260425T194847
DTSTART;TZID=Europe/Berlin:20260519T091500
DTEND;TZID=Europe/Berlin:20260519T123000
UID:26Z426029-20260519T091500@KÖLNER VHS
SUMMARY:Modul 2 – Integrationskurs für gering Literalisierte Basiskurs Abschnitt 2 – Nr. 841 (26Z426029) 
LOCATION:VHS Studienhaus, Raum 406, Cäcilienstr. 35, 50667 Köln
END:VEVENT
BEGIN:VEVENT
DTSTAMP:20260425T194847
DTSTART;TZID=Europe/Berlin:20260520T091500
DTEND;TZID=Europe/Berlin:20260520T123000
UID:26Z426029-20260520T091500@KÖLNER VHS
SUMMARY:Modul 2 – Integrationskurs für gering Literalisierte Basiskurs Abschnitt 2 – Nr. 841 (26Z426029) 
LOCATION:VHS Studienhaus, Raum 406, Cäcilienstr. 35, 50667 Köln
END:VEVENT
BEGIN:VEVENT
DTSTAMP:20260425T194847
DTSTART;TZID=Europe/Berlin:20260521T091500
DTEND;TZID=Europe/Berlin:20260521T123000
UID:26Z426029-20260521T091500@KÖLNER VHS
SUMMARY:Modul 2 – Integrationskurs für gering Literalisierte Basiskurs Abschnitt 2 – Nr. 841 (26Z426029) 
LOCATION:VHS Studienhaus, Raum 406, Cäcilienstr. 35, 50667 Köln
END:VEVENT
BEGIN:VEVENT
DTSTAMP:20260425T194847
DTSTART;TZID=Europe/Berlin:20260527T091500
DTEND;TZID=Europe/Berlin:20260527T123000
UID:26Z426029-20260527T091500@KÖLNER VHS
SUMMARY:Modul 2 – Integrationskurs für gering Literalisierte Basiskurs Abschnitt 2 – Nr. 841 (26Z426029) 
LOCATION:VHS Studienhaus, Raum 406, Cäcilienstr. 35, 50667 Köln
END:VEVENT
BEGIN:VEVENT
DTSTAMP:20260425T194847
DTSTART;TZID=Europe/Berlin:20260528T091500
DTEND;TZID=Europe/Berlin:20260528T123000
UID:26Z426029-20260528T091500@KÖLNER VHS
SUMMARY:Modul 2 – Integrationskurs für gering Literalisierte Basiskurs Abschnitt 2 – Nr. 841 (26Z426029) 
LOCATION:VHS Studienhaus, Raum 406, Cäcilienstr. 35, 50667 Köln
END:VEVENT
BEGIN:VEVENT
DTSTAMP:20260425T194847
DTSTART;TZID=Europe/Berlin:20260601T091500
DTEND;TZID=Europe/Berlin:20260601T123000
UID:26Z426029-20260601T091500@KÖLNER VHS
SUMMARY:Modul 2 – Integrationskurs für gering Literalisierte Basiskurs Abschnitt 2 – Nr. 841 (26Z426029) 
LOCATION:VHS Studienhaus, Raum 406, Cäcilienstr. 35, 50667 Köln
END:VEVENT
BEGIN:VEVENT
DTSTAMP:20260425T194847
DTSTART;TZID=Europe/Berlin:20260602T091500
DTEND;TZID=Europe/Berlin:20260602T123000
UID:26Z426029-20260602T091500@KÖLNER VHS
SUMMARY:Modul 2 – Integrationskurs für gering Literalisierte Basiskurs Abschnitt 2 – Nr. 841 (26Z426029) 
LOCATION:VHS Studienhaus, Raum 406, Cäcilienstr. 35, 50667 Köln
END:VEVENT
BEGIN:VEVENT
DTSTAMP:20260425T194847
DTSTART;TZID=Europe/Berlin:20260603T091500
DTEND;TZID=Europe/Berlin:20260603T123000
UID:26Z426029-20260603T091500@KÖLNER VHS
SUMMARY:Modul 2 – Integrationskurs für gering Literalisierte Basiskurs Abschnitt 2 – Nr. 841 (26Z426029) 
LOCATION:VHS Studienhaus, Raum 406, Cäcilienstr. 35, 50667 Köln
END:VEVENT
BEGIN:VEVENT
DTSTAMP:20260425T194847
DTSTART;TZID=Europe/Berlin:20260608T091500
DTEND;TZID=Europe/Berlin:20260608T123000
UID:26Z426029-20260608T091500@KÖLNER VHS
SUMMARY:Modul 2 – Integrationskurs für gering Literalisierte Basiskurs Abschnitt 2 – Nr. 841 (26Z426029) 
LOCATION:VHS Studienhaus, Raum 406, Cäcilienstr. 35, 50667 Köln
END:VEVENT
BEGIN:VEVENT
DTSTAMP:20260425T194847
DTSTART;TZID=Europe/Berlin:20260609T091500
DTEND;TZID=Europe/Berlin:20260609T123000
UID:26Z426029-20260609T091500@KÖLNER VHS
SUMMARY:Modul 2 – Integrationskurs für gering Literalisierte Basiskurs Abschnitt 2 – Nr. 841 (26Z426029) 
LOCATION:VHS Studienhaus, Raum 406, Cäcilienstr. 35, 50667 Köln
END:VEVENT
END:VCALENDAR