BEGIN:VCALENDAR
VERSION:2.0
PRODID:https://www.kufer.de/kuferweb / DE
METHOD:PUBLISH
CALSCALE:GREGORIAN
X-WR-TIMEZONE:Europe/Berlin
BEGIN:VTIMEZONE
TZID:Europe/Berlin
X-LIC-LOCATION:Europe/Berlin
BEGIN:DAYLIGHT
TZOFFSETFROM:+0100
TZOFFSETTO:+0200
TZNAME:CEST
DTSTART:19700329T020000
RRULE:FREQ=YEARLY;INTERVAL=1;BYDAY=-1SU;BYMONTH=3
END:DAYLIGHT
BEGIN:STANDARD
TZOFFSETFROM:+0200
TZOFFSETTO:+0100
TZNAME:CET
DTSTART:19701025T030000
RRULE:FREQ=YEARLY;INTERVAL=1;BYDAY=-1SU;BYMONTH=10
END:STANDARD
END:VTIMEZONE
BEGIN:VEVENT
DTSTAMP:20260419T200947
DTSTART;TZID=Europe/Berlin:20260706T183000
DTEND;TZID=Europe/Berlin:20260706T213000
UID:26Z425322-20260706T183000@KÖLNER VHS
SUMMARY:Deutsch Schnellkurs B1.2 (26Z425322) 
LOCATION:VHS Studienhaus, Raum 404, Cäcilienstr. 35, 50667 Köln
END:VEVENT
BEGIN:VEVENT
DTSTAMP:20260419T200947
DTSTART;TZID=Europe/Berlin:20260708T183000
DTEND;TZID=Europe/Berlin:20260708T213000
UID:26Z425322-20260708T183000@KÖLNER VHS
SUMMARY:Deutsch Schnellkurs B1.2 (26Z425322) 
LOCATION:VHS Studienhaus, Raum 404, Cäcilienstr. 35, 50667 Köln
END:VEVENT
BEGIN:VEVENT
DTSTAMP:20260419T200947
DTSTART;TZID=Europe/Berlin:20260713T183000
DTEND;TZID=Europe/Berlin:20260713T213000
UID:26Z425322-20260713T183000@KÖLNER VHS
SUMMARY:Deutsch Schnellkurs B1.2 (26Z425322) 
LOCATION:VHS Studienhaus, Raum 404, Cäcilienstr. 35, 50667 Köln
END:VEVENT
BEGIN:VEVENT
DTSTAMP:20260419T200947
DTSTART;TZID=Europe/Berlin:20260715T183000
DTEND;TZID=Europe/Berlin:20260715T213000
UID:26Z425322-20260715T183000@KÖLNER VHS
SUMMARY:Deutsch Schnellkurs B1.2 (26Z425322) 
LOCATION:VHS Studienhaus, Raum 404, Cäcilienstr. 35, 50667 Köln
END:VEVENT
BEGIN:VEVENT
DTSTAMP:20260419T200947
DTSTART;TZID=Europe/Berlin:20260720T183000
DTEND;TZID=Europe/Berlin:20260720T213000
UID:26Z425322-20260720T183000@KÖLNER VHS
SUMMARY:Deutsch Schnellkurs B1.2 (26Z425322) 
LOCATION:VHS Studienhaus, Raum 404, Cäcilienstr. 35, 50667 Köln
END:VEVENT
BEGIN:VEVENT
DTSTAMP:20260419T200947
DTSTART;TZID=Europe/Berlin:20260722T183000
DTEND;TZID=Europe/Berlin:20260722T213000
UID:26Z425322-20260722T183000@KÖLNER VHS
SUMMARY:Deutsch Schnellkurs B1.2 (26Z425322) 
LOCATION:VHS Studienhaus, Raum 404, Cäcilienstr. 35, 50667 Köln
END:VEVENT
BEGIN:VEVENT
DTSTAMP:20260419T200947
DTSTART;TZID=Europe/Berlin:20260727T183000
DTEND;TZID=Europe/Berlin:20260727T213000
UID:26Z425322-20260727T183000@KÖLNER VHS
SUMMARY:Deutsch Schnellkurs B1.2 (26Z425322) 
LOCATION:VHS Studienhaus, Raum 404, Cäcilienstr. 35, 50667 Köln
END:VEVENT
BEGIN:VEVENT
DTSTAMP:20260419T200947
DTSTART;TZID=Europe/Berlin:20260729T183000
DTEND;TZID=Europe/Berlin:20260729T213000
UID:26Z425322-20260729T183000@KÖLNER VHS
SUMMARY:Deutsch Schnellkurs B1.2 (26Z425322) 
LOCATION:VHS Studienhaus, Raum 404, Cäcilienstr. 35, 50667 Köln
END:VEVENT
BEGIN:VEVENT
DTSTAMP:20260419T200947
DTSTART;TZID=Europe/Berlin:20260803T183000
DTEND;TZID=Europe/Berlin:20260803T213000
UID:26Z425322-20260803T183000@KÖLNER VHS
SUMMARY:Deutsch Schnellkurs B1.2 (26Z425322) 
LOCATION:VHS Studienhaus, Raum 404, Cäcilienstr. 35, 50667 Köln
END:VEVENT
BEGIN:VEVENT
DTSTAMP:20260419T200947
DTSTART;TZID=Europe/Berlin:20260805T183000
DTEND;TZID=Europe/Berlin:20260805T213000
UID:26Z425322-20260805T183000@KÖLNER VHS
SUMMARY:Deutsch Schnellkurs B1.2 (26Z425322) 
LOCATION:VHS Studienhaus, Raum 404, Cäcilienstr. 35, 50667 Köln
END:VEVENT
BEGIN:VEVENT
DTSTAMP:20260419T200947
DTSTART;TZID=Europe/Berlin:20260810T183000
DTEND;TZID=Europe/Berlin:20260810T213000
UID:26Z425322-20260810T183000@KÖLNER VHS
SUMMARY:Deutsch Schnellkurs B1.2 (26Z425322) 
LOCATION:VHS Studienhaus, Raum 404, Cäcilienstr. 35, 50667 Köln
END:VEVENT
BEGIN:VEVENT
DTSTAMP:20260419T200947
DTSTART;TZID=Europe/Berlin:20260812T183000
DTEND;TZID=Europe/Berlin:20260812T213000
UID:26Z425322-20260812T183000@KÖLNER VHS
SUMMARY:Deutsch Schnellkurs B1.2 (26Z425322) 
LOCATION:VHS Studienhaus, Raum 404, Cäcilienstr. 35, 50667 Köln
END:VEVENT
BEGIN:VEVENT
DTSTAMP:20260419T200947
DTSTART;TZID=Europe/Berlin:20260817T183000
DTEND;TZID=Europe/Berlin:20260817T213000
UID:26Z425322-20260817T183000@KÖLNER VHS
SUMMARY:Deutsch Schnellkurs B1.2 (26Z425322) 
LOCATION:VHS Studienhaus, Raum 404, Cäcilienstr. 35, 50667 Köln
END:VEVENT
BEGIN:VEVENT
DTSTAMP:20260419T200947
DTSTART;TZID=Europe/Berlin:20260819T183000
DTEND;TZID=Europe/Berlin:20260819T213000
UID:26Z425322-20260819T183000@KÖLNER VHS
SUMMARY:Deutsch Schnellkurs B1.2 (26Z425322) 
LOCATION:VHS Studienhaus, Raum 404, Cäcilienstr. 35, 50667 Köln
END:VEVENT
BEGIN:VEVENT
DTSTAMP:20260419T200947
DTSTART;TZID=Europe/Berlin:20260824T183000
DTEND;TZID=Europe/Berlin:20260824T213000
UID:26Z425322-20260824T183000@KÖLNER VHS
SUMMARY:Deutsch Schnellkurs B1.2 (26Z425322) 
LOCATION:VHS Studienhaus, Raum 404, Cäcilienstr. 35, 50667 Köln
END:VEVENT
BEGIN:VEVENT
DTSTAMP:20260419T200947
DTSTART;TZID=Europe/Berlin:20260826T183000
DTEND;TZID=Europe/Berlin:20260826T213000
UID:26Z425322-20260826T183000@KÖLNER VHS
SUMMARY:Deutsch Schnellkurs B1.2 (26Z425322) 
LOCATION:VHS Studienhaus, Raum 404, Cäcilienstr. 35, 50667 Köln
END:VEVENT
BEGIN:VEVENT
DTSTAMP:20260419T200947
DTSTART;TZID=Europe/Berlin:20260831T183000
DTEND;TZID=Europe/Berlin:20260831T213000
UID:26Z425322-20260831T183000@KÖLNER VHS
SUMMARY:Deutsch Schnellkurs B1.2 (26Z425322) 
LOCATION:VHS Studienhaus, Raum 404, Cäcilienstr. 35, 50667 Köln
END:VEVENT
BEGIN:VEVENT
DTSTAMP:20260419T200947
DTSTART;TZID=Europe/Berlin:20260902T183000
DTEND;TZID=Europe/Berlin:20260902T213000
UID:26Z425322-20260902T183000@KÖLNER VHS
SUMMARY:Deutsch Schnellkurs B1.2 (26Z425322) 
LOCATION:VHS Studienhaus, Raum 404, Cäcilienstr. 35, 50667 Köln
END:VEVENT
BEGIN:VEVENT
DTSTAMP:20260419T200947
DTSTART;TZID=Europe/Berlin:20260907T183000
DTEND;TZID=Europe/Berlin:20260907T213000
UID:26Z425322-20260907T183000@KÖLNER VHS
SUMMARY:Deutsch Schnellkurs B1.2 (26Z425322) 
LOCATION:VHS Studienhaus, Raum 404, Cäcilienstr. 35, 50667 Köln
END:VEVENT
END:VCALENDAR