BEGIN:VCALENDAR
VERSION:2.0
PRODID:https://www.kufer.de/kuferweb / DE
METHOD:PUBLISH
CALSCALE:GREGORIAN
X-WR-TIMEZONE:Europe/Berlin
BEGIN:VTIMEZONE
TZID:Europe/Berlin
X-LIC-LOCATION:Europe/Berlin
BEGIN:DAYLIGHT
TZOFFSETFROM:+0100
TZOFFSETTO:+0200
TZNAME:CEST
DTSTART:19700329T020000
RRULE:FREQ=YEARLY;INTERVAL=1;BYDAY=-1SU;BYMONTH=3
END:DAYLIGHT
BEGIN:STANDARD
TZOFFSETFROM:+0200
TZOFFSETTO:+0100
TZNAME:CET
DTSTART:19701025T030000
RRULE:FREQ=YEARLY;INTERVAL=1;BYDAY=-1SU;BYMONTH=10
END:STANDARD
END:VTIMEZONE
BEGIN:VEVENT
DTSTAMP:20260419T202649
DTSTART;TZID=Europe/Berlin:20260706T130000
DTEND;TZID=Europe/Berlin:20260706T171500
UID:26Z424511-20260706T130000@KÖLNER VHS
SUMMARY:Deutsch Sommer-Intensivkurs B2.2 (26Z424511) 
LOCATION:VHS Studienhaus, Raum 115, Cäcilienstr. 35, 50667 Köln
END:VEVENT
BEGIN:VEVENT
DTSTAMP:20260419T202649
DTSTART;TZID=Europe/Berlin:20260707T130000
DTEND;TZID=Europe/Berlin:20260707T171500
UID:26Z424511-20260707T130000@KÖLNER VHS
SUMMARY:Deutsch Sommer-Intensivkurs B2.2 (26Z424511) 
LOCATION:VHS Studienhaus, Raum 115, Cäcilienstr. 35, 50667 Köln
END:VEVENT
BEGIN:VEVENT
DTSTAMP:20260419T202649
DTSTART;TZID=Europe/Berlin:20260708T130000
DTEND;TZID=Europe/Berlin:20260708T171500
UID:26Z424511-20260708T130000@KÖLNER VHS
SUMMARY:Deutsch Sommer-Intensivkurs B2.2 (26Z424511) 
LOCATION:VHS Studienhaus, Raum 115, Cäcilienstr. 35, 50667 Köln
END:VEVENT
BEGIN:VEVENT
DTSTAMP:20260419T202649
DTSTART;TZID=Europe/Berlin:20260709T130000
DTEND;TZID=Europe/Berlin:20260709T171500
UID:26Z424511-20260709T130000@KÖLNER VHS
SUMMARY:Deutsch Sommer-Intensivkurs B2.2 (26Z424511) 
LOCATION:VHS Studienhaus, Raum 115, Cäcilienstr. 35, 50667 Köln
END:VEVENT
BEGIN:VEVENT
DTSTAMP:20260419T202649
DTSTART;TZID=Europe/Berlin:20260713T130000
DTEND;TZID=Europe/Berlin:20260713T171500
UID:26Z424511-20260713T130000@KÖLNER VHS
SUMMARY:Deutsch Sommer-Intensivkurs B2.2 (26Z424511) 
LOCATION:VHS Studienhaus, Raum 115, Cäcilienstr. 35, 50667 Köln
END:VEVENT
BEGIN:VEVENT
DTSTAMP:20260419T202649
DTSTART;TZID=Europe/Berlin:20260714T130000
DTEND;TZID=Europe/Berlin:20260714T171500
UID:26Z424511-20260714T130000@KÖLNER VHS
SUMMARY:Deutsch Sommer-Intensivkurs B2.2 (26Z424511) 
LOCATION:VHS Studienhaus, Raum 115, Cäcilienstr. 35, 50667 Köln
END:VEVENT
BEGIN:VEVENT
DTSTAMP:20260419T202649
DTSTART;TZID=Europe/Berlin:20260715T130000
DTEND;TZID=Europe/Berlin:20260715T171500
UID:26Z424511-20260715T130000@KÖLNER VHS
SUMMARY:Deutsch Sommer-Intensivkurs B2.2 (26Z424511) 
LOCATION:VHS Studienhaus, Raum 115, Cäcilienstr. 35, 50667 Köln
END:VEVENT
BEGIN:VEVENT
DTSTAMP:20260419T202649
DTSTART;TZID=Europe/Berlin:20260716T130000
DTEND;TZID=Europe/Berlin:20260716T171500
UID:26Z424511-20260716T130000@KÖLNER VHS
SUMMARY:Deutsch Sommer-Intensivkurs B2.2 (26Z424511) 
LOCATION:VHS Studienhaus, Raum 115, Cäcilienstr. 35, 50667 Köln
END:VEVENT
BEGIN:VEVENT
DTSTAMP:20260419T202649
DTSTART;TZID=Europe/Berlin:20260720T130000
DTEND;TZID=Europe/Berlin:20260720T171500
UID:26Z424511-20260720T130000@KÖLNER VHS
SUMMARY:Deutsch Sommer-Intensivkurs B2.2 (26Z424511) 
LOCATION:VHS Studienhaus, Raum 115, Cäcilienstr. 35, 50667 Köln
END:VEVENT
BEGIN:VEVENT
DTSTAMP:20260419T202649
DTSTART;TZID=Europe/Berlin:20260721T130000
DTEND;TZID=Europe/Berlin:20260721T171500
UID:26Z424511-20260721T130000@KÖLNER VHS
SUMMARY:Deutsch Sommer-Intensivkurs B2.2 (26Z424511) 
LOCATION:VHS Studienhaus, Raum 115, Cäcilienstr. 35, 50667 Köln
END:VEVENT
BEGIN:VEVENT
DTSTAMP:20260419T202649
DTSTART;TZID=Europe/Berlin:20260722T130000
DTEND;TZID=Europe/Berlin:20260722T171500
UID:26Z424511-20260722T130000@KÖLNER VHS
SUMMARY:Deutsch Sommer-Intensivkurs B2.2 (26Z424511) 
LOCATION:VHS Studienhaus, Raum 115, Cäcilienstr. 35, 50667 Köln
END:VEVENT
BEGIN:VEVENT
DTSTAMP:20260419T202649
DTSTART;TZID=Europe/Berlin:20260723T130000
DTEND;TZID=Europe/Berlin:20260723T171500
UID:26Z424511-20260723T130000@KÖLNER VHS
SUMMARY:Deutsch Sommer-Intensivkurs B2.2 (26Z424511) 
LOCATION:VHS Studienhaus, Raum 115, Cäcilienstr. 35, 50667 Köln
END:VEVENT
BEGIN:VEVENT
DTSTAMP:20260419T202649
DTSTART;TZID=Europe/Berlin:20260727T130000
DTEND;TZID=Europe/Berlin:20260727T171500
UID:26Z424511-20260727T130000@KÖLNER VHS
SUMMARY:Deutsch Sommer-Intensivkurs B2.2 (26Z424511) 
LOCATION:VHS Studienhaus, Raum 115, Cäcilienstr. 35, 50667 Köln
END:VEVENT
BEGIN:VEVENT
DTSTAMP:20260419T202649
DTSTART;TZID=Europe/Berlin:20260728T130000
DTEND;TZID=Europe/Berlin:20260728T171500
UID:26Z424511-20260728T130000@KÖLNER VHS
SUMMARY:Deutsch Sommer-Intensivkurs B2.2 (26Z424511) 
LOCATION:VHS Studienhaus, Raum 115, Cäcilienstr. 35, 50667 Köln
END:VEVENT
BEGIN:VEVENT
DTSTAMP:20260419T202649
DTSTART;TZID=Europe/Berlin:20260729T130000
DTEND;TZID=Europe/Berlin:20260729T171500
UID:26Z424511-20260729T130000@KÖLNER VHS
SUMMARY:Deutsch Sommer-Intensivkurs B2.2 (26Z424511) 
LOCATION:VHS Studienhaus, Raum 115, Cäcilienstr. 35, 50667 Köln
END:VEVENT
BEGIN:VEVENT
DTSTAMP:20260419T202649
DTSTART;TZID=Europe/Berlin:20260730T130000
DTEND;TZID=Europe/Berlin:20260730T171500
UID:26Z424511-20260730T130000@KÖLNER VHS
SUMMARY:Deutsch Sommer-Intensivkurs B2.2 (26Z424511) 
LOCATION:VHS Studienhaus, Raum 115, Cäcilienstr. 35, 50667 Köln
END:VEVENT
BEGIN:VEVENT
DTSTAMP:20260419T202649
DTSTART;TZID=Europe/Berlin:20260803T130000
DTEND;TZID=Europe/Berlin:20260803T171500
UID:26Z424511-20260803T130000@KÖLNER VHS
SUMMARY:Deutsch Sommer-Intensivkurs B2.2 (26Z424511) 
LOCATION:VHS Studienhaus, Raum 115, Cäcilienstr. 35, 50667 Köln
END:VEVENT
BEGIN:VEVENT
DTSTAMP:20260419T202649
DTSTART;TZID=Europe/Berlin:20260804T130000
DTEND;TZID=Europe/Berlin:20260804T171500
UID:26Z424511-20260804T130000@KÖLNER VHS
SUMMARY:Deutsch Sommer-Intensivkurs B2.2 (26Z424511) 
LOCATION:VHS Studienhaus, Raum 115, Cäcilienstr. 35, 50667 Köln
END:VEVENT
BEGIN:VEVENT
DTSTAMP:20260419T202649
DTSTART;TZID=Europe/Berlin:20260805T130000
DTEND;TZID=Europe/Berlin:20260805T171500
UID:26Z424511-20260805T130000@KÖLNER VHS
SUMMARY:Deutsch Sommer-Intensivkurs B2.2 (26Z424511) 
LOCATION:VHS Studienhaus, Raum 115, Cäcilienstr. 35, 50667 Köln
END:VEVENT
BEGIN:VEVENT
DTSTAMP:20260419T202649
DTSTART;TZID=Europe/Berlin:20260806T130000
DTEND;TZID=Europe/Berlin:20260806T171500
UID:26Z424511-20260806T130000@KÖLNER VHS
SUMMARY:Deutsch Sommer-Intensivkurs B2.2 (26Z424511) 
LOCATION:VHS Studienhaus, Raum 115, Cäcilienstr. 35, 50667 Köln
END:VEVENT
BEGIN:VEVENT
DTSTAMP:20260419T202649
DTSTART;TZID=Europe/Berlin:20260810T130000
DTEND;TZID=Europe/Berlin:20260810T171500
UID:26Z424511-20260810T130000@KÖLNER VHS
SUMMARY:Deutsch Sommer-Intensivkurs B2.2 (26Z424511) 
LOCATION:VHS Studienhaus, Raum 115, Cäcilienstr. 35, 50667 Köln
END:VEVENT
BEGIN:VEVENT
DTSTAMP:20260419T202649
DTSTART;TZID=Europe/Berlin:20260811T130000
DTEND;TZID=Europe/Berlin:20260811T171500
UID:26Z424511-20260811T130000@KÖLNER VHS
SUMMARY:Deutsch Sommer-Intensivkurs B2.2 (26Z424511) 
LOCATION:VHS Studienhaus, Raum 115, Cäcilienstr. 35, 50667 Köln
END:VEVENT
BEGIN:VEVENT
DTSTAMP:20260419T202649
DTSTART;TZID=Europe/Berlin:20260812T130000
DTEND;TZID=Europe/Berlin:20260812T171500
UID:26Z424511-20260812T130000@KÖLNER VHS
SUMMARY:Deutsch Sommer-Intensivkurs B2.2 (26Z424511) 
LOCATION:VHS Studienhaus, Raum 115, Cäcilienstr. 35, 50667 Köln
END:VEVENT
BEGIN:VEVENT
DTSTAMP:20260419T202649
DTSTART;TZID=Europe/Berlin:20260813T130000
DTEND;TZID=Europe/Berlin:20260813T171500
UID:26Z424511-20260813T130000@KÖLNER VHS
SUMMARY:Deutsch Sommer-Intensivkurs B2.2 (26Z424511) 
LOCATION:VHS Studienhaus, Raum 115, Cäcilienstr. 35, 50667 Köln
END:VEVENT
BEGIN:VEVENT
DTSTAMP:20260419T202649
DTSTART;TZID=Europe/Berlin:20260817T130000
DTEND;TZID=Europe/Berlin:20260817T171500
UID:26Z424511-20260817T130000@KÖLNER VHS
SUMMARY:Deutsch Sommer-Intensivkurs B2.2 (26Z424511) 
LOCATION:VHS Studienhaus, Raum 115, Cäcilienstr. 35, 50667 Köln
END:VEVENT
BEGIN:VEVENT
DTSTAMP:20260419T202649
DTSTART;TZID=Europe/Berlin:20260818T130000
DTEND;TZID=Europe/Berlin:20260818T171500
UID:26Z424511-20260818T130000@KÖLNER VHS
SUMMARY:Deutsch Sommer-Intensivkurs B2.2 (26Z424511) 
LOCATION:VHS Studienhaus, Raum 115, Cäcilienstr. 35, 50667 Köln
END:VEVENT
BEGIN:VEVENT
DTSTAMP:20260419T202649
DTSTART;TZID=Europe/Berlin:20260819T130000
DTEND;TZID=Europe/Berlin:20260819T171500
UID:26Z424511-20260819T130000@KÖLNER VHS
SUMMARY:Deutsch Sommer-Intensivkurs B2.2 (26Z424511) 
LOCATION:VHS Studienhaus, Raum 115, Cäcilienstr. 35, 50667 Köln
END:VEVENT
BEGIN:VEVENT
DTSTAMP:20260419T202649
DTSTART;TZID=Europe/Berlin:20260820T130000
DTEND;TZID=Europe/Berlin:20260820T171500
UID:26Z424511-20260820T130000@KÖLNER VHS
SUMMARY:Deutsch Sommer-Intensivkurs B2.2 (26Z424511) 
LOCATION:VHS Studienhaus, Raum 115, Cäcilienstr. 35, 50667 Köln
END:VEVENT
BEGIN:VEVENT
DTSTAMP:20260419T202649
DTSTART;TZID=Europe/Berlin:20260824T130000
DTEND;TZID=Europe/Berlin:20260824T171500
UID:26Z424511-20260824T130000@KÖLNER VHS
SUMMARY:Deutsch Sommer-Intensivkurs B2.2 (26Z424511) 
LOCATION:VHS Studienhaus, Raum 115, Cäcilienstr. 35, 50667 Köln
END:VEVENT
BEGIN:VEVENT
DTSTAMP:20260419T202649
DTSTART;TZID=Europe/Berlin:20260825T130000
DTEND;TZID=Europe/Berlin:20260825T171500
UID:26Z424511-20260825T130000@KÖLNER VHS
SUMMARY:Deutsch Sommer-Intensivkurs B2.2 (26Z424511) 
LOCATION:VHS Studienhaus, Raum 115, Cäcilienstr. 35, 50667 Köln
END:VEVENT
BEGIN:VEVENT
DTSTAMP:20260419T202649
DTSTART;TZID=Europe/Berlin:20260826T130000
DTEND;TZID=Europe/Berlin:20260826T171500
UID:26Z424511-20260826T130000@KÖLNER VHS
SUMMARY:Deutsch Sommer-Intensivkurs B2.2 (26Z424511) 
LOCATION:VHS Studienhaus, Raum 115, Cäcilienstr. 35, 50667 Köln
END:VEVENT
BEGIN:VEVENT
DTSTAMP:20260419T202649
DTSTART;TZID=Europe/Berlin:20260827T130000
DTEND;TZID=Europe/Berlin:20260827T171500
UID:26Z424511-20260827T130000@KÖLNER VHS
SUMMARY:Deutsch Sommer-Intensivkurs B2.2 (26Z424511) 
LOCATION:VHS Studienhaus, Raum 115, Cäcilienstr. 35, 50667 Köln
END:VEVENT
BEGIN:VEVENT
DTSTAMP:20260419T202649
DTSTART;TZID=Europe/Berlin:20260831T130000
DTEND;TZID=Europe/Berlin:20260831T171500
UID:26Z424511-20260831T130000@KÖLNER VHS
SUMMARY:Deutsch Sommer-Intensivkurs B2.2 (26Z424511) 
LOCATION:VHS Studienhaus, Raum 115, Cäcilienstr. 35, 50667 Köln
END:VEVENT
BEGIN:VEVENT
DTSTAMP:20260419T202649
DTSTART;TZID=Europe/Berlin:20260901T130000
DTEND;TZID=Europe/Berlin:20260901T171500
UID:26Z424511-20260901T130000@KÖLNER VHS
SUMMARY:Deutsch Sommer-Intensivkurs B2.2 (26Z424511) 
LOCATION:VHS Studienhaus, Raum 115, Cäcilienstr. 35, 50667 Köln
END:VEVENT
BEGIN:VEVENT
DTSTAMP:20260419T202649
DTSTART;TZID=Europe/Berlin:20260902T130000
DTEND;TZID=Europe/Berlin:20260902T171500
UID:26Z424511-20260902T130000@KÖLNER VHS
SUMMARY:Deutsch Sommer-Intensivkurs B2.2 (26Z424511) 
LOCATION:VHS Studienhaus, Raum 115, Cäcilienstr. 35, 50667 Köln
END:VEVENT
BEGIN:VEVENT
DTSTAMP:20260419T202649
DTSTART;TZID=Europe/Berlin:20260903T130000
DTEND;TZID=Europe/Berlin:20260903T171500
UID:26Z424511-20260903T130000@KÖLNER VHS
SUMMARY:Deutsch Sommer-Intensivkurs B2.2 (26Z424511) 
LOCATION:VHS Studienhaus, Raum 115, Cäcilienstr. 35, 50667 Köln
END:VEVENT
END:VCALENDAR