BEGIN:VCALENDAR
VERSION:2.0
PRODID:https://www.kufer.de/kuferweb / DE
METHOD:PUBLISH
CALSCALE:GREGORIAN
X-WR-TIMEZONE:Europe/Berlin
BEGIN:VTIMEZONE
TZID:Europe/Berlin
X-LIC-LOCATION:Europe/Berlin
BEGIN:DAYLIGHT
TZOFFSETFROM:+0100
TZOFFSETTO:+0200
TZNAME:CEST
DTSTART:19700329T020000
RRULE:FREQ=YEARLY;INTERVAL=1;BYDAY=-1SU;BYMONTH=3
END:DAYLIGHT
BEGIN:STANDARD
TZOFFSETFROM:+0200
TZOFFSETTO:+0100
TZNAME:CET
DTSTART:19701025T030000
RRULE:FREQ=YEARLY;INTERVAL=1;BYDAY=-1SU;BYMONTH=10
END:STANDARD
END:VTIMEZONE
BEGIN:VEVENT
DTSTAMP:20260423T123131
DTSTART;TZID=Europe/Berlin:20260706T140000
DTEND;TZID=Europe/Berlin:20260706T181500
UID:26Z424412-20260706T140000@KÖLNER VHS
SUMMARY:Deutsch Sommer-Intensivkurs B2.1 (26Z424412) 
LOCATION:VHS Studienhaus, Raum 109, Cäcilienstr. 35, 50667 Köln
END:VEVENT
BEGIN:VEVENT
DTSTAMP:20260423T123131
DTSTART;TZID=Europe/Berlin:20260707T140000
DTEND;TZID=Europe/Berlin:20260707T181500
UID:26Z424412-20260707T140000@KÖLNER VHS
SUMMARY:Deutsch Sommer-Intensivkurs B2.1 (26Z424412) 
LOCATION:VHS Studienhaus, Raum 109, Cäcilienstr. 35, 50667 Köln
END:VEVENT
BEGIN:VEVENT
DTSTAMP:20260423T123131
DTSTART;TZID=Europe/Berlin:20260708T140000
DTEND;TZID=Europe/Berlin:20260708T181500
UID:26Z424412-20260708T140000@KÖLNER VHS
SUMMARY:Deutsch Sommer-Intensivkurs B2.1 (26Z424412) 
LOCATION:VHS Studienhaus, Raum 109, Cäcilienstr. 35, 50667 Köln
END:VEVENT
BEGIN:VEVENT
DTSTAMP:20260423T123131
DTSTART;TZID=Europe/Berlin:20260709T140000
DTEND;TZID=Europe/Berlin:20260709T181500
UID:26Z424412-20260709T140000@KÖLNER VHS
SUMMARY:Deutsch Sommer-Intensivkurs B2.1 (26Z424412) 
LOCATION:VHS Studienhaus, Raum 109, Cäcilienstr. 35, 50667 Köln
END:VEVENT
BEGIN:VEVENT
DTSTAMP:20260423T123131
DTSTART;TZID=Europe/Berlin:20260713T140000
DTEND;TZID=Europe/Berlin:20260713T181500
UID:26Z424412-20260713T140000@KÖLNER VHS
SUMMARY:Deutsch Sommer-Intensivkurs B2.1 (26Z424412) 
LOCATION:VHS Studienhaus, Raum 109, Cäcilienstr. 35, 50667 Köln
END:VEVENT
BEGIN:VEVENT
DTSTAMP:20260423T123131
DTSTART;TZID=Europe/Berlin:20260714T140000
DTEND;TZID=Europe/Berlin:20260714T181500
UID:26Z424412-20260714T140000@KÖLNER VHS
SUMMARY:Deutsch Sommer-Intensivkurs B2.1 (26Z424412) 
LOCATION:VHS Studienhaus, Raum 109, Cäcilienstr. 35, 50667 Köln
END:VEVENT
BEGIN:VEVENT
DTSTAMP:20260423T123131
DTSTART;TZID=Europe/Berlin:20260715T140000
DTEND;TZID=Europe/Berlin:20260715T181500
UID:26Z424412-20260715T140000@KÖLNER VHS
SUMMARY:Deutsch Sommer-Intensivkurs B2.1 (26Z424412) 
LOCATION:VHS Studienhaus, Raum 109, Cäcilienstr. 35, 50667 Köln
END:VEVENT
BEGIN:VEVENT
DTSTAMP:20260423T123131
DTSTART;TZID=Europe/Berlin:20260716T140000
DTEND;TZID=Europe/Berlin:20260716T181500
UID:26Z424412-20260716T140000@KÖLNER VHS
SUMMARY:Deutsch Sommer-Intensivkurs B2.1 (26Z424412) 
LOCATION:VHS Studienhaus, Raum 109, Cäcilienstr. 35, 50667 Köln
END:VEVENT
BEGIN:VEVENT
DTSTAMP:20260423T123131
DTSTART;TZID=Europe/Berlin:20260720T140000
DTEND;TZID=Europe/Berlin:20260720T181500
UID:26Z424412-20260720T140000@KÖLNER VHS
SUMMARY:Deutsch Sommer-Intensivkurs B2.1 (26Z424412) 
LOCATION:VHS Studienhaus, Raum 109, Cäcilienstr. 35, 50667 Köln
END:VEVENT
BEGIN:VEVENT
DTSTAMP:20260423T123131
DTSTART;TZID=Europe/Berlin:20260721T140000
DTEND;TZID=Europe/Berlin:20260721T181500
UID:26Z424412-20260721T140000@KÖLNER VHS
SUMMARY:Deutsch Sommer-Intensivkurs B2.1 (26Z424412) 
LOCATION:VHS Studienhaus, Raum 109, Cäcilienstr. 35, 50667 Köln
END:VEVENT
BEGIN:VEVENT
DTSTAMP:20260423T123131
DTSTART;TZID=Europe/Berlin:20260722T140000
DTEND;TZID=Europe/Berlin:20260722T181500
UID:26Z424412-20260722T140000@KÖLNER VHS
SUMMARY:Deutsch Sommer-Intensivkurs B2.1 (26Z424412) 
LOCATION:VHS Studienhaus, Raum 109, Cäcilienstr. 35, 50667 Köln
END:VEVENT
BEGIN:VEVENT
DTSTAMP:20260423T123131
DTSTART;TZID=Europe/Berlin:20260723T140000
DTEND;TZID=Europe/Berlin:20260723T181500
UID:26Z424412-20260723T140000@KÖLNER VHS
SUMMARY:Deutsch Sommer-Intensivkurs B2.1 (26Z424412) 
LOCATION:VHS Studienhaus, Raum 109, Cäcilienstr. 35, 50667 Köln
END:VEVENT
BEGIN:VEVENT
DTSTAMP:20260423T123131
DTSTART;TZID=Europe/Berlin:20260727T140000
DTEND;TZID=Europe/Berlin:20260727T181500
UID:26Z424412-20260727T140000@KÖLNER VHS
SUMMARY:Deutsch Sommer-Intensivkurs B2.1 (26Z424412) 
LOCATION:VHS Studienhaus, Raum 109, Cäcilienstr. 35, 50667 Köln
END:VEVENT
BEGIN:VEVENT
DTSTAMP:20260423T123131
DTSTART;TZID=Europe/Berlin:20260728T140000
DTEND;TZID=Europe/Berlin:20260728T181500
UID:26Z424412-20260728T140000@KÖLNER VHS
SUMMARY:Deutsch Sommer-Intensivkurs B2.1 (26Z424412) 
LOCATION:VHS Studienhaus, Raum 109, Cäcilienstr. 35, 50667 Köln
END:VEVENT
BEGIN:VEVENT
DTSTAMP:20260423T123131
DTSTART;TZID=Europe/Berlin:20260729T140000
DTEND;TZID=Europe/Berlin:20260729T181500
UID:26Z424412-20260729T140000@KÖLNER VHS
SUMMARY:Deutsch Sommer-Intensivkurs B2.1 (26Z424412) 
LOCATION:VHS Studienhaus, Raum 109, Cäcilienstr. 35, 50667 Köln
END:VEVENT
BEGIN:VEVENT
DTSTAMP:20260423T123131
DTSTART;TZID=Europe/Berlin:20260730T140000
DTEND;TZID=Europe/Berlin:20260730T181500
UID:26Z424412-20260730T140000@KÖLNER VHS
SUMMARY:Deutsch Sommer-Intensivkurs B2.1 (26Z424412) 
LOCATION:VHS Studienhaus, Raum 109, Cäcilienstr. 35, 50667 Köln
END:VEVENT
BEGIN:VEVENT
DTSTAMP:20260423T123131
DTSTART;TZID=Europe/Berlin:20260803T130000
DTEND;TZID=Europe/Berlin:20260803T171500
UID:26Z424412-20260803T130000@KÖLNER VHS
SUMMARY:Deutsch Sommer-Intensivkurs B2.1 (26Z424412) 
LOCATION:VHS Studienhaus, Raum 109, Cäcilienstr. 35, 50667 Köln
END:VEVENT
BEGIN:VEVENT
DTSTAMP:20260423T123131
DTSTART;TZID=Europe/Berlin:20260804T130000
DTEND;TZID=Europe/Berlin:20260804T171500
UID:26Z424412-20260804T130000@KÖLNER VHS
SUMMARY:Deutsch Sommer-Intensivkurs B2.1 (26Z424412) 
LOCATION:VHS Studienhaus, Raum 109, Cäcilienstr. 35, 50667 Köln
END:VEVENT
BEGIN:VEVENT
DTSTAMP:20260423T123131
DTSTART;TZID=Europe/Berlin:20260805T130000
DTEND;TZID=Europe/Berlin:20260805T171500
UID:26Z424412-20260805T130000@KÖLNER VHS
SUMMARY:Deutsch Sommer-Intensivkurs B2.1 (26Z424412) 
LOCATION:VHS Studienhaus, Raum 109, Cäcilienstr. 35, 50667 Köln
END:VEVENT
BEGIN:VEVENT
DTSTAMP:20260423T123131
DTSTART;TZID=Europe/Berlin:20260806T130000
DTEND;TZID=Europe/Berlin:20260806T171500
UID:26Z424412-20260806T130000@KÖLNER VHS
SUMMARY:Deutsch Sommer-Intensivkurs B2.1 (26Z424412) 
LOCATION:VHS Studienhaus, Raum 109, Cäcilienstr. 35, 50667 Köln
END:VEVENT
BEGIN:VEVENT
DTSTAMP:20260423T123131
DTSTART;TZID=Europe/Berlin:20260810T130000
DTEND;TZID=Europe/Berlin:20260810T171500
UID:26Z424412-20260810T130000@KÖLNER VHS
SUMMARY:Deutsch Sommer-Intensivkurs B2.1 (26Z424412) 
LOCATION:VHS Studienhaus, Raum 109, Cäcilienstr. 35, 50667 Köln
END:VEVENT
BEGIN:VEVENT
DTSTAMP:20260423T123131
DTSTART;TZID=Europe/Berlin:20260811T130000
DTEND;TZID=Europe/Berlin:20260811T171500
UID:26Z424412-20260811T130000@KÖLNER VHS
SUMMARY:Deutsch Sommer-Intensivkurs B2.1 (26Z424412) 
LOCATION:VHS Studienhaus, Raum 109, Cäcilienstr. 35, 50667 Köln
END:VEVENT
BEGIN:VEVENT
DTSTAMP:20260423T123131
DTSTART;TZID=Europe/Berlin:20260812T130000
DTEND;TZID=Europe/Berlin:20260812T171500
UID:26Z424412-20260812T130000@KÖLNER VHS
SUMMARY:Deutsch Sommer-Intensivkurs B2.1 (26Z424412) 
LOCATION:VHS Studienhaus, Raum 109, Cäcilienstr. 35, 50667 Köln
END:VEVENT
BEGIN:VEVENT
DTSTAMP:20260423T123131
DTSTART;TZID=Europe/Berlin:20260813T130000
DTEND;TZID=Europe/Berlin:20260813T171500
UID:26Z424412-20260813T130000@KÖLNER VHS
SUMMARY:Deutsch Sommer-Intensivkurs B2.1 (26Z424412) 
LOCATION:VHS Studienhaus, Raum 109, Cäcilienstr. 35, 50667 Köln
END:VEVENT
BEGIN:VEVENT
DTSTAMP:20260423T123131
DTSTART;TZID=Europe/Berlin:20260817T130000
DTEND;TZID=Europe/Berlin:20260817T171500
UID:26Z424412-20260817T130000@KÖLNER VHS
SUMMARY:Deutsch Sommer-Intensivkurs B2.1 (26Z424412) 
LOCATION:VHS Studienhaus, Raum 109, Cäcilienstr. 35, 50667 Köln
END:VEVENT
BEGIN:VEVENT
DTSTAMP:20260423T123131
DTSTART;TZID=Europe/Berlin:20260818T130000
DTEND;TZID=Europe/Berlin:20260818T171500
UID:26Z424412-20260818T130000@KÖLNER VHS
SUMMARY:Deutsch Sommer-Intensivkurs B2.1 (26Z424412) 
LOCATION:VHS Studienhaus, Raum 109, Cäcilienstr. 35, 50667 Köln
END:VEVENT
BEGIN:VEVENT
DTSTAMP:20260423T123131
DTSTART;TZID=Europe/Berlin:20260819T130000
DTEND;TZID=Europe/Berlin:20260819T171500
UID:26Z424412-20260819T130000@KÖLNER VHS
SUMMARY:Deutsch Sommer-Intensivkurs B2.1 (26Z424412) 
LOCATION:VHS Studienhaus, Raum 109, Cäcilienstr. 35, 50667 Köln
END:VEVENT
BEGIN:VEVENT
DTSTAMP:20260423T123131
DTSTART;TZID=Europe/Berlin:20260820T130000
DTEND;TZID=Europe/Berlin:20260820T171500
UID:26Z424412-20260820T130000@KÖLNER VHS
SUMMARY:Deutsch Sommer-Intensivkurs B2.1 (26Z424412) 
LOCATION:VHS Studienhaus, Raum 109, Cäcilienstr. 35, 50667 Köln
END:VEVENT
BEGIN:VEVENT
DTSTAMP:20260423T123131
DTSTART;TZID=Europe/Berlin:20260824T130000
DTEND;TZID=Europe/Berlin:20260824T171500
UID:26Z424412-20260824T130000@KÖLNER VHS
SUMMARY:Deutsch Sommer-Intensivkurs B2.1 (26Z424412) 
LOCATION:VHS Studienhaus, Raum 109, Cäcilienstr. 35, 50667 Köln
END:VEVENT
BEGIN:VEVENT
DTSTAMP:20260423T123131
DTSTART;TZID=Europe/Berlin:20260825T130000
DTEND;TZID=Europe/Berlin:20260825T171500
UID:26Z424412-20260825T130000@KÖLNER VHS
SUMMARY:Deutsch Sommer-Intensivkurs B2.1 (26Z424412) 
LOCATION:VHS Studienhaus, Raum 109, Cäcilienstr. 35, 50667 Köln
END:VEVENT
BEGIN:VEVENT
DTSTAMP:20260423T123131
DTSTART;TZID=Europe/Berlin:20260826T130000
DTEND;TZID=Europe/Berlin:20260826T171500
UID:26Z424412-20260826T130000@KÖLNER VHS
SUMMARY:Deutsch Sommer-Intensivkurs B2.1 (26Z424412) 
LOCATION:VHS Studienhaus, Raum 109, Cäcilienstr. 35, 50667 Köln
END:VEVENT
BEGIN:VEVENT
DTSTAMP:20260423T123131
DTSTART;TZID=Europe/Berlin:20260827T130000
DTEND;TZID=Europe/Berlin:20260827T171500
UID:26Z424412-20260827T130000@KÖLNER VHS
SUMMARY:Deutsch Sommer-Intensivkurs B2.1 (26Z424412) 
LOCATION:VHS Studienhaus, Raum 109, Cäcilienstr. 35, 50667 Köln
END:VEVENT
BEGIN:VEVENT
DTSTAMP:20260423T123131
DTSTART;TZID=Europe/Berlin:20260831T130000
DTEND;TZID=Europe/Berlin:20260831T171500
UID:26Z424412-20260831T130000@KÖLNER VHS
SUMMARY:Deutsch Sommer-Intensivkurs B2.1 (26Z424412) 
LOCATION:VHS Studienhaus, Raum 109, Cäcilienstr. 35, 50667 Köln
END:VEVENT
BEGIN:VEVENT
DTSTAMP:20260423T123131
DTSTART;TZID=Europe/Berlin:20260901T130000
DTEND;TZID=Europe/Berlin:20260901T171500
UID:26Z424412-20260901T130000@KÖLNER VHS
SUMMARY:Deutsch Sommer-Intensivkurs B2.1 (26Z424412) 
LOCATION:VHS Studienhaus, Raum 109, Cäcilienstr. 35, 50667 Köln
END:VEVENT
BEGIN:VEVENT
DTSTAMP:20260423T123131
DTSTART;TZID=Europe/Berlin:20260902T130000
DTEND;TZID=Europe/Berlin:20260902T171500
UID:26Z424412-20260902T130000@KÖLNER VHS
SUMMARY:Deutsch Sommer-Intensivkurs B2.1 (26Z424412) 
LOCATION:VHS Studienhaus, Raum 109, Cäcilienstr. 35, 50667 Köln
END:VEVENT
BEGIN:VEVENT
DTSTAMP:20260423T123131
DTSTART;TZID=Europe/Berlin:20260903T130000
DTEND;TZID=Europe/Berlin:20260903T171500
UID:26Z424412-20260903T130000@KÖLNER VHS
SUMMARY:Deutsch Sommer-Intensivkurs B2.1 (26Z424412) 
LOCATION:VHS Studienhaus, Raum 109, Cäcilienstr. 35, 50667 Köln
END:VEVENT
END:VCALENDAR