BEGIN:VCALENDAR
VERSION:2.0
PRODID:https://www.kufer.de/kuferweb / DE
METHOD:PUBLISH
CALSCALE:GREGORIAN
X-WR-TIMEZONE:Europe/Berlin
BEGIN:VTIMEZONE
TZID:Europe/Berlin
X-LIC-LOCATION:Europe/Berlin
BEGIN:DAYLIGHT
TZOFFSETFROM:+0100
TZOFFSETTO:+0200
TZNAME:CEST
DTSTART:19700329T020000
RRULE:FREQ=YEARLY;INTERVAL=1;BYDAY=-1SU;BYMONTH=3
END:DAYLIGHT
BEGIN:STANDARD
TZOFFSETFROM:+0200
TZOFFSETTO:+0100
TZNAME:CET
DTSTART:19701025T030000
RRULE:FREQ=YEARLY;INTERVAL=1;BYDAY=-1SU;BYMONTH=10
END:STANDARD
END:VTIMEZONE
BEGIN:VEVENT
DTSTAMP:20260419T202632
DTSTART;TZID=Europe/Berlin:20260803T083000
DTEND;TZID=Europe/Berlin:20260803T123000
UID:26Z424333-20260803T083000@KÖLNER VHS
SUMMARY:Deutsch Sommer-Intensivkurs B1+ (26Z424333) 
LOCATION:VHS Studienhaus, Raum 0.11, Cäcilienstr. 35, 50667 Köln
END:VEVENT
BEGIN:VEVENT
DTSTAMP:20260419T202632
DTSTART;TZID=Europe/Berlin:20260804T083000
DTEND;TZID=Europe/Berlin:20260804T123000
UID:26Z424333-20260804T083000@KÖLNER VHS
SUMMARY:Deutsch Sommer-Intensivkurs B1+ (26Z424333) 
LOCATION:VHS Studienhaus, Raum 0.11, Cäcilienstr. 35, 50667 Köln
END:VEVENT
BEGIN:VEVENT
DTSTAMP:20260419T202632
DTSTART;TZID=Europe/Berlin:20260805T083000
DTEND;TZID=Europe/Berlin:20260805T123000
UID:26Z424333-20260805T083000@KÖLNER VHS
SUMMARY:Deutsch Sommer-Intensivkurs B1+ (26Z424333) 
LOCATION:VHS Studienhaus, Raum 0.11, Cäcilienstr. 35, 50667 Köln
END:VEVENT
BEGIN:VEVENT
DTSTAMP:20260419T202632
DTSTART;TZID=Europe/Berlin:20260806T083000
DTEND;TZID=Europe/Berlin:20260806T123000
UID:26Z424333-20260806T083000@KÖLNER VHS
SUMMARY:Deutsch Sommer-Intensivkurs B1+ (26Z424333) 
LOCATION:VHS Studienhaus, Raum 0.11, Cäcilienstr. 35, 50667 Köln
END:VEVENT
BEGIN:VEVENT
DTSTAMP:20260419T202632
DTSTART;TZID=Europe/Berlin:20260807T083000
DTEND;TZID=Europe/Berlin:20260807T123000
UID:26Z424333-20260807T083000@KÖLNER VHS
SUMMARY:Deutsch Sommer-Intensivkurs B1+ (26Z424333) 
LOCATION:VHS Studienhaus, Raum 0.11, Cäcilienstr. 35, 50667 Köln
END:VEVENT
BEGIN:VEVENT
DTSTAMP:20260419T202632
DTSTART;TZID=Europe/Berlin:20260810T083000
DTEND;TZID=Europe/Berlin:20260810T123000
UID:26Z424333-20260810T083000@KÖLNER VHS
SUMMARY:Deutsch Sommer-Intensivkurs B1+ (26Z424333) 
LOCATION:VHS Studienhaus, Raum 0.11, Cäcilienstr. 35, 50667 Köln
END:VEVENT
BEGIN:VEVENT
DTSTAMP:20260419T202632
DTSTART;TZID=Europe/Berlin:20260811T083000
DTEND;TZID=Europe/Berlin:20260811T123000
UID:26Z424333-20260811T083000@KÖLNER VHS
SUMMARY:Deutsch Sommer-Intensivkurs B1+ (26Z424333) 
LOCATION:VHS Studienhaus, Raum 0.11, Cäcilienstr. 35, 50667 Köln
END:VEVENT
BEGIN:VEVENT
DTSTAMP:20260419T202632
DTSTART;TZID=Europe/Berlin:20260812T083000
DTEND;TZID=Europe/Berlin:20260812T123000
UID:26Z424333-20260812T083000@KÖLNER VHS
SUMMARY:Deutsch Sommer-Intensivkurs B1+ (26Z424333) 
LOCATION:VHS Studienhaus, Raum 0.11, Cäcilienstr. 35, 50667 Köln
END:VEVENT
BEGIN:VEVENT
DTSTAMP:20260419T202632
DTSTART;TZID=Europe/Berlin:20260813T083000
DTEND;TZID=Europe/Berlin:20260813T123000
UID:26Z424333-20260813T083000@KÖLNER VHS
SUMMARY:Deutsch Sommer-Intensivkurs B1+ (26Z424333) 
LOCATION:VHS Studienhaus, Raum 0.11, Cäcilienstr. 35, 50667 Köln
END:VEVENT
BEGIN:VEVENT
DTSTAMP:20260419T202632
DTSTART;TZID=Europe/Berlin:20260814T083000
DTEND;TZID=Europe/Berlin:20260814T123000
UID:26Z424333-20260814T083000@KÖLNER VHS
SUMMARY:Deutsch Sommer-Intensivkurs B1+ (26Z424333) 
LOCATION:VHS Studienhaus, Raum 0.11, Cäcilienstr. 35, 50667 Köln
END:VEVENT
BEGIN:VEVENT
DTSTAMP:20260419T202632
DTSTART;TZID=Europe/Berlin:20260817T083000
DTEND;TZID=Europe/Berlin:20260817T123000
UID:26Z424333-20260817T083000@KÖLNER VHS
SUMMARY:Deutsch Sommer-Intensivkurs B1+ (26Z424333) 
LOCATION:VHS Studienhaus, Raum 0.11, Cäcilienstr. 35, 50667 Köln
END:VEVENT
BEGIN:VEVENT
DTSTAMP:20260419T202632
DTSTART;TZID=Europe/Berlin:20260818T083000
DTEND;TZID=Europe/Berlin:20260818T123000
UID:26Z424333-20260818T083000@KÖLNER VHS
SUMMARY:Deutsch Sommer-Intensivkurs B1+ (26Z424333) 
LOCATION:VHS Studienhaus, Raum 0.11, Cäcilienstr. 35, 50667 Köln
END:VEVENT
BEGIN:VEVENT
DTSTAMP:20260419T202632
DTSTART;TZID=Europe/Berlin:20260819T083000
DTEND;TZID=Europe/Berlin:20260819T123000
UID:26Z424333-20260819T083000@KÖLNER VHS
SUMMARY:Deutsch Sommer-Intensivkurs B1+ (26Z424333) 
LOCATION:VHS Studienhaus, Raum 0.11, Cäcilienstr. 35, 50667 Köln
END:VEVENT
BEGIN:VEVENT
DTSTAMP:20260419T202632
DTSTART;TZID=Europe/Berlin:20260820T083000
DTEND;TZID=Europe/Berlin:20260820T123000
UID:26Z424333-20260820T083000@KÖLNER VHS
SUMMARY:Deutsch Sommer-Intensivkurs B1+ (26Z424333) 
LOCATION:VHS Studienhaus, Raum 0.11, Cäcilienstr. 35, 50667 Köln
END:VEVENT
BEGIN:VEVENT
DTSTAMP:20260419T202632
DTSTART;TZID=Europe/Berlin:20260821T083000
DTEND;TZID=Europe/Berlin:20260821T123000
UID:26Z424333-20260821T083000@KÖLNER VHS
SUMMARY:Deutsch Sommer-Intensivkurs B1+ (26Z424333) 
LOCATION:VHS Studienhaus, Raum 0.11, Cäcilienstr. 35, 50667 Köln
END:VEVENT
BEGIN:VEVENT
DTSTAMP:20260419T202632
DTSTART;TZID=Europe/Berlin:20260824T083000
DTEND;TZID=Europe/Berlin:20260824T123000
UID:26Z424333-20260824T083000@KÖLNER VHS
SUMMARY:Deutsch Sommer-Intensivkurs B1+ (26Z424333) 
LOCATION:VHS Studienhaus, Raum 0.11, Cäcilienstr. 35, 50667 Köln
END:VEVENT
BEGIN:VEVENT
DTSTAMP:20260419T202632
DTSTART;TZID=Europe/Berlin:20260825T083000
DTEND;TZID=Europe/Berlin:20260825T123000
UID:26Z424333-20260825T083000@KÖLNER VHS
SUMMARY:Deutsch Sommer-Intensivkurs B1+ (26Z424333) 
LOCATION:VHS Studienhaus, Raum 0.11, Cäcilienstr. 35, 50667 Köln
END:VEVENT
BEGIN:VEVENT
DTSTAMP:20260419T202632
DTSTART;TZID=Europe/Berlin:20260826T083000
DTEND;TZID=Europe/Berlin:20260826T123000
UID:26Z424333-20260826T083000@KÖLNER VHS
SUMMARY:Deutsch Sommer-Intensivkurs B1+ (26Z424333) 
LOCATION:VHS Studienhaus, Raum 0.11, Cäcilienstr. 35, 50667 Köln
END:VEVENT
BEGIN:VEVENT
DTSTAMP:20260419T202632
DTSTART;TZID=Europe/Berlin:20260827T083000
DTEND;TZID=Europe/Berlin:20260827T123000
UID:26Z424333-20260827T083000@KÖLNER VHS
SUMMARY:Deutsch Sommer-Intensivkurs B1+ (26Z424333) 
LOCATION:VHS Studienhaus, Raum 0.11, Cäcilienstr. 35, 50667 Köln
END:VEVENT
BEGIN:VEVENT
DTSTAMP:20260419T202632
DTSTART;TZID=Europe/Berlin:20260828T083000
DTEND;TZID=Europe/Berlin:20260828T123000
UID:26Z424333-20260828T083000@KÖLNER VHS
SUMMARY:Deutsch Sommer-Intensivkurs B1+ (26Z424333) 
LOCATION:VHS Studienhaus, Raum 0.11, Cäcilienstr. 35, 50667 Köln
END:VEVENT
END:VCALENDAR