BEGIN:VCALENDAR
VERSION:2.0
PRODID:https://www.kufer.de/kuferweb / DE
METHOD:PUBLISH
CALSCALE:GREGORIAN
X-WR-TIMEZONE:Europe/Berlin
BEGIN:VTIMEZONE
TZID:Europe/Berlin
X-LIC-LOCATION:Europe/Berlin
BEGIN:DAYLIGHT
TZOFFSETFROM:+0100
TZOFFSETTO:+0200
TZNAME:CEST
DTSTART:19700329T020000
RRULE:FREQ=YEARLY;INTERVAL=1;BYDAY=-1SU;BYMONTH=3
END:DAYLIGHT
BEGIN:STANDARD
TZOFFSETFROM:+0200
TZOFFSETTO:+0100
TZNAME:CET
DTSTART:19701025T030000
RRULE:FREQ=YEARLY;INTERVAL=1;BYDAY=-1SU;BYMONTH=10
END:STANDARD
END:VTIMEZONE
BEGIN:VEVENT
DTSTAMP:20260423T153432
DTSTART;TZID=Europe/Berlin:20260706T140000
DTEND;TZID=Europe/Berlin:20260706T181500
UID:26Z424304-20260706T140000@KÖLNER VHS
SUMMARY:Deutsch Sommer-Intensivkurs B1 (26Z424304) 
LOCATION:VHS Studienhaus, Raum 307, Cäcilienstr. 35, 50667 Köln
END:VEVENT
BEGIN:VEVENT
DTSTAMP:20260423T153432
DTSTART;TZID=Europe/Berlin:20260707T140000
DTEND;TZID=Europe/Berlin:20260707T181500
UID:26Z424304-20260707T140000@KÖLNER VHS
SUMMARY:Deutsch Sommer-Intensivkurs B1 (26Z424304) 
LOCATION:VHS Studienhaus, Raum 307, Cäcilienstr. 35, 50667 Köln
END:VEVENT
BEGIN:VEVENT
DTSTAMP:20260423T153432
DTSTART;TZID=Europe/Berlin:20260708T140000
DTEND;TZID=Europe/Berlin:20260708T181500
UID:26Z424304-20260708T140000@KÖLNER VHS
SUMMARY:Deutsch Sommer-Intensivkurs B1 (26Z424304) 
LOCATION:VHS Studienhaus, Raum 307, Cäcilienstr. 35, 50667 Köln
END:VEVENT
BEGIN:VEVENT
DTSTAMP:20260423T153432
DTSTART;TZID=Europe/Berlin:20260709T140000
DTEND;TZID=Europe/Berlin:20260709T181500
UID:26Z424304-20260709T140000@KÖLNER VHS
SUMMARY:Deutsch Sommer-Intensivkurs B1 (26Z424304) 
LOCATION:VHS Studienhaus, Raum 307, Cäcilienstr. 35, 50667 Köln
END:VEVENT
BEGIN:VEVENT
DTSTAMP:20260423T153432
DTSTART;TZID=Europe/Berlin:20260713T140000
DTEND;TZID=Europe/Berlin:20260713T181500
UID:26Z424304-20260713T140000@KÖLNER VHS
SUMMARY:Deutsch Sommer-Intensivkurs B1 (26Z424304) 
LOCATION:VHS Studienhaus, Raum 307, Cäcilienstr. 35, 50667 Köln
END:VEVENT
BEGIN:VEVENT
DTSTAMP:20260423T153432
DTSTART;TZID=Europe/Berlin:20260714T140000
DTEND;TZID=Europe/Berlin:20260714T181500
UID:26Z424304-20260714T140000@KÖLNER VHS
SUMMARY:Deutsch Sommer-Intensivkurs B1 (26Z424304) 
LOCATION:VHS Studienhaus, Raum 307, Cäcilienstr. 35, 50667 Köln
END:VEVENT
BEGIN:VEVENT
DTSTAMP:20260423T153432
DTSTART;TZID=Europe/Berlin:20260715T140000
DTEND;TZID=Europe/Berlin:20260715T181500
UID:26Z424304-20260715T140000@KÖLNER VHS
SUMMARY:Deutsch Sommer-Intensivkurs B1 (26Z424304) 
LOCATION:VHS Studienhaus, Raum 307, Cäcilienstr. 35, 50667 Köln
END:VEVENT
BEGIN:VEVENT
DTSTAMP:20260423T153432
DTSTART;TZID=Europe/Berlin:20260716T140000
DTEND;TZID=Europe/Berlin:20260716T181500
UID:26Z424304-20260716T140000@KÖLNER VHS
SUMMARY:Deutsch Sommer-Intensivkurs B1 (26Z424304) 
LOCATION:VHS Studienhaus, Raum 307, Cäcilienstr. 35, 50667 Köln
END:VEVENT
BEGIN:VEVENT
DTSTAMP:20260423T153432
DTSTART;TZID=Europe/Berlin:20260720T130000
DTEND;TZID=Europe/Berlin:20260720T171500
UID:26Z424304-20260720T130000@KÖLNER VHS
SUMMARY:Deutsch Sommer-Intensivkurs B1 (26Z424304) 
LOCATION:VHS Studienhaus, Raum 307, Cäcilienstr. 35, 50667 Köln
END:VEVENT
BEGIN:VEVENT
DTSTAMP:20260423T153432
DTSTART;TZID=Europe/Berlin:20260721T130000
DTEND;TZID=Europe/Berlin:20260721T171500
UID:26Z424304-20260721T130000@KÖLNER VHS
SUMMARY:Deutsch Sommer-Intensivkurs B1 (26Z424304) 
LOCATION:VHS Studienhaus, Raum 307, Cäcilienstr. 35, 50667 Köln
END:VEVENT
BEGIN:VEVENT
DTSTAMP:20260423T153432
DTSTART;TZID=Europe/Berlin:20260722T130000
DTEND;TZID=Europe/Berlin:20260722T171500
UID:26Z424304-20260722T130000@KÖLNER VHS
SUMMARY:Deutsch Sommer-Intensivkurs B1 (26Z424304) 
LOCATION:VHS Studienhaus, Raum 307, Cäcilienstr. 35, 50667 Köln
END:VEVENT
BEGIN:VEVENT
DTSTAMP:20260423T153432
DTSTART;TZID=Europe/Berlin:20260723T130000
DTEND;TZID=Europe/Berlin:20260723T171500
UID:26Z424304-20260723T130000@KÖLNER VHS
SUMMARY:Deutsch Sommer-Intensivkurs B1 (26Z424304) 
LOCATION:VHS Studienhaus, Raum 307, Cäcilienstr. 35, 50667 Köln
END:VEVENT
BEGIN:VEVENT
DTSTAMP:20260423T153432
DTSTART;TZID=Europe/Berlin:20260727T130000
DTEND;TZID=Europe/Berlin:20260727T171500
UID:26Z424304-20260727T130000@KÖLNER VHS
SUMMARY:Deutsch Sommer-Intensivkurs B1 (26Z424304) 
LOCATION:VHS Studienhaus, Raum 307, Cäcilienstr. 35, 50667 Köln
END:VEVENT
BEGIN:VEVENT
DTSTAMP:20260423T153432
DTSTART;TZID=Europe/Berlin:20260728T130000
DTEND;TZID=Europe/Berlin:20260728T171500
UID:26Z424304-20260728T130000@KÖLNER VHS
SUMMARY:Deutsch Sommer-Intensivkurs B1 (26Z424304) 
LOCATION:VHS Studienhaus, Raum 307, Cäcilienstr. 35, 50667 Köln
END:VEVENT
BEGIN:VEVENT
DTSTAMP:20260423T153432
DTSTART;TZID=Europe/Berlin:20260729T130000
DTEND;TZID=Europe/Berlin:20260729T171500
UID:26Z424304-20260729T130000@KÖLNER VHS
SUMMARY:Deutsch Sommer-Intensivkurs B1 (26Z424304) 
LOCATION:VHS Studienhaus, Raum 307, Cäcilienstr. 35, 50667 Köln
END:VEVENT
BEGIN:VEVENT
DTSTAMP:20260423T153432
DTSTART;TZID=Europe/Berlin:20260730T130000
DTEND;TZID=Europe/Berlin:20260730T171500
UID:26Z424304-20260730T130000@KÖLNER VHS
SUMMARY:Deutsch Sommer-Intensivkurs B1 (26Z424304) 
LOCATION:VHS Studienhaus, Raum 307, Cäcilienstr. 35, 50667 Köln
END:VEVENT
BEGIN:VEVENT
DTSTAMP:20260423T153432
DTSTART;TZID=Europe/Berlin:20260803T130000
DTEND;TZID=Europe/Berlin:20260803T171500
UID:26Z424304-20260803T130000@KÖLNER VHS
SUMMARY:Deutsch Sommer-Intensivkurs B1 (26Z424304) 
LOCATION:VHS Studienhaus, Raum 307, Cäcilienstr. 35, 50667 Köln
END:VEVENT
BEGIN:VEVENT
DTSTAMP:20260423T153432
DTSTART;TZID=Europe/Berlin:20260804T130000
DTEND;TZID=Europe/Berlin:20260804T171500
UID:26Z424304-20260804T130000@KÖLNER VHS
SUMMARY:Deutsch Sommer-Intensivkurs B1 (26Z424304) 
LOCATION:VHS Studienhaus, Raum 307, Cäcilienstr. 35, 50667 Köln
END:VEVENT
BEGIN:VEVENT
DTSTAMP:20260423T153432
DTSTART;TZID=Europe/Berlin:20260805T133000
DTEND;TZID=Europe/Berlin:20260805T174500
UID:26Z424304-20260805T133000@KÖLNER VHS
SUMMARY:Deutsch Sommer-Intensivkurs B1 (26Z424304) 
LOCATION:VHS Studienhaus, Raum 307, Cäcilienstr. 35, 50667 Köln
END:VEVENT
BEGIN:VEVENT
DTSTAMP:20260423T153432
DTSTART;TZID=Europe/Berlin:20260806T133000
DTEND;TZID=Europe/Berlin:20260806T174500
UID:26Z424304-20260806T133000@KÖLNER VHS
SUMMARY:Deutsch Sommer-Intensivkurs B1 (26Z424304) 
LOCATION:VHS Studienhaus, Raum 307, Cäcilienstr. 35, 50667 Köln
END:VEVENT
BEGIN:VEVENT
DTSTAMP:20260423T153432
DTSTART;TZID=Europe/Berlin:20260810T133000
DTEND;TZID=Europe/Berlin:20260810T174500
UID:26Z424304-20260810T133000@KÖLNER VHS
SUMMARY:Deutsch Sommer-Intensivkurs B1 (26Z424304) 
LOCATION:VHS Studienhaus, Raum 307, Cäcilienstr. 35, 50667 Köln
END:VEVENT
BEGIN:VEVENT
DTSTAMP:20260423T153432
DTSTART;TZID=Europe/Berlin:20260811T133000
DTEND;TZID=Europe/Berlin:20260811T174500
UID:26Z424304-20260811T133000@KÖLNER VHS
SUMMARY:Deutsch Sommer-Intensivkurs B1 (26Z424304) 
LOCATION:VHS Studienhaus, Raum 307, Cäcilienstr. 35, 50667 Köln
END:VEVENT
BEGIN:VEVENT
DTSTAMP:20260423T153432
DTSTART;TZID=Europe/Berlin:20260812T133000
DTEND;TZID=Europe/Berlin:20260812T174500
UID:26Z424304-20260812T133000@KÖLNER VHS
SUMMARY:Deutsch Sommer-Intensivkurs B1 (26Z424304) 
LOCATION:VHS Studienhaus, Raum 307, Cäcilienstr. 35, 50667 Köln
END:VEVENT
BEGIN:VEVENT
DTSTAMP:20260423T153432
DTSTART;TZID=Europe/Berlin:20260813T133000
DTEND;TZID=Europe/Berlin:20260813T174500
UID:26Z424304-20260813T133000@KÖLNER VHS
SUMMARY:Deutsch Sommer-Intensivkurs B1 (26Z424304) 
LOCATION:VHS Studienhaus, Raum 307, Cäcilienstr. 35, 50667 Köln
END:VEVENT
BEGIN:VEVENT
DTSTAMP:20260423T153432
DTSTART;TZID=Europe/Berlin:20260817T133000
DTEND;TZID=Europe/Berlin:20260817T174500
UID:26Z424304-20260817T133000@KÖLNER VHS
SUMMARY:Deutsch Sommer-Intensivkurs B1 (26Z424304) 
LOCATION:VHS Studienhaus, Raum 307, Cäcilienstr. 35, 50667 Köln
END:VEVENT
BEGIN:VEVENT
DTSTAMP:20260423T153432
DTSTART;TZID=Europe/Berlin:20260818T133000
DTEND;TZID=Europe/Berlin:20260818T174500
UID:26Z424304-20260818T133000@KÖLNER VHS
SUMMARY:Deutsch Sommer-Intensivkurs B1 (26Z424304) 
LOCATION:VHS Studienhaus, Raum 307, Cäcilienstr. 35, 50667 Köln
END:VEVENT
BEGIN:VEVENT
DTSTAMP:20260423T153432
DTSTART;TZID=Europe/Berlin:20260819T133000
DTEND;TZID=Europe/Berlin:20260819T174500
UID:26Z424304-20260819T133000@KÖLNER VHS
SUMMARY:Deutsch Sommer-Intensivkurs B1 (26Z424304) 
LOCATION:VHS Studienhaus, Raum 307, Cäcilienstr. 35, 50667 Köln
END:VEVENT
BEGIN:VEVENT
DTSTAMP:20260423T153432
DTSTART;TZID=Europe/Berlin:20260820T133000
DTEND;TZID=Europe/Berlin:20260820T174500
UID:26Z424304-20260820T133000@KÖLNER VHS
SUMMARY:Deutsch Sommer-Intensivkurs B1 (26Z424304) 
LOCATION:VHS Studienhaus, Raum 307, Cäcilienstr. 35, 50667 Köln
END:VEVENT
BEGIN:VEVENT
DTSTAMP:20260423T153432
DTSTART;TZID=Europe/Berlin:20260824T133000
DTEND;TZID=Europe/Berlin:20260824T174500
UID:26Z424304-20260824T133000@KÖLNER VHS
SUMMARY:Deutsch Sommer-Intensivkurs B1 (26Z424304) 
LOCATION:VHS Studienhaus, Raum 307, Cäcilienstr. 35, 50667 Köln
END:VEVENT
BEGIN:VEVENT
DTSTAMP:20260423T153432
DTSTART;TZID=Europe/Berlin:20260825T133000
DTEND;TZID=Europe/Berlin:20260825T174500
UID:26Z424304-20260825T133000@KÖLNER VHS
SUMMARY:Deutsch Sommer-Intensivkurs B1 (26Z424304) 
LOCATION:VHS Studienhaus, Raum 307, Cäcilienstr. 35, 50667 Köln
END:VEVENT
BEGIN:VEVENT
DTSTAMP:20260423T153432
DTSTART;TZID=Europe/Berlin:20260826T133000
DTEND;TZID=Europe/Berlin:20260826T174500
UID:26Z424304-20260826T133000@KÖLNER VHS
SUMMARY:Deutsch Sommer-Intensivkurs B1 (26Z424304) 
LOCATION:VHS Studienhaus, Raum 307, Cäcilienstr. 35, 50667 Köln
END:VEVENT
BEGIN:VEVENT
DTSTAMP:20260423T153432
DTSTART;TZID=Europe/Berlin:20260827T133000
DTEND;TZID=Europe/Berlin:20260827T174500
UID:26Z424304-20260827T133000@KÖLNER VHS
SUMMARY:Deutsch Sommer-Intensivkurs B1 (26Z424304) 
LOCATION:VHS Studienhaus, Raum 307, Cäcilienstr. 35, 50667 Köln
END:VEVENT
BEGIN:VEVENT
DTSTAMP:20260423T153432
DTSTART;TZID=Europe/Berlin:20260831T133000
DTEND;TZID=Europe/Berlin:20260831T174500
UID:26Z424304-20260831T133000@KÖLNER VHS
SUMMARY:Deutsch Sommer-Intensivkurs B1 (26Z424304) 
LOCATION:VHS Studienhaus, Raum 307, Cäcilienstr. 35, 50667 Köln
END:VEVENT
BEGIN:VEVENT
DTSTAMP:20260423T153432
DTSTART;TZID=Europe/Berlin:20260901T133000
DTEND;TZID=Europe/Berlin:20260901T174500
UID:26Z424304-20260901T133000@KÖLNER VHS
SUMMARY:Deutsch Sommer-Intensivkurs B1 (26Z424304) 
LOCATION:VHS Studienhaus, Raum 307, Cäcilienstr. 35, 50667 Köln
END:VEVENT
BEGIN:VEVENT
DTSTAMP:20260423T153432
DTSTART;TZID=Europe/Berlin:20260902T133000
DTEND;TZID=Europe/Berlin:20260902T174500
UID:26Z424304-20260902T133000@KÖLNER VHS
SUMMARY:Deutsch Sommer-Intensivkurs B1 (26Z424304) 
LOCATION:VHS Studienhaus, Raum 307, Cäcilienstr. 35, 50667 Köln
END:VEVENT
BEGIN:VEVENT
DTSTAMP:20260423T153432
DTSTART;TZID=Europe/Berlin:20260903T133000
DTEND;TZID=Europe/Berlin:20260903T174500
UID:26Z424304-20260903T133000@KÖLNER VHS
SUMMARY:Deutsch Sommer-Intensivkurs B1 (26Z424304) 
LOCATION:VHS Studienhaus, Raum 307, Cäcilienstr. 35, 50667 Köln
END:VEVENT
END:VCALENDAR