BEGIN:VCALENDAR
VERSION:2.0
PRODID:https://www.kufer.de/kuferweb / DE
METHOD:PUBLISH
CALSCALE:GREGORIAN
X-WR-TIMEZONE:Europe/Berlin
BEGIN:VTIMEZONE
TZID:Europe/Berlin
X-LIC-LOCATION:Europe/Berlin
BEGIN:DAYLIGHT
TZOFFSETFROM:+0100
TZOFFSETTO:+0200
TZNAME:CEST
DTSTART:19700329T020000
RRULE:FREQ=YEARLY;INTERVAL=1;BYDAY=-1SU;BYMONTH=3
END:DAYLIGHT
BEGIN:STANDARD
TZOFFSETFROM:+0200
TZOFFSETTO:+0100
TZNAME:CET
DTSTART:19701025T030000
RRULE:FREQ=YEARLY;INTERVAL=1;BYDAY=-1SU;BYMONTH=10
END:STANDARD
END:VTIMEZONE
BEGIN:VEVENT
DTSTAMP:20260419T184306
DTSTART;TZID=Europe/Berlin:20260420T183000
DTEND;TZID=Europe/Berlin:20260420T213000
UID:26Z423318-20260420T183000@KÖLNER VHS
SUMMARY:Deutsch Schnellkurs B1.1 (26Z423318) 
LOCATION:VHS Studienhaus, Raum 305, Cäcilienstr. 35, 50667 Köln
END:VEVENT
BEGIN:VEVENT
DTSTAMP:20260419T184306
DTSTART;TZID=Europe/Berlin:20260422T183000
DTEND;TZID=Europe/Berlin:20260422T213000
UID:26Z423318-20260422T183000@KÖLNER VHS
SUMMARY:Deutsch Schnellkurs B1.1 (26Z423318) 
LOCATION:VHS Studienhaus, Raum 402, Cäcilienstr. 35, 50667 Köln
END:VEVENT
BEGIN:VEVENT
DTSTAMP:20260419T184306
DTSTART;TZID=Europe/Berlin:20260427T183000
DTEND;TZID=Europe/Berlin:20260427T213000
UID:26Z423318-20260427T183000@KÖLNER VHS
SUMMARY:Deutsch Schnellkurs B1.1 (26Z423318) 
LOCATION:VHS Studienhaus, Raum 305, Cäcilienstr. 35, 50667 Köln
END:VEVENT
BEGIN:VEVENT
DTSTAMP:20260419T184306
DTSTART;TZID=Europe/Berlin:20260429T183000
DTEND;TZID=Europe/Berlin:20260429T213000
UID:26Z423318-20260429T183000@KÖLNER VHS
SUMMARY:Deutsch Schnellkurs B1.1 (26Z423318) 
LOCATION:VHS Studienhaus, Raum 402, Cäcilienstr. 35, 50667 Köln
END:VEVENT
BEGIN:VEVENT
DTSTAMP:20260419T184306
DTSTART;TZID=Europe/Berlin:20260504T183000
DTEND;TZID=Europe/Berlin:20260504T213000
UID:26Z423318-20260504T183000@KÖLNER VHS
SUMMARY:Deutsch Schnellkurs B1.1 (26Z423318) 
LOCATION:VHS Studienhaus, Raum 305, Cäcilienstr. 35, 50667 Köln
END:VEVENT
BEGIN:VEVENT
DTSTAMP:20260419T184306
DTSTART;TZID=Europe/Berlin:20260506T183000
DTEND;TZID=Europe/Berlin:20260506T213000
UID:26Z423318-20260506T183000@KÖLNER VHS
SUMMARY:Deutsch Schnellkurs B1.1 (26Z423318) 
LOCATION:VHS Studienhaus, Raum 402, Cäcilienstr. 35, 50667 Köln
END:VEVENT
BEGIN:VEVENT
DTSTAMP:20260419T184306
DTSTART;TZID=Europe/Berlin:20260511T183000
DTEND;TZID=Europe/Berlin:20260511T213000
UID:26Z423318-20260511T183000@KÖLNER VHS
SUMMARY:Deutsch Schnellkurs B1.1 (26Z423318) 
LOCATION:VHS Studienhaus, Raum 305, Cäcilienstr. 35, 50667 Köln
END:VEVENT
BEGIN:VEVENT
DTSTAMP:20260419T184306
DTSTART;TZID=Europe/Berlin:20260513T183000
DTEND;TZID=Europe/Berlin:20260513T213000
UID:26Z423318-20260513T183000@KÖLNER VHS
SUMMARY:Deutsch Schnellkurs B1.1 (26Z423318) 
LOCATION:VHS Studienhaus, Raum 402, Cäcilienstr. 35, 50667 Köln
END:VEVENT
BEGIN:VEVENT
DTSTAMP:20260419T184306
DTSTART;TZID=Europe/Berlin:20260518T183000
DTEND;TZID=Europe/Berlin:20260518T213000
UID:26Z423318-20260518T183000@KÖLNER VHS
SUMMARY:Deutsch Schnellkurs B1.1 (26Z423318) 
LOCATION:VHS Studienhaus, Raum 305, Cäcilienstr. 35, 50667 Köln
END:VEVENT
BEGIN:VEVENT
DTSTAMP:20260419T184306
DTSTART;TZID=Europe/Berlin:20260520T183000
DTEND;TZID=Europe/Berlin:20260520T213000
UID:26Z423318-20260520T183000@KÖLNER VHS
SUMMARY:Deutsch Schnellkurs B1.1 (26Z423318) 
LOCATION:VHS Studienhaus, Raum 402, Cäcilienstr. 35, 50667 Köln
END:VEVENT
BEGIN:VEVENT
DTSTAMP:20260419T184306
DTSTART;TZID=Europe/Berlin:20260527T183000
DTEND;TZID=Europe/Berlin:20260527T213000
UID:26Z423318-20260527T183000@KÖLNER VHS
SUMMARY:Deutsch Schnellkurs B1.1 (26Z423318) 
LOCATION:VHS Studienhaus, Raum 402, Cäcilienstr. 35, 50667 Köln
END:VEVENT
BEGIN:VEVENT
DTSTAMP:20260419T184306
DTSTART;TZID=Europe/Berlin:20260601T183000
DTEND;TZID=Europe/Berlin:20260601T213000
UID:26Z423318-20260601T183000@KÖLNER VHS
SUMMARY:Deutsch Schnellkurs B1.1 (26Z423318) 
LOCATION:VHS Studienhaus, Raum 305, Cäcilienstr. 35, 50667 Köln
END:VEVENT
BEGIN:VEVENT
DTSTAMP:20260419T184306
DTSTART;TZID=Europe/Berlin:20260603T183000
DTEND;TZID=Europe/Berlin:20260603T213000
UID:26Z423318-20260603T183000@KÖLNER VHS
SUMMARY:Deutsch Schnellkurs B1.1 (26Z423318) 
LOCATION:VHS Studienhaus, Raum 402, Cäcilienstr. 35, 50667 Köln
END:VEVENT
BEGIN:VEVENT
DTSTAMP:20260419T184306
DTSTART;TZID=Europe/Berlin:20260608T183000
DTEND;TZID=Europe/Berlin:20260608T213000
UID:26Z423318-20260608T183000@KÖLNER VHS
SUMMARY:Deutsch Schnellkurs B1.1 (26Z423318) 
LOCATION:VHS Studienhaus, Raum 305, Cäcilienstr. 35, 50667 Köln
END:VEVENT
BEGIN:VEVENT
DTSTAMP:20260419T184306
DTSTART;TZID=Europe/Berlin:20260610T183000
DTEND;TZID=Europe/Berlin:20260610T213000
UID:26Z423318-20260610T183000@KÖLNER VHS
SUMMARY:Deutsch Schnellkurs B1.1 (26Z423318) 
LOCATION:VHS Studienhaus, Raum 402, Cäcilienstr. 35, 50667 Köln
END:VEVENT
BEGIN:VEVENT
DTSTAMP:20260419T184306
DTSTART;TZID=Europe/Berlin:20260615T183000
DTEND;TZID=Europe/Berlin:20260615T213000
UID:26Z423318-20260615T183000@KÖLNER VHS
SUMMARY:Deutsch Schnellkurs B1.1 (26Z423318) 
LOCATION:VHS Studienhaus, Raum 305, Cäcilienstr. 35, 50667 Köln
END:VEVENT
BEGIN:VEVENT
DTSTAMP:20260419T184306
DTSTART;TZID=Europe/Berlin:20260617T183000
DTEND;TZID=Europe/Berlin:20260617T213000
UID:26Z423318-20260617T183000@KÖLNER VHS
SUMMARY:Deutsch Schnellkurs B1.1 (26Z423318) 
LOCATION:VHS Studienhaus, Raum 402, Cäcilienstr. 35, 50667 Köln
END:VEVENT
BEGIN:VEVENT
DTSTAMP:20260419T184306
DTSTART;TZID=Europe/Berlin:20260622T183000
DTEND;TZID=Europe/Berlin:20260622T213000
UID:26Z423318-20260622T183000@KÖLNER VHS
SUMMARY:Deutsch Schnellkurs B1.1 (26Z423318) 
LOCATION:VHS Studienhaus, Raum 305, Cäcilienstr. 35, 50667 Köln
END:VEVENT
BEGIN:VEVENT
DTSTAMP:20260419T184306
DTSTART;TZID=Europe/Berlin:20260624T183000
DTEND;TZID=Europe/Berlin:20260624T213000
UID:26Z423318-20260624T183000@KÖLNER VHS
SUMMARY:Deutsch Schnellkurs B1.1 (26Z423318) 
LOCATION:VHS Studienhaus, Raum 402, Cäcilienstr. 35, 50667 Köln
END:VEVENT
BEGIN:VEVENT
DTSTAMP:20260419T184306
DTSTART;TZID=Europe/Berlin:20260629T183000
DTEND;TZID=Europe/Berlin:20260629T213000
UID:26Z423318-20260629T183000@KÖLNER VHS
SUMMARY:Deutsch Schnellkurs B1.1 (26Z423318) 
LOCATION:VHS Studienhaus, Raum 305, Cäcilienstr. 35, 50667 Köln
END:VEVENT
BEGIN:VEVENT
DTSTAMP:20260419T184306
DTSTART;TZID=Europe/Berlin:20260701T183000
DTEND;TZID=Europe/Berlin:20260701T213000
UID:26Z423318-20260701T183000@KÖLNER VHS
SUMMARY:Deutsch Schnellkurs B1.1 (26Z423318) 
LOCATION:VHS Studienhaus, Raum 402, Cäcilienstr. 35, 50667 Köln
END:VEVENT
END:VCALENDAR