BEGIN:VCALENDAR
VERSION:2.0
PRODID:https://www.kufer.de/kuferweb / DE
METHOD:PUBLISH
CALSCALE:GREGORIAN
X-WR-TIMEZONE:Europe/Berlin
BEGIN:VTIMEZONE
TZID:Europe/Berlin
X-LIC-LOCATION:Europe/Berlin
BEGIN:DAYLIGHT
TZOFFSETFROM:+0100
TZOFFSETTO:+0200
TZNAME:CEST
DTSTART:19700329T020000
RRULE:FREQ=YEARLY;INTERVAL=1;BYDAY=-1SU;BYMONTH=3
END:DAYLIGHT
BEGIN:STANDARD
TZOFFSETFROM:+0200
TZOFFSETTO:+0100
TZNAME:CET
DTSTART:19701025T030000
RRULE:FREQ=YEARLY;INTERVAL=1;BYDAY=-1SU;BYMONTH=10
END:STANDARD
END:VTIMEZONE
BEGIN:VEVENT
DTSTAMP:20260419T222121
DTSTART;TZID=Europe/Berlin:20260414T130000
DTEND;TZID=Europe/Berlin:20260414T170000
UID:26Z422387-20260414T130000@KÖLNER VHS
SUMMARY:Deutsch Intensivkurs B1+ (26Z422387) 
LOCATION:VHS Studienhaus, Raum 416, Cäcilienstr. 35, 50667 Köln
END:VEVENT
BEGIN:VEVENT
DTSTAMP:20260419T222121
DTSTART;TZID=Europe/Berlin:20260415T130000
DTEND;TZID=Europe/Berlin:20260415T170000
UID:26Z422387-20260415T130000@KÖLNER VHS
SUMMARY:Deutsch Intensivkurs B1+ (26Z422387) 
LOCATION:VHS Studienhaus, Raum 416, Cäcilienstr. 35, 50667 Köln
END:VEVENT
BEGIN:VEVENT
DTSTAMP:20260419T222121
DTSTART;TZID=Europe/Berlin:20260416T130000
DTEND;TZID=Europe/Berlin:20260416T170000
UID:26Z422387-20260416T130000@KÖLNER VHS
SUMMARY:Deutsch Intensivkurs B1+ (26Z422387) 
LOCATION:VHS Studienhaus, Raum 115, Cäcilienstr. 35, 50667 Köln
END:VEVENT
BEGIN:VEVENT
DTSTAMP:20260419T222121
DTSTART;TZID=Europe/Berlin:20260417T130000
DTEND;TZID=Europe/Berlin:20260417T170000
UID:26Z422387-20260417T130000@KÖLNER VHS
SUMMARY:Deutsch Intensivkurs B1+ (26Z422387) 
LOCATION:VHS Studienhaus, Raum 115, Cäcilienstr. 35, 50667 Köln
END:VEVENT
BEGIN:VEVENT
DTSTAMP:20260419T222121
DTSTART;TZID=Europe/Berlin:20260421T130000
DTEND;TZID=Europe/Berlin:20260421T170000
UID:26Z422387-20260421T130000@KÖLNER VHS
SUMMARY:Deutsch Intensivkurs B1+ (26Z422387) 
LOCATION:VHS Studienhaus, Raum 416, Cäcilienstr. 35, 50667 Köln
END:VEVENT
BEGIN:VEVENT
DTSTAMP:20260419T222121
DTSTART;TZID=Europe/Berlin:20260422T130000
DTEND;TZID=Europe/Berlin:20260422T170000
UID:26Z422387-20260422T130000@KÖLNER VHS
SUMMARY:Deutsch Intensivkurs B1+ (26Z422387) 
LOCATION:VHS Studienhaus, Raum 416, Cäcilienstr. 35, 50667 Köln
END:VEVENT
BEGIN:VEVENT
DTSTAMP:20260419T222121
DTSTART;TZID=Europe/Berlin:20260423T130000
DTEND;TZID=Europe/Berlin:20260423T170000
UID:26Z422387-20260423T130000@KÖLNER VHS
SUMMARY:Deutsch Intensivkurs B1+ (26Z422387) 
LOCATION:VHS Studienhaus, Raum 115, Cäcilienstr. 35, 50667 Köln
END:VEVENT
BEGIN:VEVENT
DTSTAMP:20260419T222121
DTSTART;TZID=Europe/Berlin:20260424T130000
DTEND;TZID=Europe/Berlin:20260424T170000
UID:26Z422387-20260424T130000@KÖLNER VHS
SUMMARY:Deutsch Intensivkurs B1+ (26Z422387) 
LOCATION:VHS Studienhaus, Raum 115, Cäcilienstr. 35, 50667 Köln
END:VEVENT
BEGIN:VEVENT
DTSTAMP:20260419T222121
DTSTART;TZID=Europe/Berlin:20260428T130000
DTEND;TZID=Europe/Berlin:20260428T170000
UID:26Z422387-20260428T130000@KÖLNER VHS
SUMMARY:Deutsch Intensivkurs B1+ (26Z422387) 
LOCATION:VHS Studienhaus, Raum 416, Cäcilienstr. 35, 50667 Köln
END:VEVENT
BEGIN:VEVENT
DTSTAMP:20260419T222121
DTSTART;TZID=Europe/Berlin:20260429T130000
DTEND;TZID=Europe/Berlin:20260429T170000
UID:26Z422387-20260429T130000@KÖLNER VHS
SUMMARY:Deutsch Intensivkurs B1+ (26Z422387) 
LOCATION:VHS Studienhaus, Raum 416, Cäcilienstr. 35, 50667 Köln
END:VEVENT
BEGIN:VEVENT
DTSTAMP:20260419T222121
DTSTART;TZID=Europe/Berlin:20260430T130000
DTEND;TZID=Europe/Berlin:20260430T170000
UID:26Z422387-20260430T130000@KÖLNER VHS
SUMMARY:Deutsch Intensivkurs B1+ (26Z422387) 
LOCATION:VHS Studienhaus, Raum 115, Cäcilienstr. 35, 50667 Köln
END:VEVENT
BEGIN:VEVENT
DTSTAMP:20260419T222121
DTSTART;TZID=Europe/Berlin:20260505T130000
DTEND;TZID=Europe/Berlin:20260505T170000
UID:26Z422387-20260505T130000@KÖLNER VHS
SUMMARY:Deutsch Intensivkurs B1+ (26Z422387) 
LOCATION:VHS Studienhaus, Raum 416, Cäcilienstr. 35, 50667 Köln
END:VEVENT
BEGIN:VEVENT
DTSTAMP:20260419T222121
DTSTART;TZID=Europe/Berlin:20260506T130000
DTEND;TZID=Europe/Berlin:20260506T170000
UID:26Z422387-20260506T130000@KÖLNER VHS
SUMMARY:Deutsch Intensivkurs B1+ (26Z422387) 
LOCATION:VHS Studienhaus, Raum 416, Cäcilienstr. 35, 50667 Köln
END:VEVENT
BEGIN:VEVENT
DTSTAMP:20260419T222121
DTSTART;TZID=Europe/Berlin:20260507T130000
DTEND;TZID=Europe/Berlin:20260507T170000
UID:26Z422387-20260507T130000@KÖLNER VHS
SUMMARY:Deutsch Intensivkurs B1+ (26Z422387) 
LOCATION:VHS Studienhaus, Raum 115, Cäcilienstr. 35, 50667 Köln
END:VEVENT
BEGIN:VEVENT
DTSTAMP:20260419T222121
DTSTART;TZID=Europe/Berlin:20260508T130000
DTEND;TZID=Europe/Berlin:20260508T170000
UID:26Z422387-20260508T130000@KÖLNER VHS
SUMMARY:Deutsch Intensivkurs B1+ (26Z422387) 
LOCATION:VHS Studienhaus, Raum 115, Cäcilienstr. 35, 50667 Köln
END:VEVENT
BEGIN:VEVENT
DTSTAMP:20260419T222121
DTSTART;TZID=Europe/Berlin:20260512T130000
DTEND;TZID=Europe/Berlin:20260512T170000
UID:26Z422387-20260512T130000@KÖLNER VHS
SUMMARY:Deutsch Intensivkurs B1+ (26Z422387) 
LOCATION:VHS Studienhaus, Raum 416, Cäcilienstr. 35, 50667 Köln
END:VEVENT
BEGIN:VEVENT
DTSTAMP:20260419T222121
DTSTART;TZID=Europe/Berlin:20260519T130000
DTEND;TZID=Europe/Berlin:20260519T170000
UID:26Z422387-20260519T130000@KÖLNER VHS
SUMMARY:Deutsch Intensivkurs B1+ (26Z422387) 
LOCATION:VHS Studienhaus, Raum 416, Cäcilienstr. 35, 50667 Köln
END:VEVENT
BEGIN:VEVENT
DTSTAMP:20260419T222121
DTSTART;TZID=Europe/Berlin:20260520T130000
DTEND;TZID=Europe/Berlin:20260520T170000
UID:26Z422387-20260520T130000@KÖLNER VHS
SUMMARY:Deutsch Intensivkurs B1+ (26Z422387) 
LOCATION:VHS Studienhaus, Raum 416, Cäcilienstr. 35, 50667 Köln
END:VEVENT
BEGIN:VEVENT
DTSTAMP:20260419T222121
DTSTART;TZID=Europe/Berlin:20260521T130000
DTEND;TZID=Europe/Berlin:20260521T170000
UID:26Z422387-20260521T130000@KÖLNER VHS
SUMMARY:Deutsch Intensivkurs B1+ (26Z422387) 
LOCATION:VHS Studienhaus, Raum 115, Cäcilienstr. 35, 50667 Köln
END:VEVENT
BEGIN:VEVENT
DTSTAMP:20260419T222121
DTSTART;TZID=Europe/Berlin:20260522T130000
DTEND;TZID=Europe/Berlin:20260522T170000
UID:26Z422387-20260522T130000@KÖLNER VHS
SUMMARY:Deutsch Intensivkurs B1+ (26Z422387) 
LOCATION:VHS Studienhaus, Raum 115, Cäcilienstr. 35, 50667 Köln
END:VEVENT
BEGIN:VEVENT
DTSTAMP:20260419T222121
DTSTART;TZID=Europe/Berlin:20260526T130000
DTEND;TZID=Europe/Berlin:20260526T170000
UID:26Z422387-20260526T130000@KÖLNER VHS
SUMMARY:Deutsch Intensivkurs B1+ (26Z422387) 
LOCATION:VHS Studienhaus, Raum 416, Cäcilienstr. 35, 50667 Köln
END:VEVENT
BEGIN:VEVENT
DTSTAMP:20260419T222121
DTSTART;TZID=Europe/Berlin:20260527T130000
DTEND;TZID=Europe/Berlin:20260527T170000
UID:26Z422387-20260527T130000@KÖLNER VHS
SUMMARY:Deutsch Intensivkurs B1+ (26Z422387) 
LOCATION:VHS Studienhaus, Raum 416, Cäcilienstr. 35, 50667 Köln
END:VEVENT
BEGIN:VEVENT
DTSTAMP:20260419T222121
DTSTART;TZID=Europe/Berlin:20260528T130000
DTEND;TZID=Europe/Berlin:20260528T170000
UID:26Z422387-20260528T130000@KÖLNER VHS
SUMMARY:Deutsch Intensivkurs B1+ (26Z422387) 
LOCATION:VHS Studienhaus, Raum 115, Cäcilienstr. 35, 50667 Köln
END:VEVENT
BEGIN:VEVENT
DTSTAMP:20260419T222121
DTSTART;TZID=Europe/Berlin:20260529T130000
DTEND;TZID=Europe/Berlin:20260529T170000
UID:26Z422387-20260529T130000@KÖLNER VHS
SUMMARY:Deutsch Intensivkurs B1+ (26Z422387) 
LOCATION:VHS Studienhaus, Raum 115, Cäcilienstr. 35, 50667 Köln
END:VEVENT
BEGIN:VEVENT
DTSTAMP:20260419T222121
DTSTART;TZID=Europe/Berlin:20260601T130000
DTEND;TZID=Europe/Berlin:20260601T170000
UID:26Z422387-20260601T130000@KÖLNER VHS
DESCRIPTION:Ersatz für Ausfall am 05.06.2026
SUMMARY:Deutsch Intensivkurs B1+ (26Z422387) 
LOCATION:VHS Studienhaus, Raum 0.11, Cäcilienstr. 35, 50667 Köln
END:VEVENT
BEGIN:VEVENT
DTSTAMP:20260419T222121
DTSTART;TZID=Europe/Berlin:20260602T130000
DTEND;TZID=Europe/Berlin:20260602T170000
UID:26Z422387-20260602T130000@KÖLNER VHS
SUMMARY:Deutsch Intensivkurs B1+ (26Z422387) 
LOCATION:VHS Studienhaus, Raum 416, Cäcilienstr. 35, 50667 Köln
END:VEVENT
BEGIN:VEVENT
DTSTAMP:20260419T222121
DTSTART;TZID=Europe/Berlin:20260603T130000
DTEND;TZID=Europe/Berlin:20260603T170000
UID:26Z422387-20260603T130000@KÖLNER VHS
SUMMARY:Deutsch Intensivkurs B1+ (26Z422387) 
LOCATION:VHS Studienhaus, Raum 416, Cäcilienstr. 35, 50667 Köln
END:VEVENT
BEGIN:VEVENT
DTSTAMP:20260419T222121
DTSTART;TZID=Europe/Berlin:20260609T130000
DTEND;TZID=Europe/Berlin:20260609T170000
UID:26Z422387-20260609T130000@KÖLNER VHS
SUMMARY:Deutsch Intensivkurs B1+ (26Z422387) 
LOCATION:VHS Studienhaus, Raum 416, Cäcilienstr. 35, 50667 Köln
END:VEVENT
BEGIN:VEVENT
DTSTAMP:20260419T222121
DTSTART;TZID=Europe/Berlin:20260610T130000
DTEND;TZID=Europe/Berlin:20260610T170000
UID:26Z422387-20260610T130000@KÖLNER VHS
SUMMARY:Deutsch Intensivkurs B1+ (26Z422387) 
LOCATION:VHS Studienhaus, Raum 416, Cäcilienstr. 35, 50667 Köln
END:VEVENT
BEGIN:VEVENT
DTSTAMP:20260419T222121
DTSTART;TZID=Europe/Berlin:20260611T130000
DTEND;TZID=Europe/Berlin:20260611T170000
UID:26Z422387-20260611T130000@KÖLNER VHS
SUMMARY:Deutsch Intensivkurs B1+ (26Z422387) 
LOCATION:VHS Studienhaus, Raum 115, Cäcilienstr. 35, 50667 Köln
END:VEVENT
BEGIN:VEVENT
DTSTAMP:20260419T222121
DTSTART;TZID=Europe/Berlin:20260612T130000
DTEND;TZID=Europe/Berlin:20260612T170000
UID:26Z422387-20260612T130000@KÖLNER VHS
SUMMARY:Deutsch Intensivkurs B1+ (26Z422387) 
LOCATION:VHS Studienhaus, Raum 115, Cäcilienstr. 35, 50667 Köln
END:VEVENT
BEGIN:VEVENT
DTSTAMP:20260419T222121
DTSTART;TZID=Europe/Berlin:20260615T130000
DTEND;TZID=Europe/Berlin:20260615T170000
UID:26Z422387-20260615T130000@KÖLNER VHS
DESCRIPTION:Ersatz für Ausfall am 15.05.2026
SUMMARY:Deutsch Intensivkurs B1+ (26Z422387) 
LOCATION:VHS Studienhaus, Raum 416, Cäcilienstr. 35, 50667 Köln
END:VEVENT
BEGIN:VEVENT
DTSTAMP:20260419T222121
DTSTART;TZID=Europe/Berlin:20260616T130000
DTEND;TZID=Europe/Berlin:20260616T170000
UID:26Z422387-20260616T130000@KÖLNER VHS
SUMMARY:Deutsch Intensivkurs B1+ (26Z422387) 
LOCATION:VHS Studienhaus, Raum 416, Cäcilienstr. 35, 50667 Köln
END:VEVENT
BEGIN:VEVENT
DTSTAMP:20260419T222121
DTSTART;TZID=Europe/Berlin:20260617T130000
DTEND;TZID=Europe/Berlin:20260617T170000
UID:26Z422387-20260617T130000@KÖLNER VHS
SUMMARY:Deutsch Intensivkurs B1+ (26Z422387) 
LOCATION:VHS Studienhaus, Raum 416, Cäcilienstr. 35, 50667 Köln
END:VEVENT
BEGIN:VEVENT
DTSTAMP:20260419T222121
DTSTART;TZID=Europe/Berlin:20260618T130000
DTEND;TZID=Europe/Berlin:20260618T170000
UID:26Z422387-20260618T130000@KÖLNER VHS
SUMMARY:Deutsch Intensivkurs B1+ (26Z422387) 
LOCATION:VHS Studienhaus, Raum 115, Cäcilienstr. 35, 50667 Köln
END:VEVENT
BEGIN:VEVENT
DTSTAMP:20260419T222121
DTSTART;TZID=Europe/Berlin:20260619T130000
DTEND;TZID=Europe/Berlin:20260619T170000
UID:26Z422387-20260619T130000@KÖLNER VHS
SUMMARY:Deutsch Intensivkurs B1+ (26Z422387) 
LOCATION:VHS Studienhaus, Raum 115, Cäcilienstr. 35, 50667 Köln
END:VEVENT
BEGIN:VEVENT
DTSTAMP:20260419T222121
DTSTART;TZID=Europe/Berlin:20260623T130000
DTEND;TZID=Europe/Berlin:20260623T170000
UID:26Z422387-20260623T130000@KÖLNER VHS
SUMMARY:Deutsch Intensivkurs B1+ (26Z422387) 
LOCATION:VHS Studienhaus, Raum 416, Cäcilienstr. 35, 50667 Köln
END:VEVENT
BEGIN:VEVENT
DTSTAMP:20260419T222121
DTSTART;TZID=Europe/Berlin:20260624T130000
DTEND;TZID=Europe/Berlin:20260624T170000
UID:26Z422387-20260624T130000@KÖLNER VHS
SUMMARY:Deutsch Intensivkurs B1+ (26Z422387) 
LOCATION:VHS Studienhaus, Raum 416, Cäcilienstr. 35, 50667 Köln
END:VEVENT
BEGIN:VEVENT
DTSTAMP:20260419T222121
DTSTART;TZID=Europe/Berlin:20260625T130000
DTEND;TZID=Europe/Berlin:20260625T170000
UID:26Z422387-20260625T130000@KÖLNER VHS
SUMMARY:Deutsch Intensivkurs B1+ (26Z422387) 
LOCATION:VHS Studienhaus, Raum 115, Cäcilienstr. 35, 50667 Köln
END:VEVENT
BEGIN:VEVENT
DTSTAMP:20260419T222121
DTSTART;TZID=Europe/Berlin:20260626T130000
DTEND;TZID=Europe/Berlin:20260626T170000
UID:26Z422387-20260626T130000@KÖLNER VHS
DESCRIPTION:Ersatz für Ausfall am 13.05.2026
SUMMARY:Deutsch Intensivkurs B1+ (26Z422387) 
LOCATION:VHS Studienhaus, Raum 115, Cäcilienstr. 35, 50667 Köln
END:VEVENT
END:VCALENDAR