BEGIN:VCALENDAR
VERSION:2.0
PRODID:https://www.kufer.de/kuferweb / DE
METHOD:PUBLISH
CALSCALE:GREGORIAN
X-WR-TIMEZONE:Europe/Berlin
BEGIN:VTIMEZONE
TZID:Europe/Berlin
X-LIC-LOCATION:Europe/Berlin
BEGIN:DAYLIGHT
TZOFFSETFROM:+0100
TZOFFSETTO:+0200
TZNAME:CEST
DTSTART:19700329T020000
RRULE:FREQ=YEARLY;INTERVAL=1;BYDAY=-1SU;BYMONTH=3
END:DAYLIGHT
BEGIN:STANDARD
TZOFFSETFROM:+0200
TZOFFSETTO:+0100
TZNAME:CET
DTSTART:19701025T030000
RRULE:FREQ=YEARLY;INTERVAL=1;BYDAY=-1SU;BYMONTH=10
END:STANDARD
END:VTIMEZONE
BEGIN:VEVENT
DTSTAMP:20260419T172247
DTSTART;TZID=Europe/Berlin:20260520T083000
DTEND;TZID=Europe/Berlin:20260520T130000
UID:26Z422065-20260520T083000@KÖLNER VHS
SUMMARY:Deutsch Superintensivkurs für Studierende und Akademiker*innen C1.1 (26Z422065) 
LOCATION:VHS Studienhaus, Raum 0.08, Cäcilienstr. 35, 50667 Köln
END:VEVENT
BEGIN:VEVENT
DTSTAMP:20260419T172247
DTSTART;TZID=Europe/Berlin:20260521T083000
DTEND;TZID=Europe/Berlin:20260521T130000
UID:26Z422065-20260521T083000@KÖLNER VHS
SUMMARY:Deutsch Superintensivkurs für Studierende und Akademiker*innen C1.1 (26Z422065) 
LOCATION:VHS Studienhaus, Raum 0.08, Cäcilienstr. 35, 50667 Köln
END:VEVENT
BEGIN:VEVENT
DTSTAMP:20260419T172247
DTSTART;TZID=Europe/Berlin:20260522T083000
DTEND;TZID=Europe/Berlin:20260522T130000
UID:26Z422065-20260522T083000@KÖLNER VHS
SUMMARY:Deutsch Superintensivkurs für Studierende und Akademiker*innen C1.1 (26Z422065) 
LOCATION:VHS Studienhaus, Raum 0.08, Cäcilienstr. 35, 50667 Köln
END:VEVENT
BEGIN:VEVENT
DTSTAMP:20260419T172247
DTSTART;TZID=Europe/Berlin:20260527T083000
DTEND;TZID=Europe/Berlin:20260527T130000
UID:26Z422065-20260527T083000@KÖLNER VHS
SUMMARY:Deutsch Superintensivkurs für Studierende und Akademiker*innen C1.1 (26Z422065) 
LOCATION:VHS Studienhaus, Raum 0.08, Cäcilienstr. 35, 50667 Köln
END:VEVENT
BEGIN:VEVENT
DTSTAMP:20260419T172247
DTSTART;TZID=Europe/Berlin:20260528T083000
DTEND;TZID=Europe/Berlin:20260528T130000
UID:26Z422065-20260528T083000@KÖLNER VHS
SUMMARY:Deutsch Superintensivkurs für Studierende und Akademiker*innen C1.1 (26Z422065) 
LOCATION:VHS Studienhaus, Raum 0.08, Cäcilienstr. 35, 50667 Köln
END:VEVENT
BEGIN:VEVENT
DTSTAMP:20260419T172247
DTSTART;TZID=Europe/Berlin:20260529T083000
DTEND;TZID=Europe/Berlin:20260529T130000
UID:26Z422065-20260529T083000@KÖLNER VHS
SUMMARY:Deutsch Superintensivkurs für Studierende und Akademiker*innen C1.1 (26Z422065) 
LOCATION:VHS Studienhaus, Raum 0.08, Cäcilienstr. 35, 50667 Köln
END:VEVENT
BEGIN:VEVENT
DTSTAMP:20260419T172247
DTSTART;TZID=Europe/Berlin:20260601T083000
DTEND;TZID=Europe/Berlin:20260601T130000
UID:26Z422065-20260601T083000@KÖLNER VHS
SUMMARY:Deutsch Superintensivkurs für Studierende und Akademiker*innen C1.1 (26Z422065) 
LOCATION:VHS Studienhaus, Raum 0.08, Cäcilienstr. 35, 50667 Köln
END:VEVENT
BEGIN:VEVENT
DTSTAMP:20260419T172247
DTSTART;TZID=Europe/Berlin:20260602T083000
DTEND;TZID=Europe/Berlin:20260602T130000
UID:26Z422065-20260602T083000@KÖLNER VHS
SUMMARY:Deutsch Superintensivkurs für Studierende und Akademiker*innen C1.1 (26Z422065) 
LOCATION:VHS Studienhaus, Raum 0.08, Cäcilienstr. 35, 50667 Köln
END:VEVENT
BEGIN:VEVENT
DTSTAMP:20260419T172247
DTSTART;TZID=Europe/Berlin:20260603T083000
DTEND;TZID=Europe/Berlin:20260603T130000
UID:26Z422065-20260603T083000@KÖLNER VHS
SUMMARY:Deutsch Superintensivkurs für Studierende und Akademiker*innen C1.1 (26Z422065) 
LOCATION:VHS Studienhaus, Raum 0.08, Cäcilienstr. 35, 50667 Köln
END:VEVENT
BEGIN:VEVENT
DTSTAMP:20260419T172247
DTSTART;TZID=Europe/Berlin:20260608T083000
DTEND;TZID=Europe/Berlin:20260608T130000
UID:26Z422065-20260608T083000@KÖLNER VHS
SUMMARY:Deutsch Superintensivkurs für Studierende und Akademiker*innen C1.1 (26Z422065) 
LOCATION:VHS Studienhaus, Raum 0.08, Cäcilienstr. 35, 50667 Köln
END:VEVENT
BEGIN:VEVENT
DTSTAMP:20260419T172247
DTSTART;TZID=Europe/Berlin:20260609T083000
DTEND;TZID=Europe/Berlin:20260609T130000
UID:26Z422065-20260609T083000@KÖLNER VHS
SUMMARY:Deutsch Superintensivkurs für Studierende und Akademiker*innen C1.1 (26Z422065) 
LOCATION:VHS Studienhaus, Raum 0.08, Cäcilienstr. 35, 50667 Köln
END:VEVENT
BEGIN:VEVENT
DTSTAMP:20260419T172247
DTSTART;TZID=Europe/Berlin:20260610T083000
DTEND;TZID=Europe/Berlin:20260610T130000
UID:26Z422065-20260610T083000@KÖLNER VHS
SUMMARY:Deutsch Superintensivkurs für Studierende und Akademiker*innen C1.1 (26Z422065) 
LOCATION:VHS Studienhaus, Raum 0.08, Cäcilienstr. 35, 50667 Köln
END:VEVENT
BEGIN:VEVENT
DTSTAMP:20260419T172247
DTSTART;TZID=Europe/Berlin:20260611T083000
DTEND;TZID=Europe/Berlin:20260611T130000
UID:26Z422065-20260611T083000@KÖLNER VHS
SUMMARY:Deutsch Superintensivkurs für Studierende und Akademiker*innen C1.1 (26Z422065) 
LOCATION:VHS Studienhaus, Raum 0.08, Cäcilienstr. 35, 50667 Köln
END:VEVENT
BEGIN:VEVENT
DTSTAMP:20260419T172247
DTSTART;TZID=Europe/Berlin:20260612T083000
DTEND;TZID=Europe/Berlin:20260612T130000
UID:26Z422065-20260612T083000@KÖLNER VHS
SUMMARY:Deutsch Superintensivkurs für Studierende und Akademiker*innen C1.1 (26Z422065) 
LOCATION:VHS Studienhaus, Raum 0.08, Cäcilienstr. 35, 50667 Köln
END:VEVENT
BEGIN:VEVENT
DTSTAMP:20260419T172247
DTSTART;TZID=Europe/Berlin:20260615T083000
DTEND;TZID=Europe/Berlin:20260615T130000
UID:26Z422065-20260615T083000@KÖLNER VHS
SUMMARY:Deutsch Superintensivkurs für Studierende und Akademiker*innen C1.1 (26Z422065) 
LOCATION:VHS Studienhaus, Raum 0.08, Cäcilienstr. 35, 50667 Köln
END:VEVENT
BEGIN:VEVENT
DTSTAMP:20260419T172247
DTSTART;TZID=Europe/Berlin:20260616T083000
DTEND;TZID=Europe/Berlin:20260616T130000
UID:26Z422065-20260616T083000@KÖLNER VHS
SUMMARY:Deutsch Superintensivkurs für Studierende und Akademiker*innen C1.1 (26Z422065) 
LOCATION:VHS Studienhaus, Raum 0.08, Cäcilienstr. 35, 50667 Köln
END:VEVENT
BEGIN:VEVENT
DTSTAMP:20260419T172247
DTSTART;TZID=Europe/Berlin:20260617T083000
DTEND;TZID=Europe/Berlin:20260617T130000
UID:26Z422065-20260617T083000@KÖLNER VHS
SUMMARY:Deutsch Superintensivkurs für Studierende und Akademiker*innen C1.1 (26Z422065) 
LOCATION:VHS Studienhaus, Raum 0.08, Cäcilienstr. 35, 50667 Köln
END:VEVENT
BEGIN:VEVENT
DTSTAMP:20260419T172247
DTSTART;TZID=Europe/Berlin:20260618T083000
DTEND;TZID=Europe/Berlin:20260618T130000
UID:26Z422065-20260618T083000@KÖLNER VHS
SUMMARY:Deutsch Superintensivkurs für Studierende und Akademiker*innen C1.1 (26Z422065) 
LOCATION:VHS Studienhaus, Raum 0.08, Cäcilienstr. 35, 50667 Köln
END:VEVENT
BEGIN:VEVENT
DTSTAMP:20260419T172247
DTSTART;TZID=Europe/Berlin:20260619T083000
DTEND;TZID=Europe/Berlin:20260619T130000
UID:26Z422065-20260619T083000@KÖLNER VHS
SUMMARY:Deutsch Superintensivkurs für Studierende und Akademiker*innen C1.1 (26Z422065) 
LOCATION:VHS Studienhaus, Raum 0.08, Cäcilienstr. 35, 50667 Köln
END:VEVENT
BEGIN:VEVENT
DTSTAMP:20260419T172247
DTSTART;TZID=Europe/Berlin:20260622T083000
DTEND;TZID=Europe/Berlin:20260622T130000
UID:26Z422065-20260622T083000@KÖLNER VHS
SUMMARY:Deutsch Superintensivkurs für Studierende und Akademiker*innen C1.1 (26Z422065) 
LOCATION:VHS Studienhaus, Raum 0.08, Cäcilienstr. 35, 50667 Köln
END:VEVENT
BEGIN:VEVENT
DTSTAMP:20260419T172247
DTSTART;TZID=Europe/Berlin:20260623T083000
DTEND;TZID=Europe/Berlin:20260623T130000
UID:26Z422065-20260623T083000@KÖLNER VHS
SUMMARY:Deutsch Superintensivkurs für Studierende und Akademiker*innen C1.1 (26Z422065) 
LOCATION:VHS Studienhaus, Raum 0.08, Cäcilienstr. 35, 50667 Köln
END:VEVENT
BEGIN:VEVENT
DTSTAMP:20260419T172247
DTSTART;TZID=Europe/Berlin:20260624T083000
DTEND;TZID=Europe/Berlin:20260624T130000
UID:26Z422065-20260624T083000@KÖLNER VHS
SUMMARY:Deutsch Superintensivkurs für Studierende und Akademiker*innen C1.1 (26Z422065) 
LOCATION:VHS Studienhaus, Raum 0.08, Cäcilienstr. 35, 50667 Köln
END:VEVENT
BEGIN:VEVENT
DTSTAMP:20260419T172247
DTSTART;TZID=Europe/Berlin:20260625T083000
DTEND;TZID=Europe/Berlin:20260625T130000
UID:26Z422065-20260625T083000@KÖLNER VHS
SUMMARY:Deutsch Superintensivkurs für Studierende und Akademiker*innen C1.1 (26Z422065) 
LOCATION:VHS Studienhaus, Raum 0.08, Cäcilienstr. 35, 50667 Köln
END:VEVENT
BEGIN:VEVENT
DTSTAMP:20260419T172247
DTSTART;TZID=Europe/Berlin:20260626T083000
DTEND;TZID=Europe/Berlin:20260626T130000
UID:26Z422065-20260626T083000@KÖLNER VHS
SUMMARY:Deutsch Superintensivkurs für Studierende und Akademiker*innen C1.1 (26Z422065) 
LOCATION:VHS Studienhaus, Raum 0.08, Cäcilienstr. 35, 50667 Köln
END:VEVENT
BEGIN:VEVENT
DTSTAMP:20260419T172247
DTSTART;TZID=Europe/Berlin:20260629T083000
DTEND;TZID=Europe/Berlin:20260629T130000
UID:26Z422065-20260629T083000@KÖLNER VHS
SUMMARY:Deutsch Superintensivkurs für Studierende und Akademiker*innen C1.1 (26Z422065) 
LOCATION:VHS Studienhaus, Raum 0.08, Cäcilienstr. 35, 50667 Köln
END:VEVENT
END:VCALENDAR