BEGIN:VCALENDAR
VERSION:2.0
PRODID:https://www.kufer.de/kuferweb / DE
METHOD:PUBLISH
CALSCALE:GREGORIAN
X-WR-TIMEZONE:Europe/Berlin
BEGIN:VTIMEZONE
TZID:Europe/Berlin
X-LIC-LOCATION:Europe/Berlin
BEGIN:DAYLIGHT
TZOFFSETFROM:+0100
TZOFFSETTO:+0200
TZNAME:CEST
DTSTART:19700329T020000
RRULE:FREQ=YEARLY;INTERVAL=1;BYDAY=-1SU;BYMONTH=3
END:DAYLIGHT
BEGIN:STANDARD
TZOFFSETFROM:+0200
TZOFFSETTO:+0100
TZNAME:CET
DTSTART:19701025T030000
RRULE:FREQ=YEARLY;INTERVAL=1;BYDAY=-1SU;BYMONTH=10
END:STANDARD
END:VTIMEZONE
BEGIN:VEVENT
DTSTAMP:20260419T185222
DTSTART;TZID=Europe/Berlin:20260320T083000
DTEND;TZID=Europe/Berlin:20260320T130000
UID:26Z422055-20260320T083000@KÖLNER VHS
SUMMARY:Deutsch Superintensivkurs für Studierende und Akademiker*innen B2.2 (26Z422055) 
LOCATION:VHS Studienhaus, Raum 0.08, Cäcilienstr. 35, 50667 Köln
END:VEVENT
BEGIN:VEVENT
DTSTAMP:20260419T185222
DTSTART;TZID=Europe/Berlin:20260323T083000
DTEND;TZID=Europe/Berlin:20260323T130000
UID:26Z422055-20260323T083000@KÖLNER VHS
SUMMARY:Deutsch Superintensivkurs für Studierende und Akademiker*innen B2.2 (26Z422055) 
LOCATION:VHS Studienhaus, Raum 408, Cäcilienstr. 35, 50667 Köln
END:VEVENT
BEGIN:VEVENT
DTSTAMP:20260419T185222
DTSTART;TZID=Europe/Berlin:20260324T083000
DTEND;TZID=Europe/Berlin:20260324T130000
UID:26Z422055-20260324T083000@KÖLNER VHS
SUMMARY:Deutsch Superintensivkurs für Studierende und Akademiker*innen B2.2 (26Z422055) 
LOCATION:VHS Studienhaus, Raum 0.08, Cäcilienstr. 35, 50667 Köln
END:VEVENT
BEGIN:VEVENT
DTSTAMP:20260419T185222
DTSTART;TZID=Europe/Berlin:20260325T083000
DTEND;TZID=Europe/Berlin:20260325T130000
UID:26Z422055-20260325T083000@KÖLNER VHS
SUMMARY:Deutsch Superintensivkurs für Studierende und Akademiker*innen B2.2 (26Z422055) 
LOCATION:VHS Studienhaus, Raum 0.08, Cäcilienstr. 35, 50667 Köln
END:VEVENT
BEGIN:VEVENT
DTSTAMP:20260419T185222
DTSTART;TZID=Europe/Berlin:20260326T083000
DTEND;TZID=Europe/Berlin:20260326T130000
UID:26Z422055-20260326T083000@KÖLNER VHS
SUMMARY:Deutsch Superintensivkurs für Studierende und Akademiker*innen B2.2 (26Z422055) 
LOCATION:VHS Studienhaus, Raum 0.08, Cäcilienstr. 35, 50667 Köln
END:VEVENT
BEGIN:VEVENT
DTSTAMP:20260419T185222
DTSTART;TZID=Europe/Berlin:20260327T083000
DTEND;TZID=Europe/Berlin:20260327T130000
UID:26Z422055-20260327T083000@KÖLNER VHS
SUMMARY:Deutsch Superintensivkurs für Studierende und Akademiker*innen B2.2 (26Z422055) 
LOCATION:VHS Studienhaus, Raum 0.08, Cäcilienstr. 35, 50667 Köln
END:VEVENT
BEGIN:VEVENT
DTSTAMP:20260419T185222
DTSTART;TZID=Europe/Berlin:20260330T083000
DTEND;TZID=Europe/Berlin:20260330T130000
UID:26Z422055-20260330T083000@KÖLNER VHS
SUMMARY:Deutsch Superintensivkurs für Studierende und Akademiker*innen B2.2 (26Z422055) 
LOCATION:VHS Studienhaus, Raum 408, Cäcilienstr. 35, 50667 Köln
END:VEVENT
BEGIN:VEVENT
DTSTAMP:20260419T185222
DTSTART;TZID=Europe/Berlin:20260331T083000
DTEND;TZID=Europe/Berlin:20260331T130000
UID:26Z422055-20260331T083000@KÖLNER VHS
SUMMARY:Deutsch Superintensivkurs für Studierende und Akademiker*innen B2.2 (26Z422055) 
LOCATION:VHS Studienhaus, Raum 0.08, Cäcilienstr. 35, 50667 Köln
END:VEVENT
BEGIN:VEVENT
DTSTAMP:20260419T185222
DTSTART;TZID=Europe/Berlin:20260401T083000
DTEND;TZID=Europe/Berlin:20260401T130000
UID:26Z422055-20260401T083000@KÖLNER VHS
SUMMARY:Deutsch Superintensivkurs für Studierende und Akademiker*innen B2.2 (26Z422055) 
LOCATION:VHS Studienhaus, Raum 0.08, Cäcilienstr. 35, 50667 Köln
END:VEVENT
BEGIN:VEVENT
DTSTAMP:20260419T185222
DTSTART;TZID=Europe/Berlin:20260402T083000
DTEND;TZID=Europe/Berlin:20260402T130000
UID:26Z422055-20260402T083000@KÖLNER VHS
SUMMARY:Deutsch Superintensivkurs für Studierende und Akademiker*innen B2.2 (26Z422055) 
LOCATION:VHS Studienhaus, Raum 0.08, Cäcilienstr. 35, 50667 Köln
END:VEVENT
BEGIN:VEVENT
DTSTAMP:20260419T185222
DTSTART;TZID=Europe/Berlin:20260413T083000
DTEND;TZID=Europe/Berlin:20260413T130000
UID:26Z422055-20260413T083000@KÖLNER VHS
SUMMARY:Deutsch Superintensivkurs für Studierende und Akademiker*innen B2.2 (26Z422055) 
LOCATION:VHS Studienhaus, Raum 0.07, Cäcilienstr. 35, 50667 Köln
END:VEVENT
BEGIN:VEVENT
DTSTAMP:20260419T185222
DTSTART;TZID=Europe/Berlin:20260414T083000
DTEND;TZID=Europe/Berlin:20260414T130000
UID:26Z422055-20260414T083000@KÖLNER VHS
SUMMARY:Deutsch Superintensivkurs für Studierende und Akademiker*innen B2.2 (26Z422055) 
LOCATION:VHS Studienhaus, Raum 0.08, Cäcilienstr. 35, 50667 Köln
END:VEVENT
BEGIN:VEVENT
DTSTAMP:20260419T185222
DTSTART;TZID=Europe/Berlin:20260415T083000
DTEND;TZID=Europe/Berlin:20260415T130000
UID:26Z422055-20260415T083000@KÖLNER VHS
SUMMARY:Deutsch Superintensivkurs für Studierende und Akademiker*innen B2.2 (26Z422055) 
LOCATION:VHS Studienhaus, Raum 0.08, Cäcilienstr. 35, 50667 Köln
END:VEVENT
BEGIN:VEVENT
DTSTAMP:20260419T185222
DTSTART;TZID=Europe/Berlin:20260416T083000
DTEND;TZID=Europe/Berlin:20260416T130000
UID:26Z422055-20260416T083000@KÖLNER VHS
SUMMARY:Deutsch Superintensivkurs für Studierende und Akademiker*innen B2.2 (26Z422055) 
LOCATION:VHS Studienhaus, Raum 0.08, Cäcilienstr. 35, 50667 Köln
END:VEVENT
BEGIN:VEVENT
DTSTAMP:20260419T185222
DTSTART;TZID=Europe/Berlin:20260417T083000
DTEND;TZID=Europe/Berlin:20260417T130000
UID:26Z422055-20260417T083000@KÖLNER VHS
SUMMARY:Deutsch Superintensivkurs für Studierende und Akademiker*innen B2.2 (26Z422055) 
LOCATION:VHS Studienhaus, Raum 0.08, Cäcilienstr. 35, 50667 Köln
END:VEVENT
BEGIN:VEVENT
DTSTAMP:20260419T185222
DTSTART;TZID=Europe/Berlin:20260420T083000
DTEND;TZID=Europe/Berlin:20260420T130000
UID:26Z422055-20260420T083000@KÖLNER VHS
SUMMARY:Deutsch Superintensivkurs für Studierende und Akademiker*innen B2.2 (26Z422055) 
LOCATION:VHS Studienhaus, Raum 0.07, Cäcilienstr. 35, 50667 Köln
END:VEVENT
BEGIN:VEVENT
DTSTAMP:20260419T185222
DTSTART;TZID=Europe/Berlin:20260421T083000
DTEND;TZID=Europe/Berlin:20260421T130000
UID:26Z422055-20260421T083000@KÖLNER VHS
SUMMARY:Deutsch Superintensivkurs für Studierende und Akademiker*innen B2.2 (26Z422055) 
LOCATION:VHS Studienhaus, Raum 0.08, Cäcilienstr. 35, 50667 Köln
END:VEVENT
BEGIN:VEVENT
DTSTAMP:20260419T185222
DTSTART;TZID=Europe/Berlin:20260422T083000
DTEND;TZID=Europe/Berlin:20260422T130000
UID:26Z422055-20260422T083000@KÖLNER VHS
SUMMARY:Deutsch Superintensivkurs für Studierende und Akademiker*innen B2.2 (26Z422055) 
LOCATION:VHS Studienhaus, Raum 0.08, Cäcilienstr. 35, 50667 Köln
END:VEVENT
BEGIN:VEVENT
DTSTAMP:20260419T185222
DTSTART;TZID=Europe/Berlin:20260423T083000
DTEND;TZID=Europe/Berlin:20260423T130000
UID:26Z422055-20260423T083000@KÖLNER VHS
SUMMARY:Deutsch Superintensivkurs für Studierende und Akademiker*innen B2.2 (26Z422055) 
LOCATION:VHS Studienhaus, Raum 0.08, Cäcilienstr. 35, 50667 Köln
END:VEVENT
BEGIN:VEVENT
DTSTAMP:20260419T185222
DTSTART;TZID=Europe/Berlin:20260424T083000
DTEND;TZID=Europe/Berlin:20260424T130000
UID:26Z422055-20260424T083000@KÖLNER VHS
SUMMARY:Deutsch Superintensivkurs für Studierende und Akademiker*innen B2.2 (26Z422055) 
LOCATION:VHS Studienhaus, Raum 0.08, Cäcilienstr. 35, 50667 Köln
END:VEVENT
BEGIN:VEVENT
DTSTAMP:20260419T185222
DTSTART;TZID=Europe/Berlin:20260427T083000
DTEND;TZID=Europe/Berlin:20260427T130000
UID:26Z422055-20260427T083000@KÖLNER VHS
SUMMARY:Deutsch Superintensivkurs für Studierende und Akademiker*innen B2.2 (26Z422055) 
LOCATION:VHS Studienhaus, Raum 0.07, Cäcilienstr. 35, 50667 Köln
END:VEVENT
BEGIN:VEVENT
DTSTAMP:20260419T185222
DTSTART;TZID=Europe/Berlin:20260428T083000
DTEND;TZID=Europe/Berlin:20260428T130000
UID:26Z422055-20260428T083000@KÖLNER VHS
SUMMARY:Deutsch Superintensivkurs für Studierende und Akademiker*innen B2.2 (26Z422055) 
LOCATION:VHS Studienhaus, Raum 0.08, Cäcilienstr. 35, 50667 Köln
END:VEVENT
BEGIN:VEVENT
DTSTAMP:20260419T185222
DTSTART;TZID=Europe/Berlin:20260429T083000
DTEND;TZID=Europe/Berlin:20260429T130000
UID:26Z422055-20260429T083000@KÖLNER VHS
SUMMARY:Deutsch Superintensivkurs für Studierende und Akademiker*innen B2.2 (26Z422055) 
LOCATION:VHS Studienhaus, Raum 0.08, Cäcilienstr. 35, 50667 Köln
END:VEVENT
BEGIN:VEVENT
DTSTAMP:20260419T185222
DTSTART;TZID=Europe/Berlin:20260430T083000
DTEND;TZID=Europe/Berlin:20260430T130000
UID:26Z422055-20260430T083000@KÖLNER VHS
SUMMARY:Deutsch Superintensivkurs für Studierende und Akademiker*innen B2.2 (26Z422055) 
LOCATION:VHS Studienhaus, Raum 0.08, Cäcilienstr. 35, 50667 Köln
END:VEVENT
BEGIN:VEVENT
DTSTAMP:20260419T185222
DTSTART;TZID=Europe/Berlin:20260504T083000
DTEND;TZID=Europe/Berlin:20260504T130000
UID:26Z422055-20260504T083000@KÖLNER VHS
SUMMARY:Deutsch Superintensivkurs für Studierende und Akademiker*innen B2.2 (26Z422055) 
LOCATION:VHS Studienhaus, Raum 0.07, Cäcilienstr. 35, 50667 Köln
END:VEVENT
BEGIN:VEVENT
DTSTAMP:20260419T185222
DTSTART;TZID=Europe/Berlin:20260505T083000
DTEND;TZID=Europe/Berlin:20260505T130000
UID:26Z422055-20260505T083000@KÖLNER VHS
SUMMARY:Deutsch Superintensivkurs für Studierende und Akademiker*innen B2.2 (26Z422055) 
LOCATION:VHS Studienhaus, Raum 0.08, Cäcilienstr. 35, 50667 Köln
END:VEVENT
BEGIN:VEVENT
DTSTAMP:20260419T185222
DTSTART;TZID=Europe/Berlin:20260506T083000
DTEND;TZID=Europe/Berlin:20260506T130000
UID:26Z422055-20260506T083000@KÖLNER VHS
SUMMARY:Deutsch Superintensivkurs für Studierende und Akademiker*innen B2.2 (26Z422055) 
LOCATION:VHS Studienhaus, Raum 0.08, Cäcilienstr. 35, 50667 Köln
END:VEVENT
BEGIN:VEVENT
DTSTAMP:20260419T185222
DTSTART;TZID=Europe/Berlin:20260507T083000
DTEND;TZID=Europe/Berlin:20260507T130000
UID:26Z422055-20260507T083000@KÖLNER VHS
SUMMARY:Deutsch Superintensivkurs für Studierende und Akademiker*innen B2.2 (26Z422055) 
LOCATION:VHS Studienhaus, Raum 0.08, Cäcilienstr. 35, 50667 Köln
END:VEVENT
BEGIN:VEVENT
DTSTAMP:20260419T185222
DTSTART;TZID=Europe/Berlin:20260508T083000
DTEND;TZID=Europe/Berlin:20260508T130000
UID:26Z422055-20260508T083000@KÖLNER VHS
SUMMARY:Deutsch Superintensivkurs für Studierende und Akademiker*innen B2.2 (26Z422055) 
LOCATION:VHS Studienhaus, Raum 0.08, Cäcilienstr. 35, 50667 Köln
END:VEVENT
BEGIN:VEVENT
DTSTAMP:20260419T185222
DTSTART;TZID=Europe/Berlin:20260511T083000
DTEND;TZID=Europe/Berlin:20260511T130000
UID:26Z422055-20260511T083000@KÖLNER VHS
SUMMARY:Deutsch Superintensivkurs für Studierende und Akademiker*innen B2.2 (26Z422055) 
LOCATION:VHS Studienhaus, Raum 0.07, Cäcilienstr. 35, 50667 Köln
END:VEVENT
BEGIN:VEVENT
DTSTAMP:20260419T185222
DTSTART;TZID=Europe/Berlin:20260512T083000
DTEND;TZID=Europe/Berlin:20260512T130000
UID:26Z422055-20260512T083000@KÖLNER VHS
SUMMARY:Deutsch Superintensivkurs für Studierende und Akademiker*innen B2.2 (26Z422055) 
LOCATION:VHS Studienhaus, Raum 0.08, Cäcilienstr. 35, 50667 Köln
END:VEVENT
BEGIN:VEVENT
DTSTAMP:20260419T185222
DTSTART;TZID=Europe/Berlin:20260513T083000
DTEND;TZID=Europe/Berlin:20260513T130000
UID:26Z422055-20260513T083000@KÖLNER VHS
SUMMARY:Deutsch Superintensivkurs für Studierende und Akademiker*innen B2.2 (26Z422055) 
LOCATION:VHS Studienhaus, Raum 0.08, Cäcilienstr. 35, 50667 Köln
END:VEVENT
BEGIN:VEVENT
DTSTAMP:20260419T185222
DTSTART;TZID=Europe/Berlin:20260515T083000
DTEND;TZID=Europe/Berlin:20260515T130000
UID:26Z422055-20260515T083000@KÖLNER VHS
SUMMARY:Deutsch Superintensivkurs für Studierende und Akademiker*innen B2.2 (26Z422055) 
LOCATION:VHS Studienhaus, Raum 0.08, Cäcilienstr. 35, 50667 Köln
END:VEVENT
BEGIN:VEVENT
DTSTAMP:20260419T185222
DTSTART;TZID=Europe/Berlin:20260518T083000
DTEND;TZID=Europe/Berlin:20260518T130000
UID:26Z422055-20260518T083000@KÖLNER VHS
SUMMARY:Deutsch Superintensivkurs für Studierende und Akademiker*innen B2.2 (26Z422055) 
LOCATION:VHS Studienhaus, Raum 0.08, Cäcilienstr. 35, 50667 Köln
END:VEVENT
BEGIN:VEVENT
DTSTAMP:20260419T185222
DTSTART;TZID=Europe/Berlin:20260519T083000
DTEND;TZID=Europe/Berlin:20260519T130000
UID:26Z422055-20260519T083000@KÖLNER VHS
SUMMARY:Deutsch Superintensivkurs für Studierende und Akademiker*innen B2.2 (26Z422055) 
LOCATION:VHS Studienhaus, Raum 0.08, Cäcilienstr. 35, 50667 Köln
END:VEVENT
END:VCALENDAR