BEGIN:VCALENDAR
VERSION:2.0
PRODID:https://www.kufer.de/kuferweb / DE
METHOD:PUBLISH
CALSCALE:GREGORIAN
X-WR-TIMEZONE:Europe/Berlin
BEGIN:VTIMEZONE
TZID:Europe/Berlin
X-LIC-LOCATION:Europe/Berlin
BEGIN:DAYLIGHT
TZOFFSETFROM:+0100
TZOFFSETTO:+0200
TZNAME:CEST
DTSTART:19700329T020000
RRULE:FREQ=YEARLY;INTERVAL=1;BYDAY=-1SU;BYMONTH=3
END:DAYLIGHT
BEGIN:STANDARD
TZOFFSETFROM:+0200
TZOFFSETTO:+0100
TZNAME:CET
DTSTART:19701025T030000
RRULE:FREQ=YEARLY;INTERVAL=1;BYDAY=-1SU;BYMONTH=10
END:STANDARD
END:VTIMEZONE
BEGIN:VEVENT
DTSTAMP:20260423T221341
DTSTART;TZID=Europe/Berlin:20261116T090000
DTEND;TZID=Europe/Berlin:20261116T160000
UID:26Z405120-20261116T090000@KÖLNER VHS
SUMMARY:Deutsche Gebärdensprache 1+2 Bildungsurlaub (26Z405120) 
LOCATION:VHS Studienhaus, Raum 209, Cäcilienstr. 35, 50667 Köln
END:VEVENT
BEGIN:VEVENT
DTSTAMP:20260423T221341
DTSTART;TZID=Europe/Berlin:20261117T090000
DTEND;TZID=Europe/Berlin:20261117T160000
UID:26Z405120-20261117T090000@KÖLNER VHS
SUMMARY:Deutsche Gebärdensprache 1+2 Bildungsurlaub (26Z405120) 
LOCATION:VHS Studienhaus, Raum 209, Cäcilienstr. 35, 50667 Köln
END:VEVENT
BEGIN:VEVENT
DTSTAMP:20260423T221341
DTSTART;TZID=Europe/Berlin:20261118T090000
DTEND;TZID=Europe/Berlin:20261118T160000
UID:26Z405120-20261118T090000@KÖLNER VHS
SUMMARY:Deutsche Gebärdensprache 1+2 Bildungsurlaub (26Z405120) 
LOCATION:VHS Studienhaus, Raum 209, Cäcilienstr. 35, 50667 Köln
END:VEVENT
BEGIN:VEVENT
DTSTAMP:20260423T221341
DTSTART;TZID=Europe/Berlin:20261119T090000
DTEND;TZID=Europe/Berlin:20261119T160000
UID:26Z405120-20261119T090000@KÖLNER VHS
SUMMARY:Deutsche Gebärdensprache 1+2 Bildungsurlaub (26Z405120) 
LOCATION:VHS Studienhaus, Raum 209, Cäcilienstr. 35, 50667 Köln
END:VEVENT
BEGIN:VEVENT
DTSTAMP:20260423T221341
DTSTART;TZID=Europe/Berlin:20261120T090000
DTEND;TZID=Europe/Berlin:20261120T160000
UID:26Z405120-20261120T090000@KÖLNER VHS
SUMMARY:Deutsche Gebärdensprache 1+2 Bildungsurlaub (26Z405120) 
LOCATION:VHS Studienhaus, Raum 209, Cäcilienstr. 35, 50667 Köln
END:VEVENT
END:VCALENDAR