BEGIN:VCALENDAR
VERSION:2.0
PRODID:https://www.kufer.de/kuferweb / DE
METHOD:PUBLISH
CALSCALE:GREGORIAN
X-WR-TIMEZONE:Europe/Berlin
BEGIN:VTIMEZONE
TZID:Europe/Berlin
X-LIC-LOCATION:Europe/Berlin
BEGIN:DAYLIGHT
TZOFFSETFROM:+0100
TZOFFSETTO:+0200
TZNAME:CEST
DTSTART:19700329T020000
RRULE:FREQ=YEARLY;INTERVAL=1;BYDAY=-1SU;BYMONTH=3
END:DAYLIGHT
BEGIN:STANDARD
TZOFFSETFROM:+0200
TZOFFSETTO:+0100
TZNAME:CET
DTSTART:19701025T030000
RRULE:FREQ=YEARLY;INTERVAL=1;BYDAY=-1SU;BYMONTH=10
END:STANDARD
END:VTIMEZONE
BEGIN:VEVENT
DTSTAMP:20260423T221241
DTSTART;TZID=Europe/Berlin:20260918T110000
DTEND;TZID=Europe/Berlin:20260918T123000
UID:26Z367223-20260918T110000@KÖLNER VHS
SUMMARY:Silberne Schwäne I - Sanftes Ballett zum Kennenlernen Ohne Vorkenntnisse (26Z367223) 
LOCATION:VHS Studienhaus, Raum 316, Cäcilienstr. 35, 50667 Köln
END:VEVENT
BEGIN:VEVENT
DTSTAMP:20260423T221241
DTSTART;TZID=Europe/Berlin:20260925T110000
DTEND;TZID=Europe/Berlin:20260925T123000
UID:26Z367223-20260925T110000@KÖLNER VHS
SUMMARY:Silberne Schwäne I - Sanftes Ballett zum Kennenlernen Ohne Vorkenntnisse (26Z367223) 
LOCATION:VHS Studienhaus, Raum 316, Cäcilienstr. 35, 50667 Köln
END:VEVENT
BEGIN:VEVENT
DTSTAMP:20260423T221241
DTSTART;TZID=Europe/Berlin:20261002T110000
DTEND;TZID=Europe/Berlin:20261002T123000
UID:26Z367223-20261002T110000@KÖLNER VHS
SUMMARY:Silberne Schwäne I - Sanftes Ballett zum Kennenlernen Ohne Vorkenntnisse (26Z367223) 
LOCATION:VHS Studienhaus, Raum 316, Cäcilienstr. 35, 50667 Köln
END:VEVENT
BEGIN:VEVENT
DTSTAMP:20260423T221241
DTSTART;TZID=Europe/Berlin:20261009T110000
DTEND;TZID=Europe/Berlin:20261009T123000
UID:26Z367223-20261009T110000@KÖLNER VHS
SUMMARY:Silberne Schwäne I - Sanftes Ballett zum Kennenlernen Ohne Vorkenntnisse (26Z367223) 
LOCATION:VHS Studienhaus, Raum 316, Cäcilienstr. 35, 50667 Köln
END:VEVENT
BEGIN:VEVENT
DTSTAMP:20260423T221241
DTSTART;TZID=Europe/Berlin:20261016T110000
DTEND;TZID=Europe/Berlin:20261016T123000
UID:26Z367223-20261016T110000@KÖLNER VHS
SUMMARY:Silberne Schwäne I - Sanftes Ballett zum Kennenlernen Ohne Vorkenntnisse (26Z367223) 
LOCATION:VHS Studienhaus, Raum 316, Cäcilienstr. 35, 50667 Köln
END:VEVENT
BEGIN:VEVENT
DTSTAMP:20260423T221241
DTSTART;TZID=Europe/Berlin:20261023T110000
DTEND;TZID=Europe/Berlin:20261023T123000
UID:26Z367223-20261023T110000@KÖLNER VHS
SUMMARY:Silberne Schwäne I - Sanftes Ballett zum Kennenlernen Ohne Vorkenntnisse (26Z367223) 
LOCATION:VHS Studienhaus, Raum 316, Cäcilienstr. 35, 50667 Köln
END:VEVENT
BEGIN:VEVENT
DTSTAMP:20260423T221241
DTSTART;TZID=Europe/Berlin:20261106T110000
DTEND;TZID=Europe/Berlin:20261106T123000
UID:26Z367223-20261106T110000@KÖLNER VHS
SUMMARY:Silberne Schwäne I - Sanftes Ballett zum Kennenlernen Ohne Vorkenntnisse (26Z367223) 
LOCATION:VHS Studienhaus, Raum 316, Cäcilienstr. 35, 50667 Köln
END:VEVENT
BEGIN:VEVENT
DTSTAMP:20260423T221241
DTSTART;TZID=Europe/Berlin:20261113T110000
DTEND;TZID=Europe/Berlin:20261113T123000
UID:26Z367223-20261113T110000@KÖLNER VHS
SUMMARY:Silberne Schwäne I - Sanftes Ballett zum Kennenlernen Ohne Vorkenntnisse (26Z367223) 
LOCATION:VHS Studienhaus, Raum 316, Cäcilienstr. 35, 50667 Köln
END:VEVENT
BEGIN:VEVENT
DTSTAMP:20260423T221241
DTSTART;TZID=Europe/Berlin:20261127T110000
DTEND;TZID=Europe/Berlin:20261127T123000
UID:26Z367223-20261127T110000@KÖLNER VHS
SUMMARY:Silberne Schwäne I - Sanftes Ballett zum Kennenlernen Ohne Vorkenntnisse (26Z367223) 
LOCATION:VHS Studienhaus, Raum 316, Cäcilienstr. 35, 50667 Köln
END:VEVENT
BEGIN:VEVENT
DTSTAMP:20260423T221241
DTSTART;TZID=Europe/Berlin:20261204T110000
DTEND;TZID=Europe/Berlin:20261204T123000
UID:26Z367223-20261204T110000@KÖLNER VHS
SUMMARY:Silberne Schwäne I - Sanftes Ballett zum Kennenlernen Ohne Vorkenntnisse (26Z367223) 
LOCATION:VHS Studienhaus, Raum 316, Cäcilienstr. 35, 50667 Köln
END:VEVENT
BEGIN:VEVENT
DTSTAMP:20260423T221241
DTSTART;TZID=Europe/Berlin:20261211T110000
DTEND;TZID=Europe/Berlin:20261211T123000
UID:26Z367223-20261211T110000@KÖLNER VHS
SUMMARY:Silberne Schwäne I - Sanftes Ballett zum Kennenlernen Ohne Vorkenntnisse (26Z367223) 
LOCATION:VHS Studienhaus, Raum 316, Cäcilienstr. 35, 50667 Köln
END:VEVENT
END:VCALENDAR