BEGIN:VCALENDAR
VERSION:2.0
PRODID:https://www.kufer.de/kuferweb / DE
METHOD:PUBLISH
CALSCALE:GREGORIAN
X-WR-TIMEZONE:Europe/Berlin
BEGIN:VTIMEZONE
TZID:Europe/Berlin
X-LIC-LOCATION:Europe/Berlin
BEGIN:DAYLIGHT
TZOFFSETFROM:+0100
TZOFFSETTO:+0200
TZNAME:CEST
DTSTART:19700329T020000
RRULE:FREQ=YEARLY;INTERVAL=1;BYDAY=-1SU;BYMONTH=3
END:DAYLIGHT
BEGIN:STANDARD
TZOFFSETFROM:+0200
TZOFFSETTO:+0100
TZNAME:CET
DTSTART:19701025T030000
RRULE:FREQ=YEARLY;INTERVAL=1;BYDAY=-1SU;BYMONTH=10
END:STANDARD
END:VTIMEZONE
BEGIN:VEVENT
DTSTAMP:20260423T234137
DTSTART;TZID=Europe/Berlin:20260416T093000
DTEND;TZID=Europe/Berlin:20260416T110000
UID:26Z367218-20260416T093000@KÖLNER VHS
SUMMARY:Silberne Schwäne - sanftes Ballett mit mittleren Vorkenntnissen (26Z367218) 
LOCATION:VHS Studienhaus, Raum 316, Cäcilienstr. 35, 50667 Köln
END:VEVENT
BEGIN:VEVENT
DTSTAMP:20260423T234137
DTSTART;TZID=Europe/Berlin:20260423T093000
DTEND;TZID=Europe/Berlin:20260423T110000
UID:26Z367218-20260423T093000@KÖLNER VHS
SUMMARY:Silberne Schwäne - sanftes Ballett mit mittleren Vorkenntnissen (26Z367218) 
LOCATION:VHS Studienhaus, Raum 316, Cäcilienstr. 35, 50667 Köln
END:VEVENT
BEGIN:VEVENT
DTSTAMP:20260423T234137
DTSTART;TZID=Europe/Berlin:20260430T093000
DTEND;TZID=Europe/Berlin:20260430T110000
UID:26Z367218-20260430T093000@KÖLNER VHS
SUMMARY:Silberne Schwäne - sanftes Ballett mit mittleren Vorkenntnissen (26Z367218) 
LOCATION:VHS Studienhaus, Raum 316, Cäcilienstr. 35, 50667 Köln
END:VEVENT
BEGIN:VEVENT
DTSTAMP:20260423T234137
DTSTART;TZID=Europe/Berlin:20260507T093000
DTEND;TZID=Europe/Berlin:20260507T110000
UID:26Z367218-20260507T093000@KÖLNER VHS
SUMMARY:Silberne Schwäne - sanftes Ballett mit mittleren Vorkenntnissen (26Z367218) 
LOCATION:VHS Studienhaus, Raum 316, Cäcilienstr. 35, 50667 Köln
END:VEVENT
BEGIN:VEVENT
DTSTAMP:20260423T234137
DTSTART;TZID=Europe/Berlin:20260521T093000
DTEND;TZID=Europe/Berlin:20260521T110000
UID:26Z367218-20260521T093000@KÖLNER VHS
SUMMARY:Silberne Schwäne - sanftes Ballett mit mittleren Vorkenntnissen (26Z367218) 
LOCATION:VHS Studienhaus, Raum 316, Cäcilienstr. 35, 50667 Köln
END:VEVENT
BEGIN:VEVENT
DTSTAMP:20260423T234137
DTSTART;TZID=Europe/Berlin:20260528T093000
DTEND;TZID=Europe/Berlin:20260528T110000
UID:26Z367218-20260528T093000@KÖLNER VHS
SUMMARY:Silberne Schwäne - sanftes Ballett mit mittleren Vorkenntnissen (26Z367218) 
LOCATION:VHS Studienhaus, Raum 316, Cäcilienstr. 35, 50667 Köln
END:VEVENT
BEGIN:VEVENT
DTSTAMP:20260423T234137
DTSTART;TZID=Europe/Berlin:20260611T093000
DTEND;TZID=Europe/Berlin:20260611T110000
UID:26Z367218-20260611T093000@KÖLNER VHS
SUMMARY:Silberne Schwäne - sanftes Ballett mit mittleren Vorkenntnissen (26Z367218) 
LOCATION:VHS Studienhaus, Raum 316, Cäcilienstr. 35, 50667 Köln
END:VEVENT
BEGIN:VEVENT
DTSTAMP:20260423T234137
DTSTART;TZID=Europe/Berlin:20260618T093000
DTEND;TZID=Europe/Berlin:20260618T110000
UID:26Z367218-20260618T093000@KÖLNER VHS
SUMMARY:Silberne Schwäne - sanftes Ballett mit mittleren Vorkenntnissen (26Z367218) 
LOCATION:VHS Studienhaus, Raum 316, Cäcilienstr. 35, 50667 Köln
END:VEVENT
BEGIN:VEVENT
DTSTAMP:20260423T234137
DTSTART;TZID=Europe/Berlin:20260625T093000
DTEND;TZID=Europe/Berlin:20260625T110000
UID:26Z367218-20260625T093000@KÖLNER VHS
SUMMARY:Silberne Schwäne - sanftes Ballett mit mittleren Vorkenntnissen (26Z367218) 
LOCATION:VHS Studienhaus, Raum 316, Cäcilienstr. 35, 50667 Köln
END:VEVENT
BEGIN:VEVENT
DTSTAMP:20260423T234137
DTSTART;TZID=Europe/Berlin:20260702T093000
DTEND;TZID=Europe/Berlin:20260702T110000
UID:26Z367218-20260702T093000@KÖLNER VHS
SUMMARY:Silberne Schwäne - sanftes Ballett mit mittleren Vorkenntnissen (26Z367218) 
LOCATION:VHS Studienhaus, Raum 316, Cäcilienstr. 35, 50667 Köln
END:VEVENT
BEGIN:VEVENT
DTSTAMP:20260423T234137
DTSTART;TZID=Europe/Berlin:20260709T093000
DTEND;TZID=Europe/Berlin:20260709T110000
UID:26Z367218-20260709T093000@KÖLNER VHS
SUMMARY:Silberne Schwäne - sanftes Ballett mit mittleren Vorkenntnissen (26Z367218) 
LOCATION:VHS Studienhaus, Raum 316, Cäcilienstr. 35, 50667 Köln
END:VEVENT
END:VCALENDAR