BEGIN:VCALENDAR
VERSION:2.0
PRODID:https://www.kufer.de/kuferweb / DE
METHOD:PUBLISH
CALSCALE:GREGORIAN
X-WR-TIMEZONE:Europe/Berlin
BEGIN:VTIMEZONE
TZID:Europe/Berlin
X-LIC-LOCATION:Europe/Berlin
BEGIN:DAYLIGHT
TZOFFSETFROM:+0100
TZOFFSETTO:+0200
TZNAME:CEST
DTSTART:19700329T020000
RRULE:FREQ=YEARLY;INTERVAL=1;BYDAY=-1SU;BYMONTH=3
END:DAYLIGHT
BEGIN:STANDARD
TZOFFSETFROM:+0200
TZOFFSETTO:+0100
TZNAME:CET
DTSTART:19701025T030000
RRULE:FREQ=YEARLY;INTERVAL=1;BYDAY=-1SU;BYMONTH=10
END:STANDARD
END:VTIMEZONE
BEGIN:VEVENT
DTSTAMP:20260423T153116
DTSTART;TZID=Europe/Berlin:20260908T160000
DTEND;TZID=Europe/Berlin:20260908T173000
UID:26Z331415-20260908T160000@KÖLNER VHS
SUMMARY:Zeichnen leicht gemacht – Schritt für Schritt zum eigenen Werk  Aufbaukurs (26Z331415) 
LOCATION:VHS Studienhaus, Raum 504, Cäcilienstr. 35, 50667 Köln
END:VEVENT
BEGIN:VEVENT
DTSTAMP:20260423T153116
DTSTART;TZID=Europe/Berlin:20260915T160000
DTEND;TZID=Europe/Berlin:20260915T173000
UID:26Z331415-20260915T160000@KÖLNER VHS
SUMMARY:Zeichnen leicht gemacht – Schritt für Schritt zum eigenen Werk  Aufbaukurs (26Z331415) 
LOCATION:VHS Studienhaus, Raum 504, Cäcilienstr. 35, 50667 Köln
END:VEVENT
BEGIN:VEVENT
DTSTAMP:20260423T153116
DTSTART;TZID=Europe/Berlin:20260922T160000
DTEND;TZID=Europe/Berlin:20260922T173000
UID:26Z331415-20260922T160000@KÖLNER VHS
SUMMARY:Zeichnen leicht gemacht – Schritt für Schritt zum eigenen Werk  Aufbaukurs (26Z331415) 
LOCATION:VHS Studienhaus, Raum 504, Cäcilienstr. 35, 50667 Köln
END:VEVENT
BEGIN:VEVENT
DTSTAMP:20260423T153116
DTSTART;TZID=Europe/Berlin:20260929T160000
DTEND;TZID=Europe/Berlin:20260929T173000
UID:26Z331415-20260929T160000@KÖLNER VHS
SUMMARY:Zeichnen leicht gemacht – Schritt für Schritt zum eigenen Werk  Aufbaukurs (26Z331415) 
LOCATION:VHS Studienhaus, Raum 504, Cäcilienstr. 35, 50667 Köln
END:VEVENT
BEGIN:VEVENT
DTSTAMP:20260423T153116
DTSTART;TZID=Europe/Berlin:20261006T160000
DTEND;TZID=Europe/Berlin:20261006T173000
UID:26Z331415-20261006T160000@KÖLNER VHS
SUMMARY:Zeichnen leicht gemacht – Schritt für Schritt zum eigenen Werk  Aufbaukurs (26Z331415) 
LOCATION:VHS Studienhaus, Raum 504, Cäcilienstr. 35, 50667 Köln
END:VEVENT
BEGIN:VEVENT
DTSTAMP:20260423T153116
DTSTART;TZID=Europe/Berlin:20261013T160000
DTEND;TZID=Europe/Berlin:20261013T173000
UID:26Z331415-20261013T160000@KÖLNER VHS
SUMMARY:Zeichnen leicht gemacht – Schritt für Schritt zum eigenen Werk  Aufbaukurs (26Z331415) 
LOCATION:VHS Studienhaus, Raum 504, Cäcilienstr. 35, 50667 Köln
END:VEVENT
BEGIN:VEVENT
DTSTAMP:20260423T153116
DTSTART;TZID=Europe/Berlin:20261103T160000
DTEND;TZID=Europe/Berlin:20261103T173000
UID:26Z331415-20261103T160000@KÖLNER VHS
SUMMARY:Zeichnen leicht gemacht – Schritt für Schritt zum eigenen Werk  Aufbaukurs (26Z331415) 
LOCATION:VHS Studienhaus, Raum 504, Cäcilienstr. 35, 50667 Köln
END:VEVENT
BEGIN:VEVENT
DTSTAMP:20260423T153116
DTSTART;TZID=Europe/Berlin:20261110T160000
DTEND;TZID=Europe/Berlin:20261110T173000
UID:26Z331415-20261110T160000@KÖLNER VHS
SUMMARY:Zeichnen leicht gemacht – Schritt für Schritt zum eigenen Werk  Aufbaukurs (26Z331415) 
LOCATION:VHS Studienhaus, Raum 504, Cäcilienstr. 35, 50667 Köln
END:VEVENT
BEGIN:VEVENT
DTSTAMP:20260423T153116
DTSTART;TZID=Europe/Berlin:20261117T160000
DTEND;TZID=Europe/Berlin:20261117T173000
UID:26Z331415-20261117T160000@KÖLNER VHS
SUMMARY:Zeichnen leicht gemacht – Schritt für Schritt zum eigenen Werk  Aufbaukurs (26Z331415) 
LOCATION:VHS Studienhaus, Raum 504, Cäcilienstr. 35, 50667 Köln
END:VEVENT
BEGIN:VEVENT
DTSTAMP:20260423T153116
DTSTART;TZID=Europe/Berlin:20261124T160000
DTEND;TZID=Europe/Berlin:20261124T173000
UID:26Z331415-20261124T160000@KÖLNER VHS
SUMMARY:Zeichnen leicht gemacht – Schritt für Schritt zum eigenen Werk  Aufbaukurs (26Z331415) 
LOCATION:VHS Studienhaus, Raum 504, Cäcilienstr. 35, 50667 Köln
END:VEVENT
BEGIN:VEVENT
DTSTAMP:20260423T153116
DTSTART;TZID=Europe/Berlin:20261201T160000
DTEND;TZID=Europe/Berlin:20261201T173000
UID:26Z331415-20261201T160000@KÖLNER VHS
SUMMARY:Zeichnen leicht gemacht – Schritt für Schritt zum eigenen Werk  Aufbaukurs (26Z331415) 
LOCATION:VHS Studienhaus, Raum 504, Cäcilienstr. 35, 50667 Köln
END:VEVENT
BEGIN:VEVENT
DTSTAMP:20260423T153116
DTSTART;TZID=Europe/Berlin:20261208T160000
DTEND;TZID=Europe/Berlin:20261208T173000
UID:26Z331415-20261208T160000@KÖLNER VHS
SUMMARY:Zeichnen leicht gemacht – Schritt für Schritt zum eigenen Werk  Aufbaukurs (26Z331415) 
LOCATION:VHS Studienhaus, Raum 504, Cäcilienstr. 35, 50667 Köln
END:VEVENT
END:VCALENDAR