BEGIN:VCALENDAR
VERSION:2.0
PRODID:https://www.kufer.de/kuferweb / DE
METHOD:PUBLISH
CALSCALE:GREGORIAN
X-WR-TIMEZONE:Europe/Berlin
BEGIN:VTIMEZONE
TZID:Europe/Berlin
X-LIC-LOCATION:Europe/Berlin
BEGIN:DAYLIGHT
TZOFFSETFROM:+0100
TZOFFSETTO:+0200
TZNAME:CEST
DTSTART:19700329T020000
RRULE:FREQ=YEARLY;INTERVAL=1;BYDAY=-1SU;BYMONTH=3
END:DAYLIGHT
BEGIN:STANDARD
TZOFFSETFROM:+0200
TZOFFSETTO:+0100
TZNAME:CET
DTSTART:19701025T030000
RRULE:FREQ=YEARLY;INTERVAL=1;BYDAY=-1SU;BYMONTH=10
END:STANDARD
END:VTIMEZONE
BEGIN:VEVENT
DTSTAMP:20260423T140120
DTSTART;TZID=Europe/Berlin:20260817T100000
DTEND;TZID=Europe/Berlin:20260817T160000
UID:26Z330210-20260817T100000@KÖLNER VHS
SUMMARY:Zeichnen und Kolorieren – spontan, schmissig und detailgenau Einstiegskurs und Aufbaukurs - Bildungsurlaub (26Z330210) 
LOCATION:VHS Studienhaus, Raum 504, Cäcilienstr. 35, 50667 Köln
END:VEVENT
BEGIN:VEVENT
DTSTAMP:20260423T140120
DTSTART;TZID=Europe/Berlin:20260818T100000
DTEND;TZID=Europe/Berlin:20260818T160000
UID:26Z330210-20260818T100000@KÖLNER VHS
SUMMARY:Zeichnen und Kolorieren – spontan, schmissig und detailgenau Einstiegskurs und Aufbaukurs - Bildungsurlaub (26Z330210) 
LOCATION:VHS Studienhaus, Raum 504, Cäcilienstr. 35, 50667 Köln
END:VEVENT
BEGIN:VEVENT
DTSTAMP:20260423T140120
DTSTART;TZID=Europe/Berlin:20260819T100000
DTEND;TZID=Europe/Berlin:20260819T160000
UID:26Z330210-20260819T100000@KÖLNER VHS
SUMMARY:Zeichnen und Kolorieren – spontan, schmissig und detailgenau Einstiegskurs und Aufbaukurs - Bildungsurlaub (26Z330210) 
LOCATION:VHS Studienhaus, Raum 504, Cäcilienstr. 35, 50667 Köln
END:VEVENT
BEGIN:VEVENT
DTSTAMP:20260423T140120
DTSTART;TZID=Europe/Berlin:20260820T100000
DTEND;TZID=Europe/Berlin:20260820T160000
UID:26Z330210-20260820T100000@KÖLNER VHS
SUMMARY:Zeichnen und Kolorieren – spontan, schmissig und detailgenau Einstiegskurs und Aufbaukurs - Bildungsurlaub (26Z330210) 
LOCATION:VHS Studienhaus, Raum 504, Cäcilienstr. 35, 50667 Köln
END:VEVENT
BEGIN:VEVENT
DTSTAMP:20260423T140120
DTSTART;TZID=Europe/Berlin:20260821T100000
DTEND;TZID=Europe/Berlin:20260821T160000
UID:26Z330210-20260821T100000@KÖLNER VHS
SUMMARY:Zeichnen und Kolorieren – spontan, schmissig und detailgenau Einstiegskurs und Aufbaukurs - Bildungsurlaub (26Z330210) 
LOCATION:VHS Studienhaus, Raum 504, Cäcilienstr. 35, 50667 Köln
END:VEVENT
END:VCALENDAR