BEGIN:VCALENDAR
VERSION:2.0
PRODID:https://www.kufer.de/kuferweb / DE
METHOD:PUBLISH
CALSCALE:GREGORIAN
X-WR-TIMEZONE:Europe/Berlin
BEGIN:VTIMEZONE
TZID:Europe/Berlin
X-LIC-LOCATION:Europe/Berlin
BEGIN:DAYLIGHT
TZOFFSETFROM:+0100
TZOFFSETTO:+0200
TZNAME:CEST
DTSTART:19700329T020000
RRULE:FREQ=YEARLY;INTERVAL=1;BYDAY=-1SU;BYMONTH=3
END:DAYLIGHT
BEGIN:STANDARD
TZOFFSETFROM:+0200
TZOFFSETTO:+0100
TZNAME:CET
DTSTART:19701025T030000
RRULE:FREQ=YEARLY;INTERVAL=1;BYDAY=-1SU;BYMONTH=10
END:STANDARD
END:VTIMEZONE
BEGIN:VEVENT
DTSTAMP:20260423T153513
DTSTART;TZID=Europe/Berlin:20260904T160000
DTEND;TZID=Europe/Berlin:20260904T211500
UID:26Z184224-20260904T160000@KÖLNER VHS
SUMMARY:VORANKÜNDIGUNG: Berufsbegleitende Fortbildung Systemische Beratung 2026/2027 Nr. 36 / September 2026 bis September 2027 (26Z184224) 
LOCATION:VHS Studienhaus, Raum 416, Cäcilienstr. 35, 50667 Köln
END:VEVENT
BEGIN:VEVENT
DTSTAMP:20260423T153513
DTSTART;TZID=Europe/Berlin:20260905T090000
DTEND;TZID=Europe/Berlin:20260905T173000
UID:26Z184224-20260905T090000@KÖLNER VHS
SUMMARY:VORANKÜNDIGUNG: Berufsbegleitende Fortbildung Systemische Beratung 2026/2027 Nr. 36 / September 2026 bis September 2027 (26Z184224) 
LOCATION:VHS Studienhaus, Raum 415, Cäcilienstr. 35, 50667 Köln
END:VEVENT
BEGIN:VEVENT
DTSTAMP:20260423T153513
DTSTART;TZID=Europe/Berlin:20260906T090000
DTEND;TZID=Europe/Berlin:20260906T150000
UID:26Z184224-20260906T090000@KÖLNER VHS
SUMMARY:VORANKÜNDIGUNG: Berufsbegleitende Fortbildung Systemische Beratung 2026/2027 Nr. 36 / September 2026 bis September 2027 (26Z184224) 
LOCATION:VHS Studienhaus, Raum 415, Cäcilienstr. 35, 50667 Köln
END:VEVENT
BEGIN:VEVENT
DTSTAMP:20260423T153513
DTSTART;TZID=Europe/Berlin:20261123T090000
DTEND;TZID=Europe/Berlin:20261123T173000
UID:26Z184224-20261123T090000@KÖLNER VHS
SUMMARY:VORANKÜNDIGUNG: Berufsbegleitende Fortbildung Systemische Beratung 2026/2027 Nr. 36 / September 2026 bis September 2027 (26Z184224) 
LOCATION:VHS im Bezirksrathaus Lindenthal, Raum 1.10, Aachener Str. 220, 50931 Köln
END:VEVENT
BEGIN:VEVENT
DTSTAMP:20260423T153513
DTSTART;TZID=Europe/Berlin:20261124T090000
DTEND;TZID=Europe/Berlin:20261124T173000
UID:26Z184224-20261124T090000@KÖLNER VHS
SUMMARY:VORANKÜNDIGUNG: Berufsbegleitende Fortbildung Systemische Beratung 2026/2027 Nr. 36 / September 2026 bis September 2027 (26Z184224) 
LOCATION:VHS im Bezirksrathaus Lindenthal, Raum 1.10, Aachener Str. 220, 50931 Köln
END:VEVENT
BEGIN:VEVENT
DTSTAMP:20260423T153513
DTSTART;TZID=Europe/Berlin:20261125T090000
DTEND;TZID=Europe/Berlin:20261125T173000
UID:26Z184224-20261125T090000@KÖLNER VHS
SUMMARY:VORANKÜNDIGUNG: Berufsbegleitende Fortbildung Systemische Beratung 2026/2027 Nr. 36 / September 2026 bis September 2027 (26Z184224) 
LOCATION:VHS im Bezirksrathaus Lindenthal, Raum 1.10, Aachener Str. 220, 50931 Köln
END:VEVENT
BEGIN:VEVENT
DTSTAMP:20260423T153513
DTSTART;TZID=Europe/Berlin:20261126T090000
DTEND;TZID=Europe/Berlin:20261126T173000
UID:26Z184224-20261126T090000@KÖLNER VHS
SUMMARY:VORANKÜNDIGUNG: Berufsbegleitende Fortbildung Systemische Beratung 2026/2027 Nr. 36 / September 2026 bis September 2027 (26Z184224) 
LOCATION:VHS im Bezirksrathaus Lindenthal, Raum 1.10, Aachener Str. 220, 50931 Köln
END:VEVENT
BEGIN:VEVENT
DTSTAMP:20260423T153513
DTSTART;TZID=Europe/Berlin:20261214T090000
DTEND;TZID=Europe/Berlin:20261214T173000
UID:26Z184224-20261214T090000@KÖLNER VHS
SUMMARY:VORANKÜNDIGUNG: Berufsbegleitende Fortbildung Systemische Beratung 2026/2027 Nr. 36 / September 2026 bis September 2027 (26Z184224) 
LOCATION:VHS Studienhaus, Raum 415, Cäcilienstr. 35, 50667 Köln
END:VEVENT
END:VCALENDAR