BEGIN:VCALENDAR
VERSION:2.0
PRODID:https://www.kufer.de/kuferweb / DE
METHOD:PUBLISH
CALSCALE:GREGORIAN
X-WR-TIMEZONE:Europe/Berlin
BEGIN:VTIMEZONE
TZID:Europe/Berlin
X-LIC-LOCATION:Europe/Berlin
BEGIN:DAYLIGHT
TZOFFSETFROM:+0100
TZOFFSETTO:+0200
TZNAME:CEST
DTSTART:19700329T020000
RRULE:FREQ=YEARLY;INTERVAL=1;BYDAY=-1SU;BYMONTH=3
END:DAYLIGHT
BEGIN:STANDARD
TZOFFSETFROM:+0200
TZOFFSETTO:+0100
TZNAME:CET
DTSTART:19701025T030000
RRULE:FREQ=YEARLY;INTERVAL=1;BYDAY=-1SU;BYMONTH=10
END:STANDARD
END:VTIMEZONE
BEGIN:VEVENT
DTSTAMP:20260423T173251
DTSTART;TZID=Europe/Berlin:20260927T140000
DTEND;TZID=Europe/Berlin:20260927T170000
UID:26Z138282-20260927T140000@KÖLNER VHS
SUMMARY:Neuausrichtung nach unerfülltem Kinderwunsch – Wer bin ich jenseits dieses Wunsches? –  ein Halbtags-Impuls zur inneren Stärkung (26Z138282) 
LOCATION:VHS Studienhaus, Raum 316, Cäcilienstr. 35, 50667 Köln
END:VEVENT
END:VCALENDAR