BEGIN:VCALENDAR
VERSION:2.0
PRODID:https://www.kufer.de/kuferweb / DE
METHOD:PUBLISH
CALSCALE:GREGORIAN
X-WR-TIMEZONE:Europe/Berlin
BEGIN:VTIMEZONE
TZID:Europe/Berlin
X-LIC-LOCATION:Europe/Berlin
BEGIN:DAYLIGHT
TZOFFSETFROM:+0100
TZOFFSETTO:+0200
TZNAME:CEST
DTSTART:19700329T020000
RRULE:FREQ=YEARLY;INTERVAL=1;BYDAY=-1SU;BYMONTH=3
END:DAYLIGHT
BEGIN:STANDARD
TZOFFSETFROM:+0200
TZOFFSETTO:+0100
TZNAME:CET
DTSTART:19701025T030000
RRULE:FREQ=YEARLY;INTERVAL=1;BYDAY=-1SU;BYMONTH=10
END:STANDARD
END:VTIMEZONE
BEGIN:VEVENT
DTSTAMP:20260423T142216
DTSTART;TZID=Europe/Berlin:20260824T100000
DTEND;TZID=Europe/Berlin:20260824T121500
UID:26Z111052-20260824T100000@KÖLNER VHS
SUMMARY:"Im Namen des Volkes". Kurs und Exkursion zum Amtsgericht Köln (26Z111052) 
LOCATION:VHS Studienhaus, Raum 0.07, Cäcilienstr. 35, 50667 Köln
END:VEVENT
BEGIN:VEVENT
DTSTAMP:20260423T142216
DTSTART;TZID=Europe/Berlin:20260825T100000
DTEND;TZID=Europe/Berlin:20260825T121500
UID:26Z111052-20260825T100000@KÖLNER VHS
SUMMARY:"Im Namen des Volkes". Kurs und Exkursion zum Amtsgericht Köln (26Z111052) 
LOCATION:Amtsgericht Köln, Luxemburger Str. 101, 50939 Köln
END:VEVENT
END:VCALENDAR