BEGIN:VCALENDAR
VERSION:2.0
PRODID:https://www.kufer.de/kuferweb / DE
METHOD:PUBLISH
CALSCALE:GREGORIAN
X-WR-TIMEZONE:Europe/Berlin
BEGIN:VTIMEZONE
TZID:Europe/Berlin
X-LIC-LOCATION:Europe/Berlin
BEGIN:DAYLIGHT
TZOFFSETFROM:+0100
TZOFFSETTO:+0200
TZNAME:CEST
DTSTART:19700329T020000
RRULE:FREQ=YEARLY;INTERVAL=1;BYDAY=-1SU;BYMONTH=3
END:DAYLIGHT
BEGIN:STANDARD
TZOFFSETFROM:+0200
TZOFFSETTO:+0100
TZNAME:CET
DTSTART:19701025T030000
RRULE:FREQ=YEARLY;INTERVAL=1;BYDAY=-1SU;BYMONTH=10
END:STANDARD
END:VTIMEZONE
BEGIN:VEVENT
DTSTAMP:20260423T154830
DTSTART;TZID=Europe/Berlin:20260907T090000
DTEND;TZID=Europe/Berlin:20260907T130000
UID:26X462101-20260907T090000@KÖLNER VHS
SUMMARY:Spanisch - Crashkurs für Studierende (A1 und A2) (26X462101) 
LOCATION:Universität zu Köln, Raum B IV
END:VEVENT
BEGIN:VEVENT
DTSTAMP:20260423T154830
DTSTART;TZID=Europe/Berlin:20260908T090000
DTEND;TZID=Europe/Berlin:20260908T130000
UID:26X462101-20260908T090000@KÖLNER VHS
SUMMARY:Spanisch - Crashkurs für Studierende (A1 und A2) (26X462101) 
LOCATION:Universität zu Köln, Raum B IV
END:VEVENT
BEGIN:VEVENT
DTSTAMP:20260423T154830
DTSTART;TZID=Europe/Berlin:20260909T090000
DTEND;TZID=Europe/Berlin:20260909T130000
UID:26X462101-20260909T090000@KÖLNER VHS
SUMMARY:Spanisch - Crashkurs für Studierende (A1 und A2) (26X462101) 
LOCATION:Universität zu Köln, Raum B IV
END:VEVENT
BEGIN:VEVENT
DTSTAMP:20260423T154830
DTSTART;TZID=Europe/Berlin:20260910T090000
DTEND;TZID=Europe/Berlin:20260910T130000
UID:26X462101-20260910T090000@KÖLNER VHS
SUMMARY:Spanisch - Crashkurs für Studierende (A1 und A2) (26X462101) 
LOCATION:Universität zu Köln, Raum B IV
END:VEVENT
BEGIN:VEVENT
DTSTAMP:20260423T154830
DTSTART;TZID=Europe/Berlin:20260911T090000
DTEND;TZID=Europe/Berlin:20260911T130000
UID:26X462101-20260911T090000@KÖLNER VHS
SUMMARY:Spanisch - Crashkurs für Studierende (A1 und A2) (26X462101) 
LOCATION:Universität zu Köln, Raum B IV
END:VEVENT
BEGIN:VEVENT
DTSTAMP:20260423T154830
DTSTART;TZID=Europe/Berlin:20260914T090000
DTEND;TZID=Europe/Berlin:20260914T130000
UID:26X462101-20260914T090000@KÖLNER VHS
SUMMARY:Spanisch - Crashkurs für Studierende (A1 und A2) (26X462101) 
LOCATION:Universität zu Köln, Raum B IV
END:VEVENT
BEGIN:VEVENT
DTSTAMP:20260423T154830
DTSTART;TZID=Europe/Berlin:20260915T090000
DTEND;TZID=Europe/Berlin:20260915T130000
UID:26X462101-20260915T090000@KÖLNER VHS
SUMMARY:Spanisch - Crashkurs für Studierende (A1 und A2) (26X462101) 
LOCATION:Universität zu Köln, Raum B IV
END:VEVENT
BEGIN:VEVENT
DTSTAMP:20260423T154830
DTSTART;TZID=Europe/Berlin:20260916T090000
DTEND;TZID=Europe/Berlin:20260916T130000
UID:26X462101-20260916T090000@KÖLNER VHS
SUMMARY:Spanisch - Crashkurs für Studierende (A1 und A2) (26X462101) 
LOCATION:Universität zu Köln, Raum B IV
END:VEVENT
BEGIN:VEVENT
DTSTAMP:20260423T154830
DTSTART;TZID=Europe/Berlin:20260917T090000
DTEND;TZID=Europe/Berlin:20260917T130000
UID:26X462101-20260917T090000@KÖLNER VHS
SUMMARY:Spanisch - Crashkurs für Studierende (A1 und A2) (26X462101) 
LOCATION:Universität zu Köln, Raum B IV
END:VEVENT
BEGIN:VEVENT
DTSTAMP:20260423T154830
DTSTART;TZID=Europe/Berlin:20260918T090000
DTEND;TZID=Europe/Berlin:20260918T130000
UID:26X462101-20260918T090000@KÖLNER VHS
SUMMARY:Spanisch - Crashkurs für Studierende (A1 und A2) (26X462101) 
LOCATION:Universität zu Köln, Raum B IV
END:VEVENT
BEGIN:VEVENT
DTSTAMP:20260423T154830
DTSTART;TZID=Europe/Berlin:20260921T090000
DTEND;TZID=Europe/Berlin:20260921T130000
UID:26X462101-20260921T090000@KÖLNER VHS
SUMMARY:Spanisch - Crashkurs für Studierende (A1 und A2) (26X462101) 
LOCATION:Universität zu Köln, Raum B IV
END:VEVENT
BEGIN:VEVENT
DTSTAMP:20260423T154830
DTSTART;TZID=Europe/Berlin:20260922T090000
DTEND;TZID=Europe/Berlin:20260922T130000
UID:26X462101-20260922T090000@KÖLNER VHS
SUMMARY:Spanisch - Crashkurs für Studierende (A1 und A2) (26X462101) 
LOCATION:Universität zu Köln, Raum B IV
END:VEVENT
BEGIN:VEVENT
DTSTAMP:20260423T154830
DTSTART;TZID=Europe/Berlin:20260923T090000
DTEND;TZID=Europe/Berlin:20260923T130000
UID:26X462101-20260923T090000@KÖLNER VHS
SUMMARY:Spanisch - Crashkurs für Studierende (A1 und A2) (26X462101) 
LOCATION:Universität zu Köln, Raum B IV
END:VEVENT
BEGIN:VEVENT
DTSTAMP:20260423T154830
DTSTART;TZID=Europe/Berlin:20260924T090000
DTEND;TZID=Europe/Berlin:20260924T130000
UID:26X462101-20260924T090000@KÖLNER VHS
SUMMARY:Spanisch - Crashkurs für Studierende (A1 und A2) (26X462101) 
LOCATION:Universität zu Köln, Raum B IV
END:VEVENT
BEGIN:VEVENT
DTSTAMP:20260423T154830
DTSTART;TZID=Europe/Berlin:20260925T090000
DTEND;TZID=Europe/Berlin:20260925T130000
UID:26X462101-20260925T090000@KÖLNER VHS
SUMMARY:Spanisch - Crashkurs für Studierende (A1 und A2) (26X462101) 
LOCATION:Universität zu Köln, Raum B IV
END:VEVENT
END:VCALENDAR