BEGIN:VCALENDAR
VERSION:2.0
PRODID:https://www.kufer.de/kuferweb / DE
METHOD:PUBLISH
CALSCALE:GREGORIAN
X-WR-TIMEZONE:Europe/Berlin
BEGIN:VTIMEZONE
TZID:Europe/Berlin
X-LIC-LOCATION:Europe/Berlin
BEGIN:DAYLIGHT
TZOFFSETFROM:+0100
TZOFFSETTO:+0200
TZNAME:CEST
DTSTART:19700329T020000
RRULE:FREQ=YEARLY;INTERVAL=1;BYDAY=-1SU;BYMONTH=3
END:DAYLIGHT
BEGIN:STANDARD
TZOFFSETFROM:+0200
TZOFFSETTO:+0100
TZNAME:CET
DTSTART:19701025T030000
RRULE:FREQ=YEARLY;INTERVAL=1;BYDAY=-1SU;BYMONTH=10
END:STANDARD
END:VTIMEZONE
BEGIN:VEVENT
DTSTAMP:20260421T093602
DTSTART;TZID=Europe/Berlin:20260415T170000
DTEND;TZID=Europe/Berlin:20260415T190000
UID:26W112022-20260415T170000@KÖLNER VHS
SUMMARY:Ach wie schön - der Wiener Platz macht sich schön! (26W112022) 
LOCATION:VHS im Bezirksrathaus Mülheim, Eingang, Wiener Platz 2a, 51065 Köln
END:VEVENT
BEGIN:VEVENT
DTSTAMP:20260421T093602
DTSTART;TZID=Europe/Berlin:20260429T170000
DTEND;TZID=Europe/Berlin:20260429T190000
UID:26W112022-20260429T170000@KÖLNER VHS
SUMMARY:Ach wie schön - der Wiener Platz macht sich schön! (26W112022) 
LOCATION:VHS im Bezirksrathaus Mülheim, Eingang, Wiener Platz 2a, 51065 Köln
END:VEVENT
BEGIN:VEVENT
DTSTAMP:20260421T093602
DTSTART;TZID=Europe/Berlin:20260527T170000
DTEND;TZID=Europe/Berlin:20260527T190000
UID:26W112022-20260527T170000@KÖLNER VHS
SUMMARY:Ach wie schön - der Wiener Platz macht sich schön! (26W112022) 
LOCATION:VHS im Bezirksrathaus Mülheim, Eingang, Wiener Platz 2a, 51065 Köln
END:VEVENT
BEGIN:VEVENT
DTSTAMP:20260421T093602
DTSTART;TZID=Europe/Berlin:20260624T170000
DTEND;TZID=Europe/Berlin:20260624T190000
UID:26W112022-20260624T170000@KÖLNER VHS
SUMMARY:Ach wie schön - der Wiener Platz macht sich schön! (26W112022) 
LOCATION:VHS im Bezirksrathaus Mülheim, Eingang, Wiener Platz 2a, 51065 Köln
END:VEVENT
BEGIN:VEVENT
DTSTAMP:20260421T093602
DTSTART;TZID=Europe/Berlin:20260729T170000
DTEND;TZID=Europe/Berlin:20260729T190000
UID:26W112022-20260729T170000@KÖLNER VHS
SUMMARY:Ach wie schön - der Wiener Platz macht sich schön! (26W112022) 
LOCATION:VHS im Bezirksrathaus Mülheim, Eingang, Wiener Platz 2a, 51065 Köln
END:VEVENT
BEGIN:VEVENT
DTSTAMP:20260421T093602
DTSTART;TZID=Europe/Berlin:20260826T170000
DTEND;TZID=Europe/Berlin:20260826T190000
UID:26W112022-20260826T170000@KÖLNER VHS
SUMMARY:Ach wie schön - der Wiener Platz macht sich schön! (26W112022) 
LOCATION:VHS im Bezirksrathaus Mülheim, Eingang, Wiener Platz 2a, 51065 Köln
END:VEVENT
BEGIN:VEVENT
DTSTAMP:20260421T093602
DTSTART;TZID=Europe/Berlin:20260930T170000
DTEND;TZID=Europe/Berlin:20260930T190000
UID:26W112022-20260930T170000@KÖLNER VHS
SUMMARY:Ach wie schön - der Wiener Platz macht sich schön! (26W112022) 
LOCATION:VHS im Bezirksrathaus Mülheim, Eingang, Wiener Platz 2a, 51065 Köln
END:VEVENT
END:VCALENDAR