BEGIN:VCALENDAR
VERSION:2.0
PRODID:https://www.kufer.de/kuferweb / DE
METHOD:PUBLISH
CALSCALE:GREGORIAN
X-WR-TIMEZONE:Europe/Berlin
BEGIN:VTIMEZONE
TZID:Europe/Berlin
X-LIC-LOCATION:Europe/Berlin
BEGIN:DAYLIGHT
TZOFFSETFROM:+0100
TZOFFSETTO:+0200
TZNAME:CEST
DTSTART:19700329T020000
RRULE:FREQ=YEARLY;INTERVAL=1;BYDAY=-1SU;BYMONTH=3
END:DAYLIGHT
BEGIN:STANDARD
TZOFFSETFROM:+0200
TZOFFSETTO:+0100
TZNAME:CET
DTSTART:19701025T030000
RRULE:FREQ=YEARLY;INTERVAL=1;BYDAY=-1SU;BYMONTH=10
END:STANDARD
END:VTIMEZONE
BEGIN:VEVENT
DTSTAMP:20260419T184208
DTSTART;TZID=Europe/Berlin:20260803T153000
DTEND;TZID=Europe/Berlin:20260803T163000
UID:26S241514-20260803T153000@KÖLNER VHS
SUMMARY:Aquajogging (26S241514) 
LOCATION:Stadionbad, Bahn, Olympiaweg 20, 50933 Köln 
END:VEVENT
BEGIN:VEVENT
DTSTAMP:20260419T184208
DTSTART;TZID=Europe/Berlin:20260810T153000
DTEND;TZID=Europe/Berlin:20260810T163000
UID:26S241514-20260810T153000@KÖLNER VHS
SUMMARY:Aquajogging (26S241514) 
LOCATION:Stadionbad, Bahn, Olympiaweg 20, 50933 Köln 
END:VEVENT
BEGIN:VEVENT
DTSTAMP:20260419T184208
DTSTART;TZID=Europe/Berlin:20260817T153000
DTEND;TZID=Europe/Berlin:20260817T163000
UID:26S241514-20260817T153000@KÖLNER VHS
SUMMARY:Aquajogging (26S241514) 
LOCATION:Stadionbad, Bahn, Olympiaweg 20, 50933 Köln 
END:VEVENT
BEGIN:VEVENT
DTSTAMP:20260419T184208
DTSTART;TZID=Europe/Berlin:20260824T153000
DTEND;TZID=Europe/Berlin:20260824T163000
UID:26S241514-20260824T153000@KÖLNER VHS
SUMMARY:Aquajogging (26S241514) 
LOCATION:Stadionbad, Bahn, Olympiaweg 20, 50933 Köln 
END:VEVENT
BEGIN:VEVENT
DTSTAMP:20260419T184208
DTSTART;TZID=Europe/Berlin:20260831T153000
DTEND;TZID=Europe/Berlin:20260831T163000
UID:26S241514-20260831T153000@KÖLNER VHS
SUMMARY:Aquajogging (26S241514) 
LOCATION:Stadionbad, Bahn, Olympiaweg 20, 50933 Köln 
END:VEVENT
END:VCALENDAR