BEGIN:VCALENDAR
VERSION:2.0
PRODID:https://www.kufer.de/kuferweb / DE
METHOD:PUBLISH
CALSCALE:GREGORIAN
X-WR-TIMEZONE:Europe/Berlin
BEGIN:VTIMEZONE
TZID:Europe/Berlin
X-LIC-LOCATION:Europe/Berlin
BEGIN:DAYLIGHT
TZOFFSETFROM:+0100
TZOFFSETTO:+0200
TZNAME:CEST
DTSTART:19700329T020000
RRULE:FREQ=YEARLY;INTERVAL=1;BYDAY=-1SU;BYMONTH=3
END:DAYLIGHT
BEGIN:STANDARD
TZOFFSETFROM:+0200
TZOFFSETTO:+0100
TZNAME:CET
DTSTART:19701025T030000
RRULE:FREQ=YEARLY;INTERVAL=1;BYDAY=-1SU;BYMONTH=10
END:STANDARD
END:VTIMEZONE
BEGIN:VEVENT
DTSTAMP:20260423T202600
DTSTART;TZID=Europe/Berlin:20260916T201500
DTEND;TZID=Europe/Berlin:20260916T211500
UID:26P366018-20260916T201500@KÖLNER VHS
SUMMARY:Zumba® (26P366018) 
LOCATION:VHS im Bezirksrathaus Porz, Raum 115, Alfred-Moritz-Platz 1, 51143 Köln
END:VEVENT
BEGIN:VEVENT
DTSTAMP:20260423T202600
DTSTART;TZID=Europe/Berlin:20260923T201500
DTEND;TZID=Europe/Berlin:20260923T211500
UID:26P366018-20260923T201500@KÖLNER VHS
SUMMARY:Zumba® (26P366018) 
LOCATION:VHS im Bezirksrathaus Porz, Raum 115, Alfred-Moritz-Platz 1, 51143 Köln
END:VEVENT
BEGIN:VEVENT
DTSTAMP:20260423T202600
DTSTART;TZID=Europe/Berlin:20260930T201500
DTEND;TZID=Europe/Berlin:20260930T211500
UID:26P366018-20260930T201500@KÖLNER VHS
SUMMARY:Zumba® (26P366018) 
LOCATION:VHS im Bezirksrathaus Porz, Raum 115, Alfred-Moritz-Platz 1, 51143 Köln
END:VEVENT
BEGIN:VEVENT
DTSTAMP:20260423T202600
DTSTART;TZID=Europe/Berlin:20261007T201500
DTEND;TZID=Europe/Berlin:20261007T211500
UID:26P366018-20261007T201500@KÖLNER VHS
SUMMARY:Zumba® (26P366018) 
LOCATION:VHS im Bezirksrathaus Porz, Raum 115, Alfred-Moritz-Platz 1, 51143 Köln
END:VEVENT
BEGIN:VEVENT
DTSTAMP:20260423T202600
DTSTART;TZID=Europe/Berlin:20261014T201500
DTEND;TZID=Europe/Berlin:20261014T211500
UID:26P366018-20261014T201500@KÖLNER VHS
SUMMARY:Zumba® (26P366018) 
LOCATION:VHS im Bezirksrathaus Porz, Raum 115, Alfred-Moritz-Platz 1, 51143 Köln
END:VEVENT
BEGIN:VEVENT
DTSTAMP:20260423T202600
DTSTART;TZID=Europe/Berlin:20261104T201500
DTEND;TZID=Europe/Berlin:20261104T211500
UID:26P366018-20261104T201500@KÖLNER VHS
SUMMARY:Zumba® (26P366018) 
LOCATION:VHS im Bezirksrathaus Porz, Raum 115, Alfred-Moritz-Platz 1, 51143 Köln
END:VEVENT
BEGIN:VEVENT
DTSTAMP:20260423T202600
DTSTART;TZID=Europe/Berlin:20261111T201500
DTEND;TZID=Europe/Berlin:20261111T211500
UID:26P366018-20261111T201500@KÖLNER VHS
SUMMARY:Zumba® (26P366018) 
LOCATION:VHS im Bezirksrathaus Porz, Raum 115, Alfred-Moritz-Platz 1, 51143 Köln
END:VEVENT
BEGIN:VEVENT
DTSTAMP:20260423T202600
DTSTART;TZID=Europe/Berlin:20261118T201500
DTEND;TZID=Europe/Berlin:20261118T211500
UID:26P366018-20261118T201500@KÖLNER VHS
SUMMARY:Zumba® (26P366018) 
LOCATION:VHS im Bezirksrathaus Porz, Raum 115, Alfred-Moritz-Platz 1, 51143 Köln
END:VEVENT
BEGIN:VEVENT
DTSTAMP:20260423T202600
DTSTART;TZID=Europe/Berlin:20261125T201500
DTEND;TZID=Europe/Berlin:20261125T211500
UID:26P366018-20261125T201500@KÖLNER VHS
SUMMARY:Zumba® (26P366018) 
LOCATION:VHS im Bezirksrathaus Porz, Raum 115, Alfred-Moritz-Platz 1, 51143 Köln
END:VEVENT
BEGIN:VEVENT
DTSTAMP:20260423T202600
DTSTART;TZID=Europe/Berlin:20261202T201500
DTEND;TZID=Europe/Berlin:20261202T211500
UID:26P366018-20261202T201500@KÖLNER VHS
SUMMARY:Zumba® (26P366018) 
LOCATION:VHS im Bezirksrathaus Porz, Raum 115, Alfred-Moritz-Platz 1, 51143 Köln
END:VEVENT
END:VCALENDAR