BEGIN:VCALENDAR
VERSION:2.0
PRODID:https://www.kufer.de/kuferweb / DE
METHOD:PUBLISH
CALSCALE:GREGORIAN
X-WR-TIMEZONE:Europe/Berlin
BEGIN:VTIMEZONE
TZID:Europe/Berlin
X-LIC-LOCATION:Europe/Berlin
BEGIN:DAYLIGHT
TZOFFSETFROM:+0100
TZOFFSETTO:+0200
TZNAME:CEST
DTSTART:19700329T020000
RRULE:FREQ=YEARLY;INTERVAL=1;BYDAY=-1SU;BYMONTH=3
END:DAYLIGHT
BEGIN:STANDARD
TZOFFSETFROM:+0200
TZOFFSETTO:+0100
TZNAME:CET
DTSTART:19701025T030000
RRULE:FREQ=YEARLY;INTERVAL=1;BYDAY=-1SU;BYMONTH=10
END:STANDARD
END:VTIMEZONE
BEGIN:VEVENT
DTSTAMP:20260423T184843
DTSTART;TZID=Europe/Berlin:20260921T114500
DTEND;TZID=Europe/Berlin:20260921T131500
UID:26P183228-20260921T114500@KÖLNER VHS
SUMMARY:Geistig fit? Mach mit! Ganzheitliches Gedächtnistraining (26P183228) 
LOCATION:VHS im Bezirksrathaus Porz, Raum 210, Alfred-Moritz-Platz 1, 51143 Köln
END:VEVENT
BEGIN:VEVENT
DTSTAMP:20260423T184843
DTSTART;TZID=Europe/Berlin:20260928T114500
DTEND;TZID=Europe/Berlin:20260928T131500
UID:26P183228-20260928T114500@KÖLNER VHS
SUMMARY:Geistig fit? Mach mit! Ganzheitliches Gedächtnistraining (26P183228) 
LOCATION:VHS im Bezirksrathaus Porz, Raum 210, Alfred-Moritz-Platz 1, 51143 Köln
END:VEVENT
BEGIN:VEVENT
DTSTAMP:20260423T184843
DTSTART;TZID=Europe/Berlin:20261005T114500
DTEND;TZID=Europe/Berlin:20261005T131500
UID:26P183228-20261005T114500@KÖLNER VHS
SUMMARY:Geistig fit? Mach mit! Ganzheitliches Gedächtnistraining (26P183228) 
LOCATION:VHS im Bezirksrathaus Porz, Raum 210, Alfred-Moritz-Platz 1, 51143 Köln
END:VEVENT
BEGIN:VEVENT
DTSTAMP:20260423T184843
DTSTART;TZID=Europe/Berlin:20261012T114500
DTEND;TZID=Europe/Berlin:20261012T131500
UID:26P183228-20261012T114500@KÖLNER VHS
SUMMARY:Geistig fit? Mach mit! Ganzheitliches Gedächtnistraining (26P183228) 
LOCATION:VHS im Bezirksrathaus Porz, Raum 210, Alfred-Moritz-Platz 1, 51143 Köln
END:VEVENT
BEGIN:VEVENT
DTSTAMP:20260423T184843
DTSTART;TZID=Europe/Berlin:20261102T114500
DTEND;TZID=Europe/Berlin:20261102T131500
UID:26P183228-20261102T114500@KÖLNER VHS
SUMMARY:Geistig fit? Mach mit! Ganzheitliches Gedächtnistraining (26P183228) 
LOCATION:VHS im Bezirksrathaus Porz, Raum 210, Alfred-Moritz-Platz 1, 51143 Köln
END:VEVENT
BEGIN:VEVENT
DTSTAMP:20260423T184843
DTSTART;TZID=Europe/Berlin:20261109T114500
DTEND;TZID=Europe/Berlin:20261109T131500
UID:26P183228-20261109T114500@KÖLNER VHS
SUMMARY:Geistig fit? Mach mit! Ganzheitliches Gedächtnistraining (26P183228) 
LOCATION:VHS im Bezirksrathaus Porz, Raum 210, Alfred-Moritz-Platz 1, 51143 Köln
END:VEVENT
BEGIN:VEVENT
DTSTAMP:20260423T184843
DTSTART;TZID=Europe/Berlin:20261116T114500
DTEND;TZID=Europe/Berlin:20261116T131500
UID:26P183228-20261116T114500@KÖLNER VHS
SUMMARY:Geistig fit? Mach mit! Ganzheitliches Gedächtnistraining (26P183228) 
LOCATION:VHS im Bezirksrathaus Porz, Raum 210, Alfred-Moritz-Platz 1, 51143 Köln
END:VEVENT
BEGIN:VEVENT
DTSTAMP:20260423T184843
DTSTART;TZID=Europe/Berlin:20261123T114500
DTEND;TZID=Europe/Berlin:20261123T131500
UID:26P183228-20261123T114500@KÖLNER VHS
SUMMARY:Geistig fit? Mach mit! Ganzheitliches Gedächtnistraining (26P183228) 
LOCATION:VHS im Bezirksrathaus Porz, Raum 210, Alfred-Moritz-Platz 1, 51143 Köln
END:VEVENT
BEGIN:VEVENT
DTSTAMP:20260423T184843
DTSTART;TZID=Europe/Berlin:20261130T114500
DTEND;TZID=Europe/Berlin:20261130T131500
UID:26P183228-20261130T114500@KÖLNER VHS
SUMMARY:Geistig fit? Mach mit! Ganzheitliches Gedächtnistraining (26P183228) 
LOCATION:VHS im Bezirksrathaus Porz, Raum 210, Alfred-Moritz-Platz 1, 51143 Köln
END:VEVENT
BEGIN:VEVENT
DTSTAMP:20260423T184843
DTSTART;TZID=Europe/Berlin:20261207T114500
DTEND;TZID=Europe/Berlin:20261207T131500
UID:26P183228-20261207T114500@KÖLNER VHS
SUMMARY:Geistig fit? Mach mit! Ganzheitliches Gedächtnistraining (26P183228) 
LOCATION:VHS im Bezirksrathaus Porz, Raum 210, Alfred-Moritz-Platz 1, 51143 Köln
END:VEVENT
END:VCALENDAR