BEGIN:VCALENDAR
VERSION:2.0
PRODID:https://www.kufer.de/kuferweb / DE
METHOD:PUBLISH
CALSCALE:GREGORIAN
X-WR-TIMEZONE:Europe/Berlin
BEGIN:VTIMEZONE
TZID:Europe/Berlin
X-LIC-LOCATION:Europe/Berlin
BEGIN:DAYLIGHT
TZOFFSETFROM:+0100
TZOFFSETTO:+0200
TZNAME:CEST
DTSTART:19700329T020000
RRULE:FREQ=YEARLY;INTERVAL=1;BYDAY=-1SU;BYMONTH=3
END:DAYLIGHT
BEGIN:STANDARD
TZOFFSETFROM:+0200
TZOFFSETTO:+0100
TZNAME:CET
DTSTART:19701025T030000
RRULE:FREQ=YEARLY;INTERVAL=1;BYDAY=-1SU;BYMONTH=10
END:STANDARD
END:VTIMEZONE
BEGIN:VEVENT
DTSTAMP:20260423T184841
DTSTART;TZID=Europe/Berlin:20260921T100000
DTEND;TZID=Europe/Berlin:20260921T113000
UID:26P183227-20260921T100000@KÖLNER VHS
SUMMARY:Geistig fit? Mach mit! Ganzheitliches Gedächtnistraining (26P183227) 
LOCATION:VHS im Bezirksrathaus Porz, Raum 210, Alfred-Moritz-Platz 1, 51143 Köln
END:VEVENT
BEGIN:VEVENT
DTSTAMP:20260423T184841
DTSTART;TZID=Europe/Berlin:20260928T100000
DTEND;TZID=Europe/Berlin:20260928T113000
UID:26P183227-20260928T100000@KÖLNER VHS
SUMMARY:Geistig fit? Mach mit! Ganzheitliches Gedächtnistraining (26P183227) 
LOCATION:VHS im Bezirksrathaus Porz, Raum 210, Alfred-Moritz-Platz 1, 51143 Köln
END:VEVENT
BEGIN:VEVENT
DTSTAMP:20260423T184841
DTSTART;TZID=Europe/Berlin:20261005T100000
DTEND;TZID=Europe/Berlin:20261005T113000
UID:26P183227-20261005T100000@KÖLNER VHS
SUMMARY:Geistig fit? Mach mit! Ganzheitliches Gedächtnistraining (26P183227) 
LOCATION:VHS im Bezirksrathaus Porz, Raum 210, Alfred-Moritz-Platz 1, 51143 Köln
END:VEVENT
BEGIN:VEVENT
DTSTAMP:20260423T184841
DTSTART;TZID=Europe/Berlin:20261012T100000
DTEND;TZID=Europe/Berlin:20261012T113000
UID:26P183227-20261012T100000@KÖLNER VHS
SUMMARY:Geistig fit? Mach mit! Ganzheitliches Gedächtnistraining (26P183227) 
LOCATION:VHS im Bezirksrathaus Porz, Raum 210, Alfred-Moritz-Platz 1, 51143 Köln
END:VEVENT
BEGIN:VEVENT
DTSTAMP:20260423T184841
DTSTART;TZID=Europe/Berlin:20261102T100000
DTEND;TZID=Europe/Berlin:20261102T113000
UID:26P183227-20261102T100000@KÖLNER VHS
SUMMARY:Geistig fit? Mach mit! Ganzheitliches Gedächtnistraining (26P183227) 
LOCATION:VHS im Bezirksrathaus Porz, Raum 210, Alfred-Moritz-Platz 1, 51143 Köln
END:VEVENT
BEGIN:VEVENT
DTSTAMP:20260423T184841
DTSTART;TZID=Europe/Berlin:20261109T100000
DTEND;TZID=Europe/Berlin:20261109T113000
UID:26P183227-20261109T100000@KÖLNER VHS
SUMMARY:Geistig fit? Mach mit! Ganzheitliches Gedächtnistraining (26P183227) 
LOCATION:VHS im Bezirksrathaus Porz, Raum 210, Alfred-Moritz-Platz 1, 51143 Köln
END:VEVENT
BEGIN:VEVENT
DTSTAMP:20260423T184841
DTSTART;TZID=Europe/Berlin:20261116T100000
DTEND;TZID=Europe/Berlin:20261116T113000
UID:26P183227-20261116T100000@KÖLNER VHS
SUMMARY:Geistig fit? Mach mit! Ganzheitliches Gedächtnistraining (26P183227) 
LOCATION:VHS im Bezirksrathaus Porz, Raum 210, Alfred-Moritz-Platz 1, 51143 Köln
END:VEVENT
BEGIN:VEVENT
DTSTAMP:20260423T184841
DTSTART;TZID=Europe/Berlin:20261123T100000
DTEND;TZID=Europe/Berlin:20261123T113000
UID:26P183227-20261123T100000@KÖLNER VHS
SUMMARY:Geistig fit? Mach mit! Ganzheitliches Gedächtnistraining (26P183227) 
LOCATION:VHS im Bezirksrathaus Porz, Raum 210, Alfred-Moritz-Platz 1, 51143 Köln
END:VEVENT
BEGIN:VEVENT
DTSTAMP:20260423T184841
DTSTART;TZID=Europe/Berlin:20261130T100000
DTEND;TZID=Europe/Berlin:20261130T113000
UID:26P183227-20261130T100000@KÖLNER VHS
SUMMARY:Geistig fit? Mach mit! Ganzheitliches Gedächtnistraining (26P183227) 
LOCATION:VHS im Bezirksrathaus Porz, Raum 210, Alfred-Moritz-Platz 1, 51143 Köln
END:VEVENT
BEGIN:VEVENT
DTSTAMP:20260423T184841
DTSTART;TZID=Europe/Berlin:20261207T100000
DTEND;TZID=Europe/Berlin:20261207T113000
UID:26P183227-20261207T100000@KÖLNER VHS
SUMMARY:Geistig fit? Mach mit! Ganzheitliches Gedächtnistraining (26P183227) 
LOCATION:VHS im Bezirksrathaus Porz, Raum 210, Alfred-Moritz-Platz 1, 51143 Köln
END:VEVENT
END:VCALENDAR