BEGIN:VCALENDAR
VERSION:2.0
PRODID:https://www.kufer.de/kuferweb / DE
METHOD:PUBLISH
CALSCALE:GREGORIAN
X-WR-TIMEZONE:Europe/Berlin
BEGIN:VTIMEZONE
TZID:Europe/Berlin
X-LIC-LOCATION:Europe/Berlin
BEGIN:DAYLIGHT
TZOFFSETFROM:+0100
TZOFFSETTO:+0200
TZNAME:CEST
DTSTART:19700329T020000
RRULE:FREQ=YEARLY;INTERVAL=1;BYDAY=-1SU;BYMONTH=3
END:DAYLIGHT
BEGIN:STANDARD
TZOFFSETFROM:+0200
TZOFFSETTO:+0100
TZNAME:CET
DTSTART:19701025T030000
RRULE:FREQ=YEARLY;INTERVAL=1;BYDAY=-1SU;BYMONTH=10
END:STANDARD
END:VTIMEZONE
BEGIN:VEVENT
DTSTAMP:20260424T010015
DTSTART;TZID=Europe/Berlin:20261109T093000
DTEND;TZID=Europe/Berlin:20261109T170000
UID:26O583812-20261109T093000@KÖLNER VHS
SUMMARY:Einführung in die Android App-Programmierung Online-Bildungsurlaub (26O583812) 
LOCATION:online
END:VEVENT
BEGIN:VEVENT
DTSTAMP:20260424T010015
DTSTART;TZID=Europe/Berlin:20261110T093000
DTEND;TZID=Europe/Berlin:20261110T170000
UID:26O583812-20261110T093000@KÖLNER VHS
SUMMARY:Einführung in die Android App-Programmierung Online-Bildungsurlaub (26O583812) 
LOCATION:online
END:VEVENT
BEGIN:VEVENT
DTSTAMP:20260424T010015
DTSTART;TZID=Europe/Berlin:20261111T093000
DTEND;TZID=Europe/Berlin:20261111T170000
UID:26O583812-20261111T093000@KÖLNER VHS
SUMMARY:Einführung in die Android App-Programmierung Online-Bildungsurlaub (26O583812) 
LOCATION:online
END:VEVENT
BEGIN:VEVENT
DTSTAMP:20260424T010015
DTSTART;TZID=Europe/Berlin:20261112T093000
DTEND;TZID=Europe/Berlin:20261112T170000
UID:26O583812-20261112T093000@KÖLNER VHS
SUMMARY:Einführung in die Android App-Programmierung Online-Bildungsurlaub (26O583812) 
LOCATION:online
END:VEVENT
BEGIN:VEVENT
DTSTAMP:20260424T010015
DTSTART;TZID=Europe/Berlin:20261113T093000
DTEND;TZID=Europe/Berlin:20261113T170000
UID:26O583812-20261113T093000@KÖLNER VHS
SUMMARY:Einführung in die Android App-Programmierung Online-Bildungsurlaub (26O583812) 
LOCATION:online
END:VEVENT
END:VCALENDAR