BEGIN:VCALENDAR
VERSION:2.0
PRODID:https://www.kufer.de/kuferweb / DE
METHOD:PUBLISH
CALSCALE:GREGORIAN
X-WR-TIMEZONE:Europe/Berlin
BEGIN:VTIMEZONE
TZID:Europe/Berlin
X-LIC-LOCATION:Europe/Berlin
BEGIN:DAYLIGHT
TZOFFSETFROM:+0100
TZOFFSETTO:+0200
TZNAME:CEST
DTSTART:19700329T020000
RRULE:FREQ=YEARLY;INTERVAL=1;BYDAY=-1SU;BYMONTH=3
END:DAYLIGHT
BEGIN:STANDARD
TZOFFSETFROM:+0200
TZOFFSETTO:+0100
TZNAME:CET
DTSTART:19701025T030000
RRULE:FREQ=YEARLY;INTERVAL=1;BYDAY=-1SU;BYMONTH=10
END:STANDARD
END:VTIMEZONE
BEGIN:VEVENT
DTSTAMP:20260423T233926
DTSTART;TZID=Europe/Berlin:20261201T180000
DTEND;TZID=Europe/Berlin:20261201T211500
UID:26O572653-20261201T180000@KÖLNER VHS
SUMMARY:Die Kunst des Sprechens - Zielorientiert Sprechen durch Sprechcoaching Online-Abendkurs (26O572653) 
LOCATION:online
END:VEVENT
BEGIN:VEVENT
DTSTAMP:20260423T233926
DTSTART;TZID=Europe/Berlin:20261203T180000
DTEND;TZID=Europe/Berlin:20261203T211500
UID:26O572653-20261203T180000@KÖLNER VHS
SUMMARY:Die Kunst des Sprechens - Zielorientiert Sprechen durch Sprechcoaching Online-Abendkurs (26O572653) 
LOCATION:online
END:VEVENT
BEGIN:VEVENT
DTSTAMP:20260423T233926
DTSTART;TZID=Europe/Berlin:20261208T180000
DTEND;TZID=Europe/Berlin:20261208T211500
UID:26O572653-20261208T180000@KÖLNER VHS
SUMMARY:Die Kunst des Sprechens - Zielorientiert Sprechen durch Sprechcoaching Online-Abendkurs (26O572653) 
LOCATION:online
END:VEVENT
BEGIN:VEVENT
DTSTAMP:20260423T233926
DTSTART;TZID=Europe/Berlin:20261210T180000
DTEND;TZID=Europe/Berlin:20261210T211500
UID:26O572653-20261210T180000@KÖLNER VHS
SUMMARY:Die Kunst des Sprechens - Zielorientiert Sprechen durch Sprechcoaching Online-Abendkurs (26O572653) 
LOCATION:online
END:VEVENT
END:VCALENDAR