BEGIN:VCALENDAR
VERSION:2.0
PRODID:https://www.kufer.de/kuferweb / DE
METHOD:PUBLISH
CALSCALE:GREGORIAN
X-WR-TIMEZONE:Europe/Berlin
BEGIN:VTIMEZONE
TZID:Europe/Berlin
X-LIC-LOCATION:Europe/Berlin
BEGIN:DAYLIGHT
TZOFFSETFROM:+0100
TZOFFSETTO:+0200
TZNAME:CEST
DTSTART:19700329T020000
RRULE:FREQ=YEARLY;INTERVAL=1;BYDAY=-1SU;BYMONTH=3
END:DAYLIGHT
BEGIN:STANDARD
TZOFFSETFROM:+0200
TZOFFSETTO:+0100
TZNAME:CET
DTSTART:19701025T030000
RRULE:FREQ=YEARLY;INTERVAL=1;BYDAY=-1SU;BYMONTH=10
END:STANDARD
END:VTIMEZONE
BEGIN:VEVENT
DTSTAMP:20260423T184828
DTSTART;TZID=Europe/Berlin:20260919T100000
DTEND;TZID=Europe/Berlin:20260919T163000
UID:26O569002-20260919T100000@KÖLNER VHS
SUMMARY:Erfolgreiche Akquise mit der eigenen Website - SEO Analysieren und optimieren Sie Ihre Website mit den Tools u. a. von Google, Matomo, Seobility, Open AI, etc. (26O569002) 
LOCATION:online
END:VEVENT
BEGIN:VEVENT
DTSTAMP:20260423T184828
DTSTART;TZID=Europe/Berlin:20260920T100000
DTEND;TZID=Europe/Berlin:20260920T163000
UID:26O569002-20260920T100000@KÖLNER VHS
SUMMARY:Erfolgreiche Akquise mit der eigenen Website - SEO Analysieren und optimieren Sie Ihre Website mit den Tools u. a. von Google, Matomo, Seobility, Open AI, etc. (26O569002) 
LOCATION:online
END:VEVENT
END:VCALENDAR