BEGIN:VCALENDAR
VERSION:2.0
PRODID:https://www.kufer.de/kuferweb / DE
METHOD:PUBLISH
CALSCALE:GREGORIAN
X-WR-TIMEZONE:Europe/Berlin
BEGIN:VTIMEZONE
TZID:Europe/Berlin
X-LIC-LOCATION:Europe/Berlin
BEGIN:DAYLIGHT
TZOFFSETFROM:+0100
TZOFFSETTO:+0200
TZNAME:CEST
DTSTART:19700329T020000
RRULE:FREQ=YEARLY;INTERVAL=1;BYDAY=-1SU;BYMONTH=3
END:DAYLIGHT
BEGIN:STANDARD
TZOFFSETFROM:+0200
TZOFFSETTO:+0100
TZNAME:CET
DTSTART:19701025T030000
RRULE:FREQ=YEARLY;INTERVAL=1;BYDAY=-1SU;BYMONTH=10
END:STANDARD
END:VTIMEZONE
BEGIN:VEVENT
DTSTAMP:20260423T173251
DTSTART;TZID=Europe/Berlin:20260701T191500
DTEND;TZID=Europe/Berlin:20260701T204500
UID:26O467701-20260701T191500@KÖLNER VHS
SUMMARY:Conversación y gramática (B2+/C1) Sommerkurs (26O467701) 
LOCATION:online
END:VEVENT
BEGIN:VEVENT
DTSTAMP:20260423T173251
DTSTART;TZID=Europe/Berlin:20260708T191500
DTEND;TZID=Europe/Berlin:20260708T204500
UID:26O467701-20260708T191500@KÖLNER VHS
SUMMARY:Conversación y gramática (B2+/C1) Sommerkurs (26O467701) 
LOCATION:online
END:VEVENT
BEGIN:VEVENT
DTSTAMP:20260423T173251
DTSTART;TZID=Europe/Berlin:20260715T191500
DTEND;TZID=Europe/Berlin:20260715T204500
UID:26O467701-20260715T191500@KÖLNER VHS
SUMMARY:Conversación y gramática (B2+/C1) Sommerkurs (26O467701) 
LOCATION:online
END:VEVENT
BEGIN:VEVENT
DTSTAMP:20260423T173251
DTSTART;TZID=Europe/Berlin:20260722T191500
DTEND;TZID=Europe/Berlin:20260722T204500
UID:26O467701-20260722T191500@KÖLNER VHS
SUMMARY:Conversación y gramática (B2+/C1) Sommerkurs (26O467701) 
LOCATION:online
END:VEVENT
BEGIN:VEVENT
DTSTAMP:20260423T173251
DTSTART;TZID=Europe/Berlin:20260729T191500
DTEND;TZID=Europe/Berlin:20260729T204500
UID:26O467701-20260729T191500@KÖLNER VHS
SUMMARY:Conversación y gramática (B2+/C1) Sommerkurs (26O467701) 
LOCATION:online
END:VEVENT
BEGIN:VEVENT
DTSTAMP:20260423T173251
DTSTART;TZID=Europe/Berlin:20260805T191500
DTEND;TZID=Europe/Berlin:20260805T204500
UID:26O467701-20260805T191500@KÖLNER VHS
SUMMARY:Conversación y gramática (B2+/C1) Sommerkurs (26O467701) 
LOCATION:online
END:VEVENT
BEGIN:VEVENT
DTSTAMP:20260423T173251
DTSTART;TZID=Europe/Berlin:20260812T191500
DTEND;TZID=Europe/Berlin:20260812T204500
UID:26O467701-20260812T191500@KÖLNER VHS
SUMMARY:Conversación y gramática (B2+/C1) Sommerkurs (26O467701) 
LOCATION:online
END:VEVENT
END:VCALENDAR