BEGIN:VCALENDAR
VERSION:2.0
PRODID:https://www.kufer.de/kuferweb / DE
METHOD:PUBLISH
CALSCALE:GREGORIAN
X-WR-TIMEZONE:Europe/Berlin
BEGIN:VTIMEZONE
TZID:Europe/Berlin
X-LIC-LOCATION:Europe/Berlin
BEGIN:DAYLIGHT
TZOFFSETFROM:+0100
TZOFFSETTO:+0200
TZNAME:CEST
DTSTART:19700329T020000
RRULE:FREQ=YEARLY;INTERVAL=1;BYDAY=-1SU;BYMONTH=3
END:DAYLIGHT
BEGIN:STANDARD
TZOFFSETFROM:+0200
TZOFFSETTO:+0100
TZNAME:CET
DTSTART:19701025T030000
RRULE:FREQ=YEARLY;INTERVAL=1;BYDAY=-1SU;BYMONTH=10
END:STANDARD
END:VTIMEZONE
BEGIN:VEVENT
DTSTAMP:20260423T220733
DTSTART;TZID=Europe/Berlin:20260702T190000
DTEND;TZID=Europe/Berlin:20260702T203000
UID:26O467201-20260702T190000@KÖLNER VHS
SUMMARY:Conversación y gramática (B2) Sommerkurs (26O467201) 
LOCATION:online
END:VEVENT
BEGIN:VEVENT
DTSTAMP:20260423T220733
DTSTART;TZID=Europe/Berlin:20260709T190000
DTEND;TZID=Europe/Berlin:20260709T203000
UID:26O467201-20260709T190000@KÖLNER VHS
SUMMARY:Conversación y gramática (B2) Sommerkurs (26O467201) 
LOCATION:online
END:VEVENT
BEGIN:VEVENT
DTSTAMP:20260423T220733
DTSTART;TZID=Europe/Berlin:20260716T190000
DTEND;TZID=Europe/Berlin:20260716T203000
UID:26O467201-20260716T190000@KÖLNER VHS
SUMMARY:Conversación y gramática (B2) Sommerkurs (26O467201) 
LOCATION:online
END:VEVENT
BEGIN:VEVENT
DTSTAMP:20260423T220733
DTSTART;TZID=Europe/Berlin:20260723T190000
DTEND;TZID=Europe/Berlin:20260723T203000
UID:26O467201-20260723T190000@KÖLNER VHS
SUMMARY:Conversación y gramática (B2) Sommerkurs (26O467201) 
LOCATION:online
END:VEVENT
BEGIN:VEVENT
DTSTAMP:20260423T220733
DTSTART;TZID=Europe/Berlin:20260730T190000
DTEND;TZID=Europe/Berlin:20260730T203000
UID:26O467201-20260730T190000@KÖLNER VHS
SUMMARY:Conversación y gramática (B2) Sommerkurs (26O467201) 
LOCATION:online
END:VEVENT
BEGIN:VEVENT
DTSTAMP:20260423T220733
DTSTART;TZID=Europe/Berlin:20260806T190000
DTEND;TZID=Europe/Berlin:20260806T203000
UID:26O467201-20260806T190000@KÖLNER VHS
SUMMARY:Conversación y gramática (B2) Sommerkurs (26O467201) 
LOCATION:online
END:VEVENT
BEGIN:VEVENT
DTSTAMP:20260423T220733
DTSTART;TZID=Europe/Berlin:20260813T190000
DTEND;TZID=Europe/Berlin:20260813T203000
UID:26O467201-20260813T190000@KÖLNER VHS
SUMMARY:Conversación y gramática (B2) Sommerkurs (26O467201) 
LOCATION:online
END:VEVENT
END:VCALENDAR