BEGIN:VCALENDAR
VERSION:2.0
PRODID:https://www.kufer.de/kuferweb / DE
METHOD:PUBLISH
CALSCALE:GREGORIAN
X-WR-TIMEZONE:Europe/Berlin
BEGIN:VTIMEZONE
TZID:Europe/Berlin
X-LIC-LOCATION:Europe/Berlin
BEGIN:DAYLIGHT
TZOFFSETFROM:+0100
TZOFFSETTO:+0200
TZNAME:CEST
DTSTART:19700329T020000
RRULE:FREQ=YEARLY;INTERVAL=1;BYDAY=-1SU;BYMONTH=3
END:DAYLIGHT
BEGIN:STANDARD
TZOFFSETFROM:+0200
TZOFFSETTO:+0100
TZNAME:CET
DTSTART:19701025T030000
RRULE:FREQ=YEARLY;INTERVAL=1;BYDAY=-1SU;BYMONTH=10
END:STANDARD
END:VTIMEZONE
BEGIN:VEVENT
DTSTAMP:20260423T191130
DTSTART;TZID=Europe/Berlin:20260630T190000
DTEND;TZID=Europe/Berlin:20260630T203000
UID:26O467101-20260630T190000@KÖLNER VHS
SUMMARY:Conversación y gramática (B1) Sommerkurs (26O467101) 
LOCATION:online
END:VEVENT
BEGIN:VEVENT
DTSTAMP:20260423T191130
DTSTART;TZID=Europe/Berlin:20260707T190000
DTEND;TZID=Europe/Berlin:20260707T203000
UID:26O467101-20260707T190000@KÖLNER VHS
SUMMARY:Conversación y gramática (B1) Sommerkurs (26O467101) 
LOCATION:online
END:VEVENT
BEGIN:VEVENT
DTSTAMP:20260423T191130
DTSTART;TZID=Europe/Berlin:20260714T190000
DTEND;TZID=Europe/Berlin:20260714T203000
UID:26O467101-20260714T190000@KÖLNER VHS
SUMMARY:Conversación y gramática (B1) Sommerkurs (26O467101) 
LOCATION:online
END:VEVENT
BEGIN:VEVENT
DTSTAMP:20260423T191130
DTSTART;TZID=Europe/Berlin:20260721T190000
DTEND;TZID=Europe/Berlin:20260721T203000
UID:26O467101-20260721T190000@KÖLNER VHS
SUMMARY:Conversación y gramática (B1) Sommerkurs (26O467101) 
LOCATION:online
END:VEVENT
BEGIN:VEVENT
DTSTAMP:20260423T191130
DTSTART;TZID=Europe/Berlin:20260728T190000
DTEND;TZID=Europe/Berlin:20260728T203000
UID:26O467101-20260728T190000@KÖLNER VHS
SUMMARY:Conversación y gramática (B1) Sommerkurs (26O467101) 
LOCATION:online
END:VEVENT
BEGIN:VEVENT
DTSTAMP:20260423T191130
DTSTART;TZID=Europe/Berlin:20260804T190000
DTEND;TZID=Europe/Berlin:20260804T203000
UID:26O467101-20260804T190000@KÖLNER VHS
SUMMARY:Conversación y gramática (B1) Sommerkurs (26O467101) 
LOCATION:online
END:VEVENT
BEGIN:VEVENT
DTSTAMP:20260423T191130
DTSTART;TZID=Europe/Berlin:20260811T190000
DTEND;TZID=Europe/Berlin:20260811T203000
UID:26O467101-20260811T190000@KÖLNER VHS
SUMMARY:Conversación y gramática (B1) Sommerkurs (26O467101) 
LOCATION:online
END:VEVENT
END:VCALENDAR