BEGIN:VCALENDAR
VERSION:2.0
PRODID:https://www.kufer.de/kuferweb / DE
METHOD:PUBLISH
CALSCALE:GREGORIAN
X-WR-TIMEZONE:Europe/Berlin
BEGIN:VTIMEZONE
TZID:Europe/Berlin
X-LIC-LOCATION:Europe/Berlin
BEGIN:DAYLIGHT
TZOFFSETFROM:+0100
TZOFFSETTO:+0200
TZNAME:CEST
DTSTART:19700329T020000
RRULE:FREQ=YEARLY;INTERVAL=1;BYDAY=-1SU;BYMONTH=3
END:DAYLIGHT
BEGIN:STANDARD
TZOFFSETFROM:+0200
TZOFFSETTO:+0100
TZNAME:CET
DTSTART:19701025T030000
RRULE:FREQ=YEARLY;INTERVAL=1;BYDAY=-1SU;BYMONTH=10
END:STANDARD
END:VTIMEZONE
BEGIN:VEVENT
DTSTAMP:20260423T190338
DTSTART;TZID=Europe/Berlin:20260629T194500
DTEND;TZID=Europe/Berlin:20260629T211500
UID:26O461201-20260629T194500@KÖLNER VHS
SUMMARY:Auffrischung und Konversation (A1) Sommerkurs (26O461201) 
LOCATION:online
END:VEVENT
BEGIN:VEVENT
DTSTAMP:20260423T190338
DTSTART;TZID=Europe/Berlin:20260706T194500
DTEND;TZID=Europe/Berlin:20260706T211500
UID:26O461201-20260706T194500@KÖLNER VHS
SUMMARY:Auffrischung und Konversation (A1) Sommerkurs (26O461201) 
LOCATION:online
END:VEVENT
BEGIN:VEVENT
DTSTAMP:20260423T190338
DTSTART;TZID=Europe/Berlin:20260713T194500
DTEND;TZID=Europe/Berlin:20260713T211500
UID:26O461201-20260713T194500@KÖLNER VHS
SUMMARY:Auffrischung und Konversation (A1) Sommerkurs (26O461201) 
LOCATION:online
END:VEVENT
BEGIN:VEVENT
DTSTAMP:20260423T190338
DTSTART;TZID=Europe/Berlin:20260720T194500
DTEND;TZID=Europe/Berlin:20260720T211500
UID:26O461201-20260720T194500@KÖLNER VHS
SUMMARY:Auffrischung und Konversation (A1) Sommerkurs (26O461201) 
LOCATION:online
END:VEVENT
BEGIN:VEVENT
DTSTAMP:20260423T190338
DTSTART;TZID=Europe/Berlin:20260727T194500
DTEND;TZID=Europe/Berlin:20260727T211500
UID:26O461201-20260727T194500@KÖLNER VHS
SUMMARY:Auffrischung und Konversation (A1) Sommerkurs (26O461201) 
LOCATION:online
END:VEVENT
BEGIN:VEVENT
DTSTAMP:20260423T190338
DTSTART;TZID=Europe/Berlin:20260803T194500
DTEND;TZID=Europe/Berlin:20260803T211500
UID:26O461201-20260803T194500@KÖLNER VHS
SUMMARY:Auffrischung und Konversation (A1) Sommerkurs (26O461201) 
LOCATION:online
END:VEVENT
BEGIN:VEVENT
DTSTAMP:20260423T190338
DTSTART;TZID=Europe/Berlin:20260810T194500
DTEND;TZID=Europe/Berlin:20260810T211500
UID:26O461201-20260810T194500@KÖLNER VHS
SUMMARY:Auffrischung und Konversation (A1) Sommerkurs (26O461201) 
LOCATION:online
END:VEVENT
END:VCALENDAR