BEGIN:VCALENDAR
VERSION:2.0
PRODID:https://www.kufer.de/kuferweb / DE
METHOD:PUBLISH
CALSCALE:GREGORIAN
X-WR-TIMEZONE:Europe/Berlin
BEGIN:VTIMEZONE
TZID:Europe/Berlin
X-LIC-LOCATION:Europe/Berlin
BEGIN:DAYLIGHT
TZOFFSETFROM:+0100
TZOFFSETTO:+0200
TZNAME:CEST
DTSTART:19700329T020000
RRULE:FREQ=YEARLY;INTERVAL=1;BYDAY=-1SU;BYMONTH=3
END:DAYLIGHT
BEGIN:STANDARD
TZOFFSETFROM:+0200
TZOFFSETTO:+0100
TZNAME:CET
DTSTART:19701025T030000
RRULE:FREQ=YEARLY;INTERVAL=1;BYDAY=-1SU;BYMONTH=10
END:STANDARD
END:VTIMEZONE
BEGIN:VEVENT
DTSTAMP:20260424T004410
DTSTART;TZID=Europe/Berlin:20260622T090000
DTEND;TZID=Europe/Berlin:20260622T154500
UID:26O432043-20260622T090000@KÖLNER VHS
SUMMARY:Bildungsurlaub Online - Business English (B1/B2) (26O432043) 
LOCATION:online
END:VEVENT
BEGIN:VEVENT
DTSTAMP:20260424T004410
DTSTART;TZID=Europe/Berlin:20260623T090000
DTEND;TZID=Europe/Berlin:20260623T154500
UID:26O432043-20260623T090000@KÖLNER VHS
SUMMARY:Bildungsurlaub Online - Business English (B1/B2) (26O432043) 
LOCATION:online
END:VEVENT
BEGIN:VEVENT
DTSTAMP:20260424T004410
DTSTART;TZID=Europe/Berlin:20260624T090000
DTEND;TZID=Europe/Berlin:20260624T154500
UID:26O432043-20260624T090000@KÖLNER VHS
SUMMARY:Bildungsurlaub Online - Business English (B1/B2) (26O432043) 
LOCATION:online
END:VEVENT
BEGIN:VEVENT
DTSTAMP:20260424T004410
DTSTART;TZID=Europe/Berlin:20260625T090000
DTEND;TZID=Europe/Berlin:20260625T154500
UID:26O432043-20260625T090000@KÖLNER VHS
SUMMARY:Bildungsurlaub Online - Business English (B1/B2) (26O432043) 
LOCATION:online
END:VEVENT
BEGIN:VEVENT
DTSTAMP:20260424T004410
DTSTART;TZID=Europe/Berlin:20260626T090000
DTEND;TZID=Europe/Berlin:20260626T154500
UID:26O432043-20260626T090000@KÖLNER VHS
SUMMARY:Bildungsurlaub Online - Business English (B1/B2) (26O432043) 
LOCATION:online
END:VEVENT
END:VCALENDAR