BEGIN:VCALENDAR
VERSION:2.0
PRODID:https://www.kufer.de/kuferweb / DE
METHOD:PUBLISH
CALSCALE:GREGORIAN
X-WR-TIMEZONE:Europe/Berlin
BEGIN:VTIMEZONE
TZID:Europe/Berlin
X-LIC-LOCATION:Europe/Berlin
BEGIN:DAYLIGHT
TZOFFSETFROM:+0100
TZOFFSETTO:+0200
TZNAME:CEST
DTSTART:19700329T020000
RRULE:FREQ=YEARLY;INTERVAL=1;BYDAY=-1SU;BYMONTH=3
END:DAYLIGHT
BEGIN:STANDARD
TZOFFSETFROM:+0200
TZOFFSETTO:+0100
TZNAME:CET
DTSTART:19701025T030000
RRULE:FREQ=YEARLY;INTERVAL=1;BYDAY=-1SU;BYMONTH=10
END:STANDARD
END:VTIMEZONE
BEGIN:VEVENT
DTSTAMP:20260419T220612
DTSTART;TZID=Europe/Berlin:20260413T180000
DTEND;TZID=Europe/Berlin:20260413T201500
UID:26O428612-20260413T180000@KÖLNER VHS
SUMMARY:Deutschkurs C1.1 (26O428612) 
LOCATION:online
END:VEVENT
BEGIN:VEVENT
DTSTAMP:20260419T220612
DTSTART;TZID=Europe/Berlin:20260415T180000
DTEND;TZID=Europe/Berlin:20260415T201500
UID:26O428612-20260415T180000@KÖLNER VHS
SUMMARY:Deutschkurs C1.1 (26O428612) 
LOCATION:online
END:VEVENT
BEGIN:VEVENT
DTSTAMP:20260419T220612
DTSTART;TZID=Europe/Berlin:20260416T183000
DTEND;TZID=Europe/Berlin:20260416T204500
UID:26O428612-20260416T183000@KÖLNER VHS
SUMMARY:Deutschkurs C1.1 (26O428612) 
LOCATION:online
END:VEVENT
BEGIN:VEVENT
DTSTAMP:20260419T220612
DTSTART;TZID=Europe/Berlin:20260420T180000
DTEND;TZID=Europe/Berlin:20260420T201500
UID:26O428612-20260420T180000@KÖLNER VHS
SUMMARY:Deutschkurs C1.1 (26O428612) 
LOCATION:online
END:VEVENT
BEGIN:VEVENT
DTSTAMP:20260419T220612
DTSTART;TZID=Europe/Berlin:20260422T180000
DTEND;TZID=Europe/Berlin:20260422T201500
UID:26O428612-20260422T180000@KÖLNER VHS
SUMMARY:Deutschkurs C1.1 (26O428612) 
LOCATION:online
END:VEVENT
BEGIN:VEVENT
DTSTAMP:20260419T220612
DTSTART;TZID=Europe/Berlin:20260423T183000
DTEND;TZID=Europe/Berlin:20260423T204500
UID:26O428612-20260423T183000@KÖLNER VHS
SUMMARY:Deutschkurs C1.1 (26O428612) 
LOCATION:online
END:VEVENT
BEGIN:VEVENT
DTSTAMP:20260419T220612
DTSTART;TZID=Europe/Berlin:20260427T180000
DTEND;TZID=Europe/Berlin:20260427T201500
UID:26O428612-20260427T180000@KÖLNER VHS
SUMMARY:Deutschkurs C1.1 (26O428612) 
LOCATION:online
END:VEVENT
BEGIN:VEVENT
DTSTAMP:20260419T220612
DTSTART;TZID=Europe/Berlin:20260429T180000
DTEND;TZID=Europe/Berlin:20260429T201500
UID:26O428612-20260429T180000@KÖLNER VHS
SUMMARY:Deutschkurs C1.1 (26O428612) 
LOCATION:online
END:VEVENT
BEGIN:VEVENT
DTSTAMP:20260419T220612
DTSTART;TZID=Europe/Berlin:20260430T183000
DTEND;TZID=Europe/Berlin:20260430T204500
UID:26O428612-20260430T183000@KÖLNER VHS
SUMMARY:Deutschkurs C1.1 (26O428612) 
LOCATION:online
END:VEVENT
BEGIN:VEVENT
DTSTAMP:20260419T220612
DTSTART;TZID=Europe/Berlin:20260504T180000
DTEND;TZID=Europe/Berlin:20260504T201500
UID:26O428612-20260504T180000@KÖLNER VHS
SUMMARY:Deutschkurs C1.1 (26O428612) 
LOCATION:online
END:VEVENT
BEGIN:VEVENT
DTSTAMP:20260419T220612
DTSTART;TZID=Europe/Berlin:20260506T180000
DTEND;TZID=Europe/Berlin:20260506T201500
UID:26O428612-20260506T180000@KÖLNER VHS
SUMMARY:Deutschkurs C1.1 (26O428612) 
LOCATION:online
END:VEVENT
BEGIN:VEVENT
DTSTAMP:20260419T220612
DTSTART;TZID=Europe/Berlin:20260507T183000
DTEND;TZID=Europe/Berlin:20260507T204500
UID:26O428612-20260507T183000@KÖLNER VHS
SUMMARY:Deutschkurs C1.1 (26O428612) 
LOCATION:online
END:VEVENT
BEGIN:VEVENT
DTSTAMP:20260419T220612
DTSTART;TZID=Europe/Berlin:20260511T180000
DTEND;TZID=Europe/Berlin:20260511T201500
UID:26O428612-20260511T180000@KÖLNER VHS
SUMMARY:Deutschkurs C1.1 (26O428612) 
LOCATION:online
END:VEVENT
BEGIN:VEVENT
DTSTAMP:20260419T220612
DTSTART;TZID=Europe/Berlin:20260513T180000
DTEND;TZID=Europe/Berlin:20260513T201500
UID:26O428612-20260513T180000@KÖLNER VHS
SUMMARY:Deutschkurs C1.1 (26O428612) 
LOCATION:online
END:VEVENT
BEGIN:VEVENT
DTSTAMP:20260419T220612
DTSTART;TZID=Europe/Berlin:20260518T180000
DTEND;TZID=Europe/Berlin:20260518T201500
UID:26O428612-20260518T180000@KÖLNER VHS
SUMMARY:Deutschkurs C1.1 (26O428612) 
LOCATION:online
END:VEVENT
BEGIN:VEVENT
DTSTAMP:20260419T220612
DTSTART;TZID=Europe/Berlin:20260520T180000
DTEND;TZID=Europe/Berlin:20260520T201500
UID:26O428612-20260520T180000@KÖLNER VHS
SUMMARY:Deutschkurs C1.1 (26O428612) 
LOCATION:online
END:VEVENT
BEGIN:VEVENT
DTSTAMP:20260419T220612
DTSTART;TZID=Europe/Berlin:20260521T183000
DTEND;TZID=Europe/Berlin:20260521T204500
UID:26O428612-20260521T183000@KÖLNER VHS
SUMMARY:Deutschkurs C1.1 (26O428612) 
LOCATION:online
END:VEVENT
BEGIN:VEVENT
DTSTAMP:20260419T220612
DTSTART;TZID=Europe/Berlin:20260527T180000
DTEND;TZID=Europe/Berlin:20260527T201500
UID:26O428612-20260527T180000@KÖLNER VHS
SUMMARY:Deutschkurs C1.1 (26O428612) 
LOCATION:online
END:VEVENT
BEGIN:VEVENT
DTSTAMP:20260419T220612
DTSTART;TZID=Europe/Berlin:20260528T183000
DTEND;TZID=Europe/Berlin:20260528T204500
UID:26O428612-20260528T183000@KÖLNER VHS
SUMMARY:Deutschkurs C1.1 (26O428612) 
LOCATION:online
END:VEVENT
BEGIN:VEVENT
DTSTAMP:20260419T220612
DTSTART;TZID=Europe/Berlin:20260601T180000
DTEND;TZID=Europe/Berlin:20260601T201500
UID:26O428612-20260601T180000@KÖLNER VHS
SUMMARY:Deutschkurs C1.1 (26O428612) 
LOCATION:online
END:VEVENT
BEGIN:VEVENT
DTSTAMP:20260419T220612
DTSTART;TZID=Europe/Berlin:20260603T180000
DTEND;TZID=Europe/Berlin:20260603T201500
UID:26O428612-20260603T180000@KÖLNER VHS
SUMMARY:Deutschkurs C1.1 (26O428612) 
LOCATION:online
END:VEVENT
BEGIN:VEVENT
DTSTAMP:20260419T220612
DTSTART;TZID=Europe/Berlin:20260608T180000
DTEND;TZID=Europe/Berlin:20260608T201500
UID:26O428612-20260608T180000@KÖLNER VHS
SUMMARY:Deutschkurs C1.1 (26O428612) 
LOCATION:online
END:VEVENT
BEGIN:VEVENT
DTSTAMP:20260419T220612
DTSTART;TZID=Europe/Berlin:20260610T180000
DTEND;TZID=Europe/Berlin:20260610T201500
UID:26O428612-20260610T180000@KÖLNER VHS
SUMMARY:Deutschkurs C1.1 (26O428612) 
LOCATION:online
END:VEVENT
BEGIN:VEVENT
DTSTAMP:20260419T220612
DTSTART;TZID=Europe/Berlin:20260611T183000
DTEND;TZID=Europe/Berlin:20260611T204500
UID:26O428612-20260611T183000@KÖLNER VHS
SUMMARY:Deutschkurs C1.1 (26O428612) 
LOCATION:online
END:VEVENT
BEGIN:VEVENT
DTSTAMP:20260419T220612
DTSTART;TZID=Europe/Berlin:20260615T180000
DTEND;TZID=Europe/Berlin:20260615T201500
UID:26O428612-20260615T180000@KÖLNER VHS
SUMMARY:Deutschkurs C1.1 (26O428612) 
LOCATION:online
END:VEVENT
BEGIN:VEVENT
DTSTAMP:20260419T220612
DTSTART;TZID=Europe/Berlin:20260617T180000
DTEND;TZID=Europe/Berlin:20260617T201500
UID:26O428612-20260617T180000@KÖLNER VHS
SUMMARY:Deutschkurs C1.1 (26O428612) 
LOCATION:online
END:VEVENT
BEGIN:VEVENT
DTSTAMP:20260419T220612
DTSTART;TZID=Europe/Berlin:20260618T183000
DTEND;TZID=Europe/Berlin:20260618T204500
UID:26O428612-20260618T183000@KÖLNER VHS
SUMMARY:Deutschkurs C1.1 (26O428612) 
LOCATION:online
END:VEVENT
BEGIN:VEVENT
DTSTAMP:20260419T220612
DTSTART;TZID=Europe/Berlin:20260622T180000
DTEND;TZID=Europe/Berlin:20260622T201500
UID:26O428612-20260622T180000@KÖLNER VHS
SUMMARY:Deutschkurs C1.1 (26O428612) 
LOCATION:online
END:VEVENT
END:VCALENDAR