BEGIN:VCALENDAR
VERSION:2.0
PRODID:https://www.kufer.de/kuferweb / DE
METHOD:PUBLISH
CALSCALE:GREGORIAN
X-WR-TIMEZONE:Europe/Berlin
BEGIN:VTIMEZONE
TZID:Europe/Berlin
X-LIC-LOCATION:Europe/Berlin
BEGIN:DAYLIGHT
TZOFFSETFROM:+0100
TZOFFSETTO:+0200
TZNAME:CEST
DTSTART:19700329T020000
RRULE:FREQ=YEARLY;INTERVAL=1;BYDAY=-1SU;BYMONTH=3
END:DAYLIGHT
BEGIN:STANDARD
TZOFFSETFROM:+0200
TZOFFSETTO:+0100
TZNAME:CET
DTSTART:19701025T030000
RRULE:FREQ=YEARLY;INTERVAL=1;BYDAY=-1SU;BYMONTH=10
END:STANDARD
END:VTIMEZONE
BEGIN:VEVENT
DTSTAMP:20260419T222157
DTSTART;TZID=Europe/Berlin:20260413T200000
DTEND;TZID=Europe/Berlin:20260413T214500
UID:26O428422-20260413T200000@KÖLNER VHS
SUMMARY:Deutschkurs B2.2 (26O428422) 
LOCATION:online
END:VEVENT
BEGIN:VEVENT
DTSTAMP:20260419T222157
DTSTART;TZID=Europe/Berlin:20260415T183000
DTEND;TZID=Europe/Berlin:20260415T210000
UID:26O428422-20260415T183000@KÖLNER VHS
SUMMARY:Deutschkurs B2.2 (26O428422) 
LOCATION:online
END:VEVENT
BEGIN:VEVENT
DTSTAMP:20260419T222157
DTSTART;TZID=Europe/Berlin:20260417T183000
DTEND;TZID=Europe/Berlin:20260417T210000
UID:26O428422-20260417T183000@KÖLNER VHS
SUMMARY:Deutschkurs B2.2 (26O428422) 
LOCATION:online
END:VEVENT
BEGIN:VEVENT
DTSTAMP:20260419T222157
DTSTART;TZID=Europe/Berlin:20260420T200000
DTEND;TZID=Europe/Berlin:20260420T214500
UID:26O428422-20260420T200000@KÖLNER VHS
SUMMARY:Deutschkurs B2.2 (26O428422) 
LOCATION:online
END:VEVENT
BEGIN:VEVENT
DTSTAMP:20260419T222157
DTSTART;TZID=Europe/Berlin:20260422T183000
DTEND;TZID=Europe/Berlin:20260422T210000
UID:26O428422-20260422T183000@KÖLNER VHS
SUMMARY:Deutschkurs B2.2 (26O428422) 
LOCATION:online
END:VEVENT
BEGIN:VEVENT
DTSTAMP:20260419T222157
DTSTART;TZID=Europe/Berlin:20260424T183000
DTEND;TZID=Europe/Berlin:20260424T210000
UID:26O428422-20260424T183000@KÖLNER VHS
SUMMARY:Deutschkurs B2.2 (26O428422) 
LOCATION:online
END:VEVENT
BEGIN:VEVENT
DTSTAMP:20260419T222157
DTSTART;TZID=Europe/Berlin:20260427T200000
DTEND;TZID=Europe/Berlin:20260427T214500
UID:26O428422-20260427T200000@KÖLNER VHS
SUMMARY:Deutschkurs B2.2 (26O428422) 
LOCATION:online
END:VEVENT
BEGIN:VEVENT
DTSTAMP:20260419T222157
DTSTART;TZID=Europe/Berlin:20260429T183000
DTEND;TZID=Europe/Berlin:20260429T210000
UID:26O428422-20260429T183000@KÖLNER VHS
SUMMARY:Deutschkurs B2.2 (26O428422) 
LOCATION:online
END:VEVENT
BEGIN:VEVENT
DTSTAMP:20260419T222157
DTSTART;TZID=Europe/Berlin:20260504T200000
DTEND;TZID=Europe/Berlin:20260504T214500
UID:26O428422-20260504T200000@KÖLNER VHS
SUMMARY:Deutschkurs B2.2 (26O428422) 
LOCATION:online
END:VEVENT
BEGIN:VEVENT
DTSTAMP:20260419T222157
DTSTART;TZID=Europe/Berlin:20260506T183000
DTEND;TZID=Europe/Berlin:20260506T210000
UID:26O428422-20260506T183000@KÖLNER VHS
SUMMARY:Deutschkurs B2.2 (26O428422) 
LOCATION:online
END:VEVENT
BEGIN:VEVENT
DTSTAMP:20260419T222157
DTSTART;TZID=Europe/Berlin:20260508T183000
DTEND;TZID=Europe/Berlin:20260508T210000
UID:26O428422-20260508T183000@KÖLNER VHS
SUMMARY:Deutschkurs B2.2 (26O428422) 
LOCATION:online
END:VEVENT
BEGIN:VEVENT
DTSTAMP:20260419T222157
DTSTART;TZID=Europe/Berlin:20260511T200000
DTEND;TZID=Europe/Berlin:20260511T214500
UID:26O428422-20260511T200000@KÖLNER VHS
SUMMARY:Deutschkurs B2.2 (26O428422) 
LOCATION:online
END:VEVENT
BEGIN:VEVENT
DTSTAMP:20260419T222157
DTSTART;TZID=Europe/Berlin:20260513T183000
DTEND;TZID=Europe/Berlin:20260513T210000
UID:26O428422-20260513T183000@KÖLNER VHS
SUMMARY:Deutschkurs B2.2 (26O428422) 
LOCATION:online
END:VEVENT
BEGIN:VEVENT
DTSTAMP:20260419T222157
DTSTART;TZID=Europe/Berlin:20260518T200000
DTEND;TZID=Europe/Berlin:20260518T214500
UID:26O428422-20260518T200000@KÖLNER VHS
SUMMARY:Deutschkurs B2.2 (26O428422) 
LOCATION:online
END:VEVENT
BEGIN:VEVENT
DTSTAMP:20260419T222157
DTSTART;TZID=Europe/Berlin:20260520T183000
DTEND;TZID=Europe/Berlin:20260520T210000
UID:26O428422-20260520T183000@KÖLNER VHS
SUMMARY:Deutschkurs B2.2 (26O428422) 
LOCATION:online
END:VEVENT
BEGIN:VEVENT
DTSTAMP:20260419T222157
DTSTART;TZID=Europe/Berlin:20260527T183000
DTEND;TZID=Europe/Berlin:20260527T210000
UID:26O428422-20260527T183000@KÖLNER VHS
SUMMARY:Deutschkurs B2.2 (26O428422) 
LOCATION:online
END:VEVENT
BEGIN:VEVENT
DTSTAMP:20260419T222157
DTSTART;TZID=Europe/Berlin:20260529T183000
DTEND;TZID=Europe/Berlin:20260529T210000
UID:26O428422-20260529T183000@KÖLNER VHS
SUMMARY:Deutschkurs B2.2 (26O428422) 
LOCATION:online
END:VEVENT
BEGIN:VEVENT
DTSTAMP:20260419T222157
DTSTART;TZID=Europe/Berlin:20260608T200000
DTEND;TZID=Europe/Berlin:20260608T214500
UID:26O428422-20260608T200000@KÖLNER VHS
SUMMARY:Deutschkurs B2.2 (26O428422) 
LOCATION:online
END:VEVENT
BEGIN:VEVENT
DTSTAMP:20260419T222157
DTSTART;TZID=Europe/Berlin:20260610T183000
DTEND;TZID=Europe/Berlin:20260610T210000
UID:26O428422-20260610T183000@KÖLNER VHS
SUMMARY:Deutschkurs B2.2 (26O428422) 
LOCATION:online
END:VEVENT
BEGIN:VEVENT
DTSTAMP:20260419T222157
DTSTART;TZID=Europe/Berlin:20260612T183000
DTEND;TZID=Europe/Berlin:20260612T210000
UID:26O428422-20260612T183000@KÖLNER VHS
SUMMARY:Deutschkurs B2.2 (26O428422) 
LOCATION:online
END:VEVENT
BEGIN:VEVENT
DTSTAMP:20260419T222157
DTSTART;TZID=Europe/Berlin:20260615T200000
DTEND;TZID=Europe/Berlin:20260615T214500
UID:26O428422-20260615T200000@KÖLNER VHS
SUMMARY:Deutschkurs B2.2 (26O428422) 
LOCATION:online
END:VEVENT
BEGIN:VEVENT
DTSTAMP:20260419T222157
DTSTART;TZID=Europe/Berlin:20260617T183000
DTEND;TZID=Europe/Berlin:20260617T210000
UID:26O428422-20260617T183000@KÖLNER VHS
SUMMARY:Deutschkurs B2.2 (26O428422) 
LOCATION:online
END:VEVENT
BEGIN:VEVENT
DTSTAMP:20260419T222157
DTSTART;TZID=Europe/Berlin:20260619T183000
DTEND;TZID=Europe/Berlin:20260619T210000
UID:26O428422-20260619T183000@KÖLNER VHS
SUMMARY:Deutschkurs B2.2 (26O428422) 
LOCATION:online
END:VEVENT
BEGIN:VEVENT
DTSTAMP:20260419T222157
DTSTART;TZID=Europe/Berlin:20260622T200000
DTEND;TZID=Europe/Berlin:20260622T214500
UID:26O428422-20260622T200000@KÖLNER VHS
SUMMARY:Deutschkurs B2.2 (26O428422) 
LOCATION:online
END:VEVENT
BEGIN:VEVENT
DTSTAMP:20260419T222157
DTSTART;TZID=Europe/Berlin:20260624T183000
DTEND;TZID=Europe/Berlin:20260624T211500
UID:26O428422-20260624T183000@KÖLNER VHS
SUMMARY:Deutschkurs B2.2 (26O428422) 
LOCATION:online
END:VEVENT
BEGIN:VEVENT
DTSTAMP:20260419T222157
DTSTART;TZID=Europe/Berlin:20260626T183000
DTEND;TZID=Europe/Berlin:20260626T211500
UID:26O428422-20260626T183000@KÖLNER VHS
DESCRIPTION:Ersatz für Ausfall am 22.05.2026
SUMMARY:Deutschkurs B2.2 (26O428422) 
LOCATION:online
END:VEVENT
BEGIN:VEVENT
DTSTAMP:20260419T222157
DTSTART;TZID=Europe/Berlin:20260629T200000
DTEND;TZID=Europe/Berlin:20260629T214500
UID:26O428422-20260629T200000@KÖLNER VHS
DESCRIPTION:Ersatz für Ausfall am 01.06.2026
SUMMARY:Deutschkurs B2.2 (26O428422) 
LOCATION:online
END:VEVENT
BEGIN:VEVENT
DTSTAMP:20260419T222157
DTSTART;TZID=Europe/Berlin:20260701T183000
DTEND;TZID=Europe/Berlin:20260701T210000
UID:26O428422-20260701T183000@KÖLNER VHS
DESCRIPTION:Ersatz für Ausfall am 03.06.2026
SUMMARY:Deutschkurs B2.2 (26O428422) 
LOCATION:online
END:VEVENT
END:VCALENDAR