BEGIN:VCALENDAR
VERSION:2.0
PRODID:https://www.kufer.de/kuferweb / DE
METHOD:PUBLISH
CALSCALE:GREGORIAN
X-WR-TIMEZONE:Europe/Berlin
BEGIN:VTIMEZONE
TZID:Europe/Berlin
X-LIC-LOCATION:Europe/Berlin
BEGIN:DAYLIGHT
TZOFFSETFROM:+0100
TZOFFSETTO:+0200
TZNAME:CEST
DTSTART:19700329T020000
RRULE:FREQ=YEARLY;INTERVAL=1;BYDAY=-1SU;BYMONTH=3
END:DAYLIGHT
BEGIN:STANDARD
TZOFFSETFROM:+0200
TZOFFSETTO:+0100
TZNAME:CET
DTSTART:19701025T030000
RRULE:FREQ=YEARLY;INTERVAL=1;BYDAY=-1SU;BYMONTH=10
END:STANDARD
END:VTIMEZONE
BEGIN:VEVENT
DTSTAMP:20260419T204330
DTSTART;TZID=Europe/Berlin:20260413T200000
DTEND;TZID=Europe/Berlin:20260413T214500
UID:26O428332-20260413T200000@KÖLNER VHS
SUMMARY:Deutschkurs B1+ (26O428332) 
LOCATION:online
END:VEVENT
BEGIN:VEVENT
DTSTAMP:20260419T204330
DTSTART;TZID=Europe/Berlin:20260414T183000
DTEND;TZID=Europe/Berlin:20260414T210000
UID:26O428332-20260414T183000@KÖLNER VHS
SUMMARY:Deutschkurs B1+ (26O428332) 
LOCATION:online
END:VEVENT
BEGIN:VEVENT
DTSTAMP:20260419T204330
DTSTART;TZID=Europe/Berlin:20260421T184500
DTEND;TZID=Europe/Berlin:20260421T214500
UID:26O428332-20260421T184500@KÖLNER VHS
SUMMARY:Deutschkurs B1+ (26O428332) 
LOCATION:online
END:VEVENT
BEGIN:VEVENT
DTSTAMP:20260419T204330
DTSTART;TZID=Europe/Berlin:20260423T184500
DTEND;TZID=Europe/Berlin:20260423T214500
UID:26O428332-20260423T184500@KÖLNER VHS
SUMMARY:Deutschkurs B1+ (26O428332) 
LOCATION:online
END:VEVENT
BEGIN:VEVENT
DTSTAMP:20260419T204330
DTSTART;TZID=Europe/Berlin:20260428T184500
DTEND;TZID=Europe/Berlin:20260428T214500
UID:26O428332-20260428T184500@KÖLNER VHS
SUMMARY:Deutschkurs B1+ (26O428332) 
LOCATION:online
END:VEVENT
BEGIN:VEVENT
DTSTAMP:20260419T204330
DTSTART;TZID=Europe/Berlin:20260430T184500
DTEND;TZID=Europe/Berlin:20260430T214500
UID:26O428332-20260430T184500@KÖLNER VHS
SUMMARY:Deutschkurs B1+ (26O428332) 
LOCATION:online
END:VEVENT
BEGIN:VEVENT
DTSTAMP:20260419T204330
DTSTART;TZID=Europe/Berlin:20260507T184500
DTEND;TZID=Europe/Berlin:20260507T214500
UID:26O428332-20260507T184500@KÖLNER VHS
SUMMARY:Deutschkurs B1+ (26O428332) 
LOCATION:online
END:VEVENT
BEGIN:VEVENT
DTSTAMP:20260419T204330
DTSTART;TZID=Europe/Berlin:20260512T184500
DTEND;TZID=Europe/Berlin:20260512T214500
UID:26O428332-20260512T184500@KÖLNER VHS
SUMMARY:Deutschkurs B1+ (26O428332) 
LOCATION:online
END:VEVENT
BEGIN:VEVENT
DTSTAMP:20260419T204330
DTSTART;TZID=Europe/Berlin:20260519T184500
DTEND;TZID=Europe/Berlin:20260519T214500
UID:26O428332-20260519T184500@KÖLNER VHS
SUMMARY:Deutschkurs B1+ (26O428332) 
LOCATION:online
END:VEVENT
BEGIN:VEVENT
DTSTAMP:20260419T204330
DTSTART;TZID=Europe/Berlin:20260521T184500
DTEND;TZID=Europe/Berlin:20260521T214500
UID:26O428332-20260521T184500@KÖLNER VHS
SUMMARY:Deutschkurs B1+ (26O428332) 
LOCATION:online
END:VEVENT
BEGIN:VEVENT
DTSTAMP:20260419T204330
DTSTART;TZID=Europe/Berlin:20260528T184500
DTEND;TZID=Europe/Berlin:20260528T214500
UID:26O428332-20260528T184500@KÖLNER VHS
SUMMARY:Deutschkurs B1+ (26O428332) 
LOCATION:online
END:VEVENT
BEGIN:VEVENT
DTSTAMP:20260419T204330
DTSTART;TZID=Europe/Berlin:20260602T184500
DTEND;TZID=Europe/Berlin:20260602T214500
UID:26O428332-20260602T184500@KÖLNER VHS
SUMMARY:Deutschkurs B1+ (26O428332) 
LOCATION:online
END:VEVENT
BEGIN:VEVENT
DTSTAMP:20260419T204330
DTSTART;TZID=Europe/Berlin:20260609T184500
DTEND;TZID=Europe/Berlin:20260609T214500
UID:26O428332-20260609T184500@KÖLNER VHS
SUMMARY:Deutschkurs B1+ (26O428332) 
LOCATION:online
END:VEVENT
BEGIN:VEVENT
DTSTAMP:20260419T204330
DTSTART;TZID=Europe/Berlin:20260611T184500
DTEND;TZID=Europe/Berlin:20260611T214500
UID:26O428332-20260611T184500@KÖLNER VHS
SUMMARY:Deutschkurs B1+ (26O428332) 
LOCATION:online
END:VEVENT
BEGIN:VEVENT
DTSTAMP:20260419T204330
DTSTART;TZID=Europe/Berlin:20260616T184500
DTEND;TZID=Europe/Berlin:20260616T214500
UID:26O428332-20260616T184500@KÖLNER VHS
SUMMARY:Deutschkurs B1+ (26O428332) 
LOCATION:online
END:VEVENT
BEGIN:VEVENT
DTSTAMP:20260419T204330
DTSTART;TZID=Europe/Berlin:20260618T184500
DTEND;TZID=Europe/Berlin:20260618T214500
UID:26O428332-20260618T184500@KÖLNER VHS
SUMMARY:Deutschkurs B1+ (26O428332) 
LOCATION:online
END:VEVENT
BEGIN:VEVENT
DTSTAMP:20260419T204330
DTSTART;TZID=Europe/Berlin:20260623T184500
DTEND;TZID=Europe/Berlin:20260623T214500
UID:26O428332-20260623T184500@KÖLNER VHS
SUMMARY:Deutschkurs B1+ (26O428332) 
LOCATION:online
END:VEVENT
BEGIN:VEVENT
DTSTAMP:20260419T204330
DTSTART;TZID=Europe/Berlin:20260625T184500
DTEND;TZID=Europe/Berlin:20260625T214500
UID:26O428332-20260625T184500@KÖLNER VHS
DESCRIPTION:Ersatz für Ausfall am 20.04.2026
SUMMARY:Deutschkurs B1+ (26O428332) 
LOCATION:online
END:VEVENT
BEGIN:VEVENT
DTSTAMP:20260419T204330
DTSTART;TZID=Europe/Berlin:20260630T184500
DTEND;TZID=Europe/Berlin:20260630T214500
UID:26O428332-20260630T184500@KÖLNER VHS
DESCRIPTION:Ersatz für Ausfall am 27.04.2026
SUMMARY:Deutschkurs B1+ (26O428332) 
LOCATION:online
END:VEVENT
BEGIN:VEVENT
DTSTAMP:20260419T204330
DTSTART;TZID=Europe/Berlin:20260702T184500
DTEND;TZID=Europe/Berlin:20260702T214500
UID:26O428332-20260702T184500@KÖLNER VHS
DESCRIPTION:Ersatz für Ausfall am 04.05.2026
SUMMARY:Deutschkurs B1+ (26O428332) 
LOCATION:online
END:VEVENT
BEGIN:VEVENT
DTSTAMP:20260419T204330
DTSTART;TZID=Europe/Berlin:20260707T184500
DTEND;TZID=Europe/Berlin:20260707T211500
UID:26O428332-20260707T184500@KÖLNER VHS
DESCRIPTION:Ersatz für Ausfall am 16.04.2026
SUMMARY:Deutschkurs B1+ (26O428332) 
LOCATION:online
END:VEVENT
BEGIN:VEVENT
DTSTAMP:20260419T204330
DTSTART;TZID=Europe/Berlin:20260709T184500
DTEND;TZID=Europe/Berlin:20260709T210000
UID:26O428332-20260709T184500@KÖLNER VHS
DESCRIPTION:Ersatz für Ausfall am 05.05.2026
SUMMARY:Deutschkurs B1+ (26O428332) 
LOCATION:online
END:VEVENT
END:VCALENDAR