BEGIN:VCALENDAR
VERSION:2.0
PRODID:https://www.kufer.de/kuferweb / DE
METHOD:PUBLISH
CALSCALE:GREGORIAN
X-WR-TIMEZONE:Europe/Berlin
BEGIN:VTIMEZONE
TZID:Europe/Berlin
X-LIC-LOCATION:Europe/Berlin
BEGIN:DAYLIGHT
TZOFFSETFROM:+0100
TZOFFSETTO:+0200
TZNAME:CEST
DTSTART:19700329T020000
RRULE:FREQ=YEARLY;INTERVAL=1;BYDAY=-1SU;BYMONTH=3
END:DAYLIGHT
BEGIN:STANDARD
TZOFFSETFROM:+0200
TZOFFSETTO:+0100
TZNAME:CET
DTSTART:19701025T030000
RRULE:FREQ=YEARLY;INTERVAL=1;BYDAY=-1SU;BYMONTH=10
END:STANDARD
END:VTIMEZONE
BEGIN:VEVENT
DTSTAMP:20260419T222236
DTSTART;TZID=Europe/Berlin:20260415T183000
DTEND;TZID=Europe/Berlin:20260415T204500
UID:26O428212-20260415T183000@KÖLNER VHS
SUMMARY:Deutschkurs A2.1 (26O428212) 
LOCATION:online
END:VEVENT
BEGIN:VEVENT
DTSTAMP:20260419T222236
DTSTART;TZID=Europe/Berlin:20260416T183000
DTEND;TZID=Europe/Berlin:20260416T204500
UID:26O428212-20260416T183000@KÖLNER VHS
DESCRIPTION:Ersatz für Ausfall am 13.04.2026
SUMMARY:Deutschkurs A2.1 (26O428212) 
LOCATION:online
END:VEVENT
BEGIN:VEVENT
DTSTAMP:20260419T222236
DTSTART;TZID=Europe/Berlin:20260417T183000
DTEND;TZID=Europe/Berlin:20260417T204500
UID:26O428212-20260417T183000@KÖLNER VHS
SUMMARY:Deutschkurs A2.1 (26O428212) 
LOCATION:online
END:VEVENT
BEGIN:VEVENT
DTSTAMP:20260419T222236
DTSTART;TZID=Europe/Berlin:20260422T183000
DTEND;TZID=Europe/Berlin:20260422T204500
UID:26O428212-20260422T183000@KÖLNER VHS
SUMMARY:Deutschkurs A2.1 (26O428212) 
LOCATION:online
END:VEVENT
BEGIN:VEVENT
DTSTAMP:20260419T222236
DTSTART;TZID=Europe/Berlin:20260423T183000
DTEND;TZID=Europe/Berlin:20260423T204500
UID:26O428212-20260423T183000@KÖLNER VHS
DESCRIPTION:Ersatz für Ausfall am 20.04.2026
SUMMARY:Deutschkurs A2.1 (26O428212) 
LOCATION:online
END:VEVENT
BEGIN:VEVENT
DTSTAMP:20260419T222236
DTSTART;TZID=Europe/Berlin:20260424T183000
DTEND;TZID=Europe/Berlin:20260424T204500
UID:26O428212-20260424T183000@KÖLNER VHS
SUMMARY:Deutschkurs A2.1 (26O428212) 
LOCATION:online
END:VEVENT
BEGIN:VEVENT
DTSTAMP:20260419T222236
DTSTART;TZID=Europe/Berlin:20260429T183000
DTEND;TZID=Europe/Berlin:20260429T204500
UID:26O428212-20260429T183000@KÖLNER VHS
SUMMARY:Deutschkurs A2.1 (26O428212) 
LOCATION:online
END:VEVENT
BEGIN:VEVENT
DTSTAMP:20260419T222236
DTSTART;TZID=Europe/Berlin:20260430T183000
DTEND;TZID=Europe/Berlin:20260430T204500
UID:26O428212-20260430T183000@KÖLNER VHS
DESCRIPTION:Ersatz für Ausfall am 27.04.2026
SUMMARY:Deutschkurs A2.1 (26O428212) 
LOCATION:online
END:VEVENT
BEGIN:VEVENT
DTSTAMP:20260419T222236
DTSTART;TZID=Europe/Berlin:20260506T183000
DTEND;TZID=Europe/Berlin:20260506T204500
UID:26O428212-20260506T183000@KÖLNER VHS
SUMMARY:Deutschkurs A2.1 (26O428212) 
LOCATION:online
END:VEVENT
BEGIN:VEVENT
DTSTAMP:20260419T222236
DTSTART;TZID=Europe/Berlin:20260507T183000
DTEND;TZID=Europe/Berlin:20260507T204500
UID:26O428212-20260507T183000@KÖLNER VHS
DESCRIPTION:Ersatz für Ausfall am 04.05.2026
SUMMARY:Deutschkurs A2.1 (26O428212) 
LOCATION:online
END:VEVENT
BEGIN:VEVENT
DTSTAMP:20260419T222236
DTSTART;TZID=Europe/Berlin:20260508T183000
DTEND;TZID=Europe/Berlin:20260508T204500
UID:26O428212-20260508T183000@KÖLNER VHS
SUMMARY:Deutschkurs A2.1 (26O428212) 
LOCATION:online
END:VEVENT
BEGIN:VEVENT
DTSTAMP:20260419T222236
DTSTART;TZID=Europe/Berlin:20260513T183000
DTEND;TZID=Europe/Berlin:20260513T204500
UID:26O428212-20260513T183000@KÖLNER VHS
SUMMARY:Deutschkurs A2.1 (26O428212) 
LOCATION:online
END:VEVENT
BEGIN:VEVENT
DTSTAMP:20260419T222236
DTSTART;TZID=Europe/Berlin:20260520T183000
DTEND;TZID=Europe/Berlin:20260520T204500
UID:26O428212-20260520T183000@KÖLNER VHS
SUMMARY:Deutschkurs A2.1 (26O428212) 
LOCATION:online
END:VEVENT
BEGIN:VEVENT
DTSTAMP:20260419T222236
DTSTART;TZID=Europe/Berlin:20260521T183000
DTEND;TZID=Europe/Berlin:20260521T204500
UID:26O428212-20260521T183000@KÖLNER VHS
DESCRIPTION:Ersatz für Ausfall am 18.05.2026
SUMMARY:Deutschkurs A2.1 (26O428212) 
LOCATION:online
END:VEVENT
BEGIN:VEVENT
DTSTAMP:20260419T222236
DTSTART;TZID=Europe/Berlin:20260522T183000
DTEND;TZID=Europe/Berlin:20260522T204500
UID:26O428212-20260522T183000@KÖLNER VHS
SUMMARY:Deutschkurs A2.1 (26O428212) 
LOCATION:online
END:VEVENT
BEGIN:VEVENT
DTSTAMP:20260419T222236
DTSTART;TZID=Europe/Berlin:20260527T183000
DTEND;TZID=Europe/Berlin:20260527T204500
UID:26O428212-20260527T183000@KÖLNER VHS
SUMMARY:Deutschkurs A2.1 (26O428212) 
LOCATION:online
END:VEVENT
BEGIN:VEVENT
DTSTAMP:20260419T222236
DTSTART;TZID=Europe/Berlin:20260529T183000
DTEND;TZID=Europe/Berlin:20260529T204500
UID:26O428212-20260529T183000@KÖLNER VHS
SUMMARY:Deutschkurs A2.1 (26O428212) 
LOCATION:online
END:VEVENT
BEGIN:VEVENT
DTSTAMP:20260419T222236
DTSTART;TZID=Europe/Berlin:20260603T183000
DTEND;TZID=Europe/Berlin:20260603T204500
UID:26O428212-20260603T183000@KÖLNER VHS
SUMMARY:Deutschkurs A2.1 (26O428212) 
LOCATION:online
END:VEVENT
BEGIN:VEVENT
DTSTAMP:20260419T222236
DTSTART;TZID=Europe/Berlin:20260610T183000
DTEND;TZID=Europe/Berlin:20260610T204500
UID:26O428212-20260610T183000@KÖLNER VHS
SUMMARY:Deutschkurs A2.1 (26O428212) 
LOCATION:online
END:VEVENT
BEGIN:VEVENT
DTSTAMP:20260419T222236
DTSTART;TZID=Europe/Berlin:20260611T183000
DTEND;TZID=Europe/Berlin:20260611T204500
UID:26O428212-20260611T183000@KÖLNER VHS
DESCRIPTION:Ersatz für Ausfall am 08.06.2026
SUMMARY:Deutschkurs A2.1 (26O428212) 
LOCATION:online
END:VEVENT
BEGIN:VEVENT
DTSTAMP:20260419T222236
DTSTART;TZID=Europe/Berlin:20260612T183000
DTEND;TZID=Europe/Berlin:20260612T204500
UID:26O428212-20260612T183000@KÖLNER VHS
SUMMARY:Deutschkurs A2.1 (26O428212) 
LOCATION:online
END:VEVENT
BEGIN:VEVENT
DTSTAMP:20260419T222236
DTSTART;TZID=Europe/Berlin:20260617T183000
DTEND;TZID=Europe/Berlin:20260617T204500
UID:26O428212-20260617T183000@KÖLNER VHS
SUMMARY:Deutschkurs A2.1 (26O428212) 
LOCATION:online
END:VEVENT
BEGIN:VEVENT
DTSTAMP:20260419T222236
DTSTART;TZID=Europe/Berlin:20260618T183000
DTEND;TZID=Europe/Berlin:20260618T204500
UID:26O428212-20260618T183000@KÖLNER VHS
DESCRIPTION:Ersatz für Ausfall am 15.06.2026
SUMMARY:Deutschkurs A2.1 (26O428212) 
LOCATION:online
END:VEVENT
BEGIN:VEVENT
DTSTAMP:20260419T222236
DTSTART;TZID=Europe/Berlin:20260619T183000
DTEND;TZID=Europe/Berlin:20260619T204500
UID:26O428212-20260619T183000@KÖLNER VHS
SUMMARY:Deutschkurs A2.1 (26O428212) 
LOCATION:online
END:VEVENT
BEGIN:VEVENT
DTSTAMP:20260419T222236
DTSTART;TZID=Europe/Berlin:20260624T183000
DTEND;TZID=Europe/Berlin:20260624T204500
UID:26O428212-20260624T183000@KÖLNER VHS
SUMMARY:Deutschkurs A2.1 (26O428212) 
LOCATION:online
END:VEVENT
BEGIN:VEVENT
DTSTAMP:20260419T222236
DTSTART;TZID=Europe/Berlin:20260625T183000
DTEND;TZID=Europe/Berlin:20260625T204500
UID:26O428212-20260625T183000@KÖLNER VHS
DESCRIPTION:Ersatz für Ausfall am 22.06.2026
SUMMARY:Deutschkurs A2.1 (26O428212) 
LOCATION:online
END:VEVENT
BEGIN:VEVENT
DTSTAMP:20260419T222236
DTSTART;TZID=Europe/Berlin:20260626T183000
DTEND;TZID=Europe/Berlin:20260626T204500
UID:26O428212-20260626T183000@KÖLNER VHS
DESCRIPTION:Ersatz für Ausfall am 11.05.2026 Ersatz für Ausfall am 14.05.2026
SUMMARY:Deutschkurs A2.1 (26O428212) 
LOCATION:online
END:VEVENT
BEGIN:VEVENT
DTSTAMP:20260419T222236
DTSTART;TZID=Europe/Berlin:20260701T183000
DTEND;TZID=Europe/Berlin:20260701T204500
UID:26O428212-20260701T183000@KÖLNER VHS
DESCRIPTION:Ersatz für Ausfall am 01.06.2026 Ersatz für Ausfall am 04.06.2026 Ersatz für Ausfall am 29.06.2026
SUMMARY:Deutschkurs A2.1 (26O428212) 
LOCATION:online
END:VEVENT
END:VCALENDAR