BEGIN:VCALENDAR
VERSION:2.0
PRODID:https://www.kufer.de/kuferweb / DE
METHOD:PUBLISH
CALSCALE:GREGORIAN
X-WR-TIMEZONE:Europe/Berlin
BEGIN:VTIMEZONE
TZID:Europe/Berlin
X-LIC-LOCATION:Europe/Berlin
BEGIN:DAYLIGHT
TZOFFSETFROM:+0100
TZOFFSETTO:+0200
TZNAME:CEST
DTSTART:19700329T020000
RRULE:FREQ=YEARLY;INTERVAL=1;BYDAY=-1SU;BYMONTH=3
END:DAYLIGHT
BEGIN:STANDARD
TZOFFSETFROM:+0200
TZOFFSETTO:+0100
TZNAME:CET
DTSTART:19701025T030000
RRULE:FREQ=YEARLY;INTERVAL=1;BYDAY=-1SU;BYMONTH=10
END:STANDARD
END:VTIMEZONE
BEGIN:VEVENT
DTSTAMP:20260425T180759
DTSTART;TZID=Europe/Berlin:20260521T090000
DTEND;TZID=Europe/Berlin:20260521T130000
UID:26N426025-20260521T090000@KÖLNER VHS
SUMMARY:Modul 2 - Integrationskurs mit Alphabetisierung Basis 2 - Nr. 847 (26N426025) 
LOCATION:VHS im Bezirksrathaus Nippes, Raum 1.12, Neusser Str. 450, 50733 Köln
END:VEVENT
BEGIN:VEVENT
DTSTAMP:20260425T180759
DTSTART;TZID=Europe/Berlin:20260522T090000
DTEND;TZID=Europe/Berlin:20260522T130000
UID:26N426025-20260522T090000@KÖLNER VHS
SUMMARY:Modul 2 - Integrationskurs mit Alphabetisierung Basis 2 - Nr. 847 (26N426025) 
LOCATION:VHS im Bezirksrathaus Nippes, Raum 1.12, Neusser Str. 450, 50733 Köln
END:VEVENT
BEGIN:VEVENT
DTSTAMP:20260425T180759
DTSTART;TZID=Europe/Berlin:20260527T090000
DTEND;TZID=Europe/Berlin:20260527T130000
UID:26N426025-20260527T090000@KÖLNER VHS
SUMMARY:Modul 2 - Integrationskurs mit Alphabetisierung Basis 2 - Nr. 847 (26N426025) 
LOCATION:VHS im Bezirksrathaus Nippes, Raum 1.12, Neusser Str. 450, 50733 Köln
END:VEVENT
BEGIN:VEVENT
DTSTAMP:20260425T180759
DTSTART;TZID=Europe/Berlin:20260528T090000
DTEND;TZID=Europe/Berlin:20260528T130000
UID:26N426025-20260528T090000@KÖLNER VHS
SUMMARY:Modul 2 - Integrationskurs mit Alphabetisierung Basis 2 - Nr. 847 (26N426025) 
LOCATION:VHS im Bezirksrathaus Nippes, Raum 1.12, Neusser Str. 450, 50733 Köln
END:VEVENT
BEGIN:VEVENT
DTSTAMP:20260425T180759
DTSTART;TZID=Europe/Berlin:20260529T090000
DTEND;TZID=Europe/Berlin:20260529T130000
UID:26N426025-20260529T090000@KÖLNER VHS
SUMMARY:Modul 2 - Integrationskurs mit Alphabetisierung Basis 2 - Nr. 847 (26N426025) 
LOCATION:VHS im Bezirksrathaus Nippes, Raum 1.12, Neusser Str. 450, 50733 Köln
END:VEVENT
BEGIN:VEVENT
DTSTAMP:20260425T180759
DTSTART;TZID=Europe/Berlin:20260603T090000
DTEND;TZID=Europe/Berlin:20260603T130000
UID:26N426025-20260603T090000@KÖLNER VHS
SUMMARY:Modul 2 - Integrationskurs mit Alphabetisierung Basis 2 - Nr. 847 (26N426025) 
LOCATION:VHS im Bezirksrathaus Nippes, Raum 1.12, Neusser Str. 450, 50733 Köln
END:VEVENT
BEGIN:VEVENT
DTSTAMP:20260425T180759
DTSTART;TZID=Europe/Berlin:20260605T090000
DTEND;TZID=Europe/Berlin:20260605T130000
UID:26N426025-20260605T090000@KÖLNER VHS
SUMMARY:Modul 2 - Integrationskurs mit Alphabetisierung Basis 2 - Nr. 847 (26N426025) 
LOCATION:VHS im Bezirksrathaus Nippes, Raum 1.12, Neusser Str. 450, 50733 Köln
END:VEVENT
BEGIN:VEVENT
DTSTAMP:20260425T180759
DTSTART;TZID=Europe/Berlin:20260610T090000
DTEND;TZID=Europe/Berlin:20260610T130000
UID:26N426025-20260610T090000@KÖLNER VHS
SUMMARY:Modul 2 - Integrationskurs mit Alphabetisierung Basis 2 - Nr. 847 (26N426025) 
LOCATION:VHS im Bezirksrathaus Nippes, Raum 1.12, Neusser Str. 450, 50733 Köln
END:VEVENT
BEGIN:VEVENT
DTSTAMP:20260425T180759
DTSTART;TZID=Europe/Berlin:20260611T090000
DTEND;TZID=Europe/Berlin:20260611T130000
UID:26N426025-20260611T090000@KÖLNER VHS
SUMMARY:Modul 2 - Integrationskurs mit Alphabetisierung Basis 2 - Nr. 847 (26N426025) 
LOCATION:VHS im Bezirksrathaus Nippes, Raum 1.12, Neusser Str. 450, 50733 Köln
END:VEVENT
BEGIN:VEVENT
DTSTAMP:20260425T180759
DTSTART;TZID=Europe/Berlin:20260612T090000
DTEND;TZID=Europe/Berlin:20260612T130000
UID:26N426025-20260612T090000@KÖLNER VHS
SUMMARY:Modul 2 - Integrationskurs mit Alphabetisierung Basis 2 - Nr. 847 (26N426025) 
LOCATION:VHS im Bezirksrathaus Nippes, Raum 1.12, Neusser Str. 450, 50733 Köln
END:VEVENT
BEGIN:VEVENT
DTSTAMP:20260425T180759
DTSTART;TZID=Europe/Berlin:20260617T090000
DTEND;TZID=Europe/Berlin:20260617T130000
UID:26N426025-20260617T090000@KÖLNER VHS
SUMMARY:Modul 2 - Integrationskurs mit Alphabetisierung Basis 2 - Nr. 847 (26N426025) 
LOCATION:VHS im Bezirksrathaus Nippes, Raum 1.12, Neusser Str. 450, 50733 Köln
END:VEVENT
BEGIN:VEVENT
DTSTAMP:20260425T180759
DTSTART;TZID=Europe/Berlin:20260618T090000
DTEND;TZID=Europe/Berlin:20260618T130000
UID:26N426025-20260618T090000@KÖLNER VHS
SUMMARY:Modul 2 - Integrationskurs mit Alphabetisierung Basis 2 - Nr. 847 (26N426025) 
LOCATION:VHS im Bezirksrathaus Nippes, Raum 1.12, Neusser Str. 450, 50733 Köln
END:VEVENT
BEGIN:VEVENT
DTSTAMP:20260425T180759
DTSTART;TZID=Europe/Berlin:20260619T090000
DTEND;TZID=Europe/Berlin:20260619T130000
UID:26N426025-20260619T090000@KÖLNER VHS
SUMMARY:Modul 2 - Integrationskurs mit Alphabetisierung Basis 2 - Nr. 847 (26N426025) 
LOCATION:VHS im Bezirksrathaus Nippes, Raum 1.12, Neusser Str. 450, 50733 Köln
END:VEVENT
BEGIN:VEVENT
DTSTAMP:20260425T180759
DTSTART;TZID=Europe/Berlin:20260624T090000
DTEND;TZID=Europe/Berlin:20260624T130000
UID:26N426025-20260624T090000@KÖLNER VHS
SUMMARY:Modul 2 - Integrationskurs mit Alphabetisierung Basis 2 - Nr. 847 (26N426025) 
LOCATION:VHS im Bezirksrathaus Nippes, Raum 1.12, Neusser Str. 450, 50733 Köln
END:VEVENT
BEGIN:VEVENT
DTSTAMP:20260425T180759
DTSTART;TZID=Europe/Berlin:20260625T090000
DTEND;TZID=Europe/Berlin:20260625T130000
UID:26N426025-20260625T090000@KÖLNER VHS
SUMMARY:Modul 2 - Integrationskurs mit Alphabetisierung Basis 2 - Nr. 847 (26N426025) 
LOCATION:VHS im Bezirksrathaus Nippes, Raum 1.12, Neusser Str. 450, 50733 Köln
END:VEVENT
BEGIN:VEVENT
DTSTAMP:20260425T180759
DTSTART;TZID=Europe/Berlin:20260626T090000
DTEND;TZID=Europe/Berlin:20260626T130000
UID:26N426025-20260626T090000@KÖLNER VHS
SUMMARY:Modul 2 - Integrationskurs mit Alphabetisierung Basis 2 - Nr. 847 (26N426025) 
LOCATION:VHS im Bezirksrathaus Nippes, Raum 1.12, Neusser Str. 450, 50733 Köln
END:VEVENT
BEGIN:VEVENT
DTSTAMP:20260425T180759
DTSTART;TZID=Europe/Berlin:20260701T090000
DTEND;TZID=Europe/Berlin:20260701T130000
UID:26N426025-20260701T090000@KÖLNER VHS
SUMMARY:Modul 2 - Integrationskurs mit Alphabetisierung Basis 2 - Nr. 847 (26N426025) 
LOCATION:VHS im Bezirksrathaus Nippes, Raum 1.12, Neusser Str. 450, 50733 Köln
END:VEVENT
BEGIN:VEVENT
DTSTAMP:20260425T180759
DTSTART;TZID=Europe/Berlin:20260702T090000
DTEND;TZID=Europe/Berlin:20260702T130000
UID:26N426025-20260702T090000@KÖLNER VHS
SUMMARY:Modul 2 - Integrationskurs mit Alphabetisierung Basis 2 - Nr. 847 (26N426025) 
LOCATION:VHS im Bezirksrathaus Nippes, Raum 1.12, Neusser Str. 450, 50733 Köln
END:VEVENT
BEGIN:VEVENT
DTSTAMP:20260425T180759
DTSTART;TZID=Europe/Berlin:20260703T090000
DTEND;TZID=Europe/Berlin:20260703T130000
UID:26N426025-20260703T090000@KÖLNER VHS
SUMMARY:Modul 2 - Integrationskurs mit Alphabetisierung Basis 2 - Nr. 847 (26N426025) 
LOCATION:VHS im Bezirksrathaus Nippes, Raum 1.12, Neusser Str. 450, 50733 Köln
END:VEVENT
BEGIN:VEVENT
DTSTAMP:20260425T180759
DTSTART;TZID=Europe/Berlin:20260708T090000
DTEND;TZID=Europe/Berlin:20260708T130000
UID:26N426025-20260708T090000@KÖLNER VHS
SUMMARY:Modul 2 - Integrationskurs mit Alphabetisierung Basis 2 - Nr. 847 (26N426025) 
LOCATION:VHS im Bezirksrathaus Nippes, Raum 1.12, Neusser Str. 450, 50733 Köln
END:VEVENT
END:VCALENDAR