BEGIN:VCALENDAR
VERSION:2.0
PRODID:https://www.kufer.de/kuferweb / DE
METHOD:PUBLISH
CALSCALE:GREGORIAN
X-WR-TIMEZONE:Europe/Berlin
BEGIN:VTIMEZONE
TZID:Europe/Berlin
X-LIC-LOCATION:Europe/Berlin
BEGIN:DAYLIGHT
TZOFFSETFROM:+0100
TZOFFSETTO:+0200
TZNAME:CEST
DTSTART:19700329T020000
RRULE:FREQ=YEARLY;INTERVAL=1;BYDAY=-1SU;BYMONTH=3
END:DAYLIGHT
BEGIN:STANDARD
TZOFFSETFROM:+0200
TZOFFSETTO:+0100
TZNAME:CET
DTSTART:19701025T030000
RRULE:FREQ=YEARLY;INTERVAL=1;BYDAY=-1SU;BYMONTH=10
END:STANDARD
END:VTIMEZONE
BEGIN:VEVENT
DTSTAMP:20260421T151508
DTSTART;TZID=Europe/Berlin:20260615T090000
DTEND;TZID=Europe/Berlin:20260615T160000
UID:26M572594-20260615T090000@KÖLNER VHS
SUMMARY:Die Magie der Rhetorik neu entdecken mit KI - ChatGPT als Coach für Vorträge und Verhandlungen nutzen Anerkannt als Bildungsurlaub (26M572594) 
LOCATION:VHS im Komed, Raum 631, Im Mediapark 7, 50670 Köln
END:VEVENT
BEGIN:VEVENT
DTSTAMP:20260421T151508
DTSTART;TZID=Europe/Berlin:20260616T090000
DTEND;TZID=Europe/Berlin:20260616T160000
UID:26M572594-20260616T090000@KÖLNER VHS
SUMMARY:Die Magie der Rhetorik neu entdecken mit KI - ChatGPT als Coach für Vorträge und Verhandlungen nutzen Anerkannt als Bildungsurlaub (26M572594) 
LOCATION:VHS im Komed, Raum 631, Im Mediapark 7, 50670 Köln
END:VEVENT
BEGIN:VEVENT
DTSTAMP:20260421T151508
DTSTART;TZID=Europe/Berlin:20260617T090000
DTEND;TZID=Europe/Berlin:20260617T160000
UID:26M572594-20260617T090000@KÖLNER VHS
SUMMARY:Die Magie der Rhetorik neu entdecken mit KI - ChatGPT als Coach für Vorträge und Verhandlungen nutzen Anerkannt als Bildungsurlaub (26M572594) 
LOCATION:VHS im Komed, Raum 631, Im Mediapark 7, 50670 Köln
END:VEVENT
BEGIN:VEVENT
DTSTAMP:20260421T151508
DTSTART;TZID=Europe/Berlin:20260618T090000
DTEND;TZID=Europe/Berlin:20260618T160000
UID:26M572594-20260618T090000@KÖLNER VHS
SUMMARY:Die Magie der Rhetorik neu entdecken mit KI - ChatGPT als Coach für Vorträge und Verhandlungen nutzen Anerkannt als Bildungsurlaub (26M572594) 
LOCATION:VHS im Komed, Raum 631, Im Mediapark 7, 50670 Köln
END:VEVENT
BEGIN:VEVENT
DTSTAMP:20260421T151508
DTSTART;TZID=Europe/Berlin:20260619T090000
DTEND;TZID=Europe/Berlin:20260619T160000
UID:26M572594-20260619T090000@KÖLNER VHS
SUMMARY:Die Magie der Rhetorik neu entdecken mit KI - ChatGPT als Coach für Vorträge und Verhandlungen nutzen Anerkannt als Bildungsurlaub (26M572594) 
LOCATION:VHS im Komed, Raum 631, Im Mediapark 7, 50670 Köln
END:VEVENT
END:VCALENDAR