BEGIN:VCALENDAR
VERSION:2.0
PRODID:https://www.kufer.de/kuferweb / DE
METHOD:PUBLISH
CALSCALE:GREGORIAN
X-WR-TIMEZONE:Europe/Berlin
BEGIN:VTIMEZONE
TZID:Europe/Berlin
X-LIC-LOCATION:Europe/Berlin
BEGIN:DAYLIGHT
TZOFFSETFROM:+0100
TZOFFSETTO:+0200
TZNAME:CEST
DTSTART:19700329T020000
RRULE:FREQ=YEARLY;INTERVAL=1;BYDAY=-1SU;BYMONTH=3
END:DAYLIGHT
BEGIN:STANDARD
TZOFFSETFROM:+0200
TZOFFSETTO:+0100
TZNAME:CET
DTSTART:19701025T030000
RRULE:FREQ=YEARLY;INTERVAL=1;BYDAY=-1SU;BYMONTH=10
END:STANDARD
END:VTIMEZONE
BEGIN:VEVENT
DTSTAMP:20260421T134003
DTSTART;TZID=Europe/Berlin:20261109T090000
DTEND;TZID=Europe/Berlin:20261109T160000
UID:26M572593-20261109T090000@KÖLNER VHS
SUMMARY:Moderation Masterclass–Kreative Workshops und effektive Meetings souverän leiten Anerkannt als Bildungsurlaub (26M572593) 
LOCATION:VHS im Komed, Raum 641, Im Mediapark 7, 50670 Köln
END:VEVENT
BEGIN:VEVENT
DTSTAMP:20260421T134003
DTSTART;TZID=Europe/Berlin:20261110T090000
DTEND;TZID=Europe/Berlin:20261110T160000
UID:26M572593-20261110T090000@KÖLNER VHS
SUMMARY:Moderation Masterclass–Kreative Workshops und effektive Meetings souverän leiten Anerkannt als Bildungsurlaub (26M572593) 
LOCATION:VHS im Komed, Raum 641, Im Mediapark 7, 50670 Köln
END:VEVENT
BEGIN:VEVENT
DTSTAMP:20260421T134003
DTSTART;TZID=Europe/Berlin:20261111T090000
DTEND;TZID=Europe/Berlin:20261111T160000
UID:26M572593-20261111T090000@KÖLNER VHS
SUMMARY:Moderation Masterclass–Kreative Workshops und effektive Meetings souverän leiten Anerkannt als Bildungsurlaub (26M572593) 
LOCATION:VHS im Komed, Raum 641, Im Mediapark 7, 50670 Köln
END:VEVENT
BEGIN:VEVENT
DTSTAMP:20260421T134003
DTSTART;TZID=Europe/Berlin:20261112T090000
DTEND;TZID=Europe/Berlin:20261112T160000
UID:26M572593-20261112T090000@KÖLNER VHS
SUMMARY:Moderation Masterclass–Kreative Workshops und effektive Meetings souverän leiten Anerkannt als Bildungsurlaub (26M572593) 
LOCATION:VHS im Komed, Raum 641, Im Mediapark 7, 50670 Köln
END:VEVENT
BEGIN:VEVENT
DTSTAMP:20260421T134003
DTSTART;TZID=Europe/Berlin:20261113T090000
DTEND;TZID=Europe/Berlin:20261113T160000
UID:26M572593-20261113T090000@KÖLNER VHS
SUMMARY:Moderation Masterclass–Kreative Workshops und effektive Meetings souverän leiten Anerkannt als Bildungsurlaub (26M572593) 
LOCATION:VHS im Komed, Raum 641, Im Mediapark 7, 50670 Köln
END:VEVENT
END:VCALENDAR