BEGIN:VCALENDAR
VERSION:2.0
PRODID:https://www.kufer.de/kuferweb / DE
METHOD:PUBLISH
CALSCALE:GREGORIAN
X-WR-TIMEZONE:Europe/Berlin
BEGIN:VTIMEZONE
TZID:Europe/Berlin
X-LIC-LOCATION:Europe/Berlin
BEGIN:DAYLIGHT
TZOFFSETFROM:+0100
TZOFFSETTO:+0200
TZNAME:CEST
DTSTART:19700329T020000
RRULE:FREQ=YEARLY;INTERVAL=1;BYDAY=-1SU;BYMONTH=3
END:DAYLIGHT
BEGIN:STANDARD
TZOFFSETFROM:+0200
TZOFFSETTO:+0100
TZNAME:CET
DTSTART:19701025T030000
RRULE:FREQ=YEARLY;INTERVAL=1;BYDAY=-1SU;BYMONTH=10
END:STANDARD
END:VTIMEZONE
BEGIN:VEVENT
DTSTAMP:20260423T154044
DTSTART;TZID=Europe/Berlin:20261017T100000
DTEND;TZID=Europe/Berlin:20261017T173000
UID:26M552503-20261017T100000@KÖLNER VHS
SUMMARY:Grundlagenkurs Digitaler Videoschnitt mit Adobe Premiere Pro CC Modul III der Seminarreihe Digitale Videoproduktion - Onlinekurs am Wochenende (26M552503) 
LOCATION:VHS im Komed, Raum U7, Im Mediapark 7, 50670 Köln
END:VEVENT
BEGIN:VEVENT
DTSTAMP:20260423T154044
DTSTART;TZID=Europe/Berlin:20261018T100000
DTEND;TZID=Europe/Berlin:20261018T173000
UID:26M552503-20261018T100000@KÖLNER VHS
SUMMARY:Grundlagenkurs Digitaler Videoschnitt mit Adobe Premiere Pro CC Modul III der Seminarreihe Digitale Videoproduktion - Onlinekurs am Wochenende (26M552503) 
LOCATION:VHS im Komed, Raum U7, Im Mediapark 7, 50670 Köln
END:VEVENT
END:VCALENDAR