BEGIN:VCALENDAR
VERSION:2.0
PRODID:https://www.kufer.de/kuferweb / DE
METHOD:PUBLISH
CALSCALE:GREGORIAN
X-WR-TIMEZONE:Europe/Berlin
BEGIN:VTIMEZONE
TZID:Europe/Berlin
X-LIC-LOCATION:Europe/Berlin
BEGIN:DAYLIGHT
TZOFFSETFROM:+0100
TZOFFSETTO:+0200
TZNAME:CEST
DTSTART:19700329T020000
RRULE:FREQ=YEARLY;INTERVAL=1;BYDAY=-1SU;BYMONTH=3
END:DAYLIGHT
BEGIN:STANDARD
TZOFFSETFROM:+0200
TZOFFSETTO:+0100
TZNAME:CET
DTSTART:19701025T030000
RRULE:FREQ=YEARLY;INTERVAL=1;BYDAY=-1SU;BYMONTH=10
END:STANDARD
END:VTIMEZONE
BEGIN:VEVENT
DTSTAMP:20260420T202932
DTSTART;TZID=Europe/Berlin:20261116T090000
DTEND;TZID=Europe/Berlin:20261116T163000
UID:26M524005-20261116T090000@KÖLNER VHS
SUMMARY:Social Media beruflich nutzen: Erfolgsstrategien für Ihr Marketing Mit Einführung in die Künstliche Intelligenz - Bildungsurlaub (26M524005) 
LOCATION:VHS im Komed, Raum 641, Im Mediapark 7, 50670 Köln
END:VEVENT
BEGIN:VEVENT
DTSTAMP:20260420T202932
DTSTART;TZID=Europe/Berlin:20261117T090000
DTEND;TZID=Europe/Berlin:20261117T163000
UID:26M524005-20261117T090000@KÖLNER VHS
SUMMARY:Social Media beruflich nutzen: Erfolgsstrategien für Ihr Marketing Mit Einführung in die Künstliche Intelligenz - Bildungsurlaub (26M524005) 
LOCATION:VHS im Komed, Raum 641, Im Mediapark 7, 50670 Köln
END:VEVENT
BEGIN:VEVENT
DTSTAMP:20260420T202932
DTSTART;TZID=Europe/Berlin:20261118T090000
DTEND;TZID=Europe/Berlin:20261118T163000
UID:26M524005-20261118T090000@KÖLNER VHS
SUMMARY:Social Media beruflich nutzen: Erfolgsstrategien für Ihr Marketing Mit Einführung in die Künstliche Intelligenz - Bildungsurlaub (26M524005) 
LOCATION:VHS im Komed, Raum 641, Im Mediapark 7, 50670 Köln
END:VEVENT
BEGIN:VEVENT
DTSTAMP:20260420T202932
DTSTART;TZID=Europe/Berlin:20261119T090000
DTEND;TZID=Europe/Berlin:20261119T163000
UID:26M524005-20261119T090000@KÖLNER VHS
SUMMARY:Social Media beruflich nutzen: Erfolgsstrategien für Ihr Marketing Mit Einführung in die Künstliche Intelligenz - Bildungsurlaub (26M524005) 
LOCATION:VHS im Komed, Raum 641, Im Mediapark 7, 50670 Köln
END:VEVENT
BEGIN:VEVENT
DTSTAMP:20260420T202932
DTSTART;TZID=Europe/Berlin:20261120T090000
DTEND;TZID=Europe/Berlin:20261120T163000
UID:26M524005-20261120T090000@KÖLNER VHS
SUMMARY:Social Media beruflich nutzen: Erfolgsstrategien für Ihr Marketing Mit Einführung in die Künstliche Intelligenz - Bildungsurlaub (26M524005) 
LOCATION:VHS im Komed, Raum 641, Im Mediapark 7, 50670 Köln
END:VEVENT
END:VCALENDAR