BEGIN:VCALENDAR
VERSION:2.0
PRODID:https://www.kufer.de/kuferweb / DE
METHOD:PUBLISH
CALSCALE:GREGORIAN
X-WR-TIMEZONE:Europe/Berlin
BEGIN:VTIMEZONE
TZID:Europe/Berlin
X-LIC-LOCATION:Europe/Berlin
BEGIN:DAYLIGHT
TZOFFSETFROM:+0100
TZOFFSETTO:+0200
TZNAME:CEST
DTSTART:19700329T020000
RRULE:FREQ=YEARLY;INTERVAL=1;BYDAY=-1SU;BYMONTH=3
END:DAYLIGHT
BEGIN:STANDARD
TZOFFSETFROM:+0200
TZOFFSETTO:+0100
TZNAME:CET
DTSTART:19701025T030000
RRULE:FREQ=YEARLY;INTERVAL=1;BYDAY=-1SU;BYMONTH=10
END:STANDARD
END:VTIMEZONE
BEGIN:VEVENT
DTSTAMP:20260424T005218
DTSTART;TZID=Europe/Berlin:20261106T100000
DTEND;TZID=Europe/Berlin:20261106T131500
UID:26M520303-20261106T100000@KÖLNER VHS
SUMMARY:Das Internet sicher im Alltag nutzen Kurs am Nachmittag für Menschen ab 60 (26M520303) 
LOCATION:VHS im Komed, Raum U1, Im Mediapark 7, 50670 Köln
END:VEVENT
BEGIN:VEVENT
DTSTAMP:20260424T005218
DTSTART;TZID=Europe/Berlin:20261113T100000
DTEND;TZID=Europe/Berlin:20261113T131500
UID:26M520303-20261113T100000@KÖLNER VHS
SUMMARY:Das Internet sicher im Alltag nutzen Kurs am Nachmittag für Menschen ab 60 (26M520303) 
LOCATION:VHS im Komed, Raum U1, Im Mediapark 7, 50670 Köln
END:VEVENT
BEGIN:VEVENT
DTSTAMP:20260424T005218
DTSTART;TZID=Europe/Berlin:20261127T100000
DTEND;TZID=Europe/Berlin:20261127T131500
UID:26M520303-20261127T100000@KÖLNER VHS
SUMMARY:Das Internet sicher im Alltag nutzen Kurs am Nachmittag für Menschen ab 60 (26M520303) 
LOCATION:VHS im Komed, Raum U1, Im Mediapark 7, 50670 Köln
END:VEVENT
BEGIN:VEVENT
DTSTAMP:20260424T005218
DTSTART;TZID=Europe/Berlin:20261204T100000
DTEND;TZID=Europe/Berlin:20261204T131500
UID:26M520303-20261204T100000@KÖLNER VHS
SUMMARY:Das Internet sicher im Alltag nutzen Kurs am Nachmittag für Menschen ab 60 (26M520303) 
LOCATION:VHS im Komed, Raum U1, Im Mediapark 7, 50670 Köln
END:VEVENT
END:VCALENDAR