BEGIN:VCALENDAR
VERSION:2.0
PRODID:https://www.kufer.de/kuferweb / DE
METHOD:PUBLISH
CALSCALE:GREGORIAN
X-WR-TIMEZONE:Europe/Berlin
BEGIN:VTIMEZONE
TZID:Europe/Berlin
X-LIC-LOCATION:Europe/Berlin
BEGIN:DAYLIGHT
TZOFFSETFROM:+0100
TZOFFSETTO:+0200
TZNAME:CEST
DTSTART:19700329T020000
RRULE:FREQ=YEARLY;INTERVAL=1;BYDAY=-1SU;BYMONTH=3
END:DAYLIGHT
BEGIN:STANDARD
TZOFFSETFROM:+0200
TZOFFSETTO:+0100
TZNAME:CET
DTSTART:19701025T030000
RRULE:FREQ=YEARLY;INTERVAL=1;BYDAY=-1SU;BYMONTH=10
END:STANDARD
END:VTIMEZONE
BEGIN:VEVENT
DTSTAMP:20260421T141847
DTSTART;TZID=Europe/Berlin:20261019T100000
DTEND;TZID=Europe/Berlin:20261019T131500
UID:26M512205-20261019T100000@KÖLNER VHS
SUMMARY:Mathematik ZP Klasse 10: Crashkurs in den Herbstferien für Schüler*innen der Sek I aus Realschule, Gesamtschule EK, Sekundarschule, Typ B (26M512205) 
LOCATION:VHS im Komed, Raum 631, Im Mediapark 7, 50670 Köln
END:VEVENT
BEGIN:VEVENT
DTSTAMP:20260421T141847
DTSTART;TZID=Europe/Berlin:20261020T100000
DTEND;TZID=Europe/Berlin:20261020T131500
UID:26M512205-20261020T100000@KÖLNER VHS
SUMMARY:Mathematik ZP Klasse 10: Crashkurs in den Herbstferien für Schüler*innen der Sek I aus Realschule, Gesamtschule EK, Sekundarschule, Typ B (26M512205) 
LOCATION:VHS im Komed, Raum 631, Im Mediapark 7, 50670 Köln
END:VEVENT
BEGIN:VEVENT
DTSTAMP:20260421T141847
DTSTART;TZID=Europe/Berlin:20261021T100000
DTEND;TZID=Europe/Berlin:20261021T131500
UID:26M512205-20261021T100000@KÖLNER VHS
SUMMARY:Mathematik ZP Klasse 10: Crashkurs in den Herbstferien für Schüler*innen der Sek I aus Realschule, Gesamtschule EK, Sekundarschule, Typ B (26M512205) 
LOCATION:VHS im Komed, Raum 631, Im Mediapark 7, 50670 Köln
END:VEVENT
BEGIN:VEVENT
DTSTAMP:20260421T141847
DTSTART;TZID=Europe/Berlin:20261022T100000
DTEND;TZID=Europe/Berlin:20261022T131500
UID:26M512205-20261022T100000@KÖLNER VHS
SUMMARY:Mathematik ZP Klasse 10: Crashkurs in den Herbstferien für Schüler*innen der Sek I aus Realschule, Gesamtschule EK, Sekundarschule, Typ B (26M512205) 
LOCATION:VHS im Komed, Raum 631, Im Mediapark 7, 50670 Köln
END:VEVENT
BEGIN:VEVENT
DTSTAMP:20260421T141847
DTSTART;TZID=Europe/Berlin:20261023T100000
DTEND;TZID=Europe/Berlin:20261023T131500
UID:26M512205-20261023T100000@KÖLNER VHS
SUMMARY:Mathematik ZP Klasse 10: Crashkurs in den Herbstferien für Schüler*innen der Sek I aus Realschule, Gesamtschule EK, Sekundarschule, Typ B (26M512205) 
LOCATION:VHS im Komed, Raum 631, Im Mediapark 7, 50670 Köln
END:VEVENT
END:VCALENDAR