BEGIN:VCALENDAR
VERSION:2.0
PRODID:https://www.kufer.de/kuferweb / DE
METHOD:PUBLISH
CALSCALE:GREGORIAN
X-WR-TIMEZONE:Europe/Berlin
BEGIN:VTIMEZONE
TZID:Europe/Berlin
X-LIC-LOCATION:Europe/Berlin
BEGIN:DAYLIGHT
TZOFFSETFROM:+0100
TZOFFSETTO:+0200
TZNAME:CEST
DTSTART:19700329T020000
RRULE:FREQ=YEARLY;INTERVAL=1;BYDAY=-1SU;BYMONTH=3
END:DAYLIGHT
BEGIN:STANDARD
TZOFFSETFROM:+0200
TZOFFSETTO:+0100
TZNAME:CET
DTSTART:19701025T030000
RRULE:FREQ=YEARLY;INTERVAL=1;BYDAY=-1SU;BYMONTH=10
END:STANDARD
END:VTIMEZONE
BEGIN:VEVENT
DTSTAMP:20260423T110602
DTSTART;TZID=Europe/Berlin:20260504T090000
DTEND;TZID=Europe/Berlin:20260504T160000
UID:26L460507-20260504T090000@KÖLNER VHS
SUMMARY:Bildungsurlaub Spanisch A2 Teil 2 (26L460507) 
LOCATION:VHS im Bezirksrathaus Lindenthal, Raum 0.13, Aachener Str. 220, 50931 Köln
END:VEVENT
BEGIN:VEVENT
DTSTAMP:20260423T110602
DTSTART;TZID=Europe/Berlin:20260505T090000
DTEND;TZID=Europe/Berlin:20260505T160000
UID:26L460507-20260505T090000@KÖLNER VHS
SUMMARY:Bildungsurlaub Spanisch A2 Teil 2 (26L460507) 
LOCATION:VHS im Bezirksrathaus Lindenthal, Raum 0.13, Aachener Str. 220, 50931 Köln
END:VEVENT
BEGIN:VEVENT
DTSTAMP:20260423T110602
DTSTART;TZID=Europe/Berlin:20260506T090000
DTEND;TZID=Europe/Berlin:20260506T160000
UID:26L460507-20260506T090000@KÖLNER VHS
SUMMARY:Bildungsurlaub Spanisch A2 Teil 2 (26L460507) 
LOCATION:VHS im Bezirksrathaus Lindenthal, Raum 0.13, Aachener Str. 220, 50931 Köln
END:VEVENT
BEGIN:VEVENT
DTSTAMP:20260423T110602
DTSTART;TZID=Europe/Berlin:20260507T090000
DTEND;TZID=Europe/Berlin:20260507T160000
UID:26L460507-20260507T090000@KÖLNER VHS
SUMMARY:Bildungsurlaub Spanisch A2 Teil 2 (26L460507) 
LOCATION:VHS im Bezirksrathaus Lindenthal, Raum 0.13, Aachener Str. 220, 50931 Köln
END:VEVENT
BEGIN:VEVENT
DTSTAMP:20260423T110602
DTSTART;TZID=Europe/Berlin:20260508T090000
DTEND;TZID=Europe/Berlin:20260508T160000
UID:26L460507-20260508T090000@KÖLNER VHS
SUMMARY:Bildungsurlaub Spanisch A2 Teil 2 (26L460507) 
LOCATION:VHS im Bezirksrathaus Lindenthal, Raum 0.13, Aachener Str. 220, 50931 Köln
END:VEVENT
END:VCALENDAR