BEGIN:VCALENDAR
VERSION:2.0
PRODID:https://www.kufer.de/kuferweb / DE
METHOD:PUBLISH
CALSCALE:GREGORIAN
X-WR-TIMEZONE:Europe/Berlin
BEGIN:VTIMEZONE
TZID:Europe/Berlin
X-LIC-LOCATION:Europe/Berlin
BEGIN:DAYLIGHT
TZOFFSETFROM:+0100
TZOFFSETTO:+0200
TZNAME:CEST
DTSTART:19700329T020000
RRULE:FREQ=YEARLY;INTERVAL=1;BYDAY=-1SU;BYMONTH=3
END:DAYLIGHT
BEGIN:STANDARD
TZOFFSETFROM:+0200
TZOFFSETTO:+0100
TZNAME:CET
DTSTART:19701025T030000
RRULE:FREQ=YEARLY;INTERVAL=1;BYDAY=-1SU;BYMONTH=10
END:STANDARD
END:VTIMEZONE
BEGIN:VEVENT
DTSTAMP:20260419T204335
DTSTART;TZID=Europe/Berlin:20260413T130000
DTEND;TZID=Europe/Berlin:20260413T170000
UID:26L422423-20260413T130000@KÖLNER VHS
SUMMARY:Deutsch Intensivkurs B2.1 (26L422423) 
LOCATION:VHS im Bezirksrathaus Lindenthal, Raum 1.64, Aachener Str. 220, 50931 Köln
END:VEVENT
BEGIN:VEVENT
DTSTAMP:20260419T204335
DTSTART;TZID=Europe/Berlin:20260415T130000
DTEND;TZID=Europe/Berlin:20260415T170000
UID:26L422423-20260415T130000@KÖLNER VHS
SUMMARY:Deutsch Intensivkurs B2.1 (26L422423) 
LOCATION:VHS im Bezirksrathaus Lindenthal, Raum 1.64, Aachener Str. 220, 50931 Köln
END:VEVENT
BEGIN:VEVENT
DTSTAMP:20260419T204335
DTSTART;TZID=Europe/Berlin:20260416T130000
DTEND;TZID=Europe/Berlin:20260416T170000
UID:26L422423-20260416T130000@KÖLNER VHS
SUMMARY:Deutsch Intensivkurs B2.1 (26L422423) 
LOCATION:VHS im Bezirksrathaus Lindenthal, Raum 1.64, Aachener Str. 220, 50931 Köln
END:VEVENT
BEGIN:VEVENT
DTSTAMP:20260419T204335
DTSTART;TZID=Europe/Berlin:20260417T130000
DTEND;TZID=Europe/Berlin:20260417T170000
UID:26L422423-20260417T130000@KÖLNER VHS
SUMMARY:Deutsch Intensivkurs B2.1 (26L422423) 
LOCATION:VHS im Bezirksrathaus Lindenthal, Raum 1.64, Aachener Str. 220, 50931 Köln
END:VEVENT
BEGIN:VEVENT
DTSTAMP:20260419T204335
DTSTART;TZID=Europe/Berlin:20260420T130000
DTEND;TZID=Europe/Berlin:20260420T170000
UID:26L422423-20260420T130000@KÖLNER VHS
SUMMARY:Deutsch Intensivkurs B2.1 (26L422423) 
LOCATION:VHS im Bezirksrathaus Lindenthal, Raum 1.64, Aachener Str. 220, 50931 Köln
END:VEVENT
BEGIN:VEVENT
DTSTAMP:20260419T204335
DTSTART;TZID=Europe/Berlin:20260422T130000
DTEND;TZID=Europe/Berlin:20260422T170000
UID:26L422423-20260422T130000@KÖLNER VHS
SUMMARY:Deutsch Intensivkurs B2.1 (26L422423) 
LOCATION:VHS im Bezirksrathaus Lindenthal, Raum 1.64, Aachener Str. 220, 50931 Köln
END:VEVENT
BEGIN:VEVENT
DTSTAMP:20260419T204335
DTSTART;TZID=Europe/Berlin:20260423T130000
DTEND;TZID=Europe/Berlin:20260423T170000
UID:26L422423-20260423T130000@KÖLNER VHS
SUMMARY:Deutsch Intensivkurs B2.1 (26L422423) 
LOCATION:VHS im Bezirksrathaus Lindenthal, Raum 1.64, Aachener Str. 220, 50931 Köln
END:VEVENT
BEGIN:VEVENT
DTSTAMP:20260419T204335
DTSTART;TZID=Europe/Berlin:20260424T130000
DTEND;TZID=Europe/Berlin:20260424T170000
UID:26L422423-20260424T130000@KÖLNER VHS
SUMMARY:Deutsch Intensivkurs B2.1 (26L422423) 
LOCATION:VHS im Bezirksrathaus Lindenthal, Raum 1.64, Aachener Str. 220, 50931 Köln
END:VEVENT
BEGIN:VEVENT
DTSTAMP:20260419T204335
DTSTART;TZID=Europe/Berlin:20260427T130000
DTEND;TZID=Europe/Berlin:20260427T170000
UID:26L422423-20260427T130000@KÖLNER VHS
SUMMARY:Deutsch Intensivkurs B2.1 (26L422423) 
LOCATION:VHS im Bezirksrathaus Lindenthal, Raum 1.64, Aachener Str. 220, 50931 Köln
END:VEVENT
BEGIN:VEVENT
DTSTAMP:20260419T204335
DTSTART;TZID=Europe/Berlin:20260429T130000
DTEND;TZID=Europe/Berlin:20260429T170000
UID:26L422423-20260429T130000@KÖLNER VHS
SUMMARY:Deutsch Intensivkurs B2.1 (26L422423) 
LOCATION:VHS im Bezirksrathaus Lindenthal, Raum 1.64, Aachener Str. 220, 50931 Köln
END:VEVENT
BEGIN:VEVENT
DTSTAMP:20260419T204335
DTSTART;TZID=Europe/Berlin:20260430T130000
DTEND;TZID=Europe/Berlin:20260430T170000
UID:26L422423-20260430T130000@KÖLNER VHS
SUMMARY:Deutsch Intensivkurs B2.1 (26L422423) 
LOCATION:VHS im Bezirksrathaus Lindenthal, Raum 1.64, Aachener Str. 220, 50931 Köln
END:VEVENT
BEGIN:VEVENT
DTSTAMP:20260419T204335
DTSTART;TZID=Europe/Berlin:20260504T130000
DTEND;TZID=Europe/Berlin:20260504T170000
UID:26L422423-20260504T130000@KÖLNER VHS
SUMMARY:Deutsch Intensivkurs B2.1 (26L422423) 
LOCATION:VHS im Bezirksrathaus Lindenthal, Raum 1.64, Aachener Str. 220, 50931 Köln
END:VEVENT
BEGIN:VEVENT
DTSTAMP:20260419T204335
DTSTART;TZID=Europe/Berlin:20260506T130000
DTEND;TZID=Europe/Berlin:20260506T170000
UID:26L422423-20260506T130000@KÖLNER VHS
SUMMARY:Deutsch Intensivkurs B2.1 (26L422423) 
LOCATION:VHS im Bezirksrathaus Lindenthal, Raum 1.64, Aachener Str. 220, 50931 Köln
END:VEVENT
BEGIN:VEVENT
DTSTAMP:20260419T204335
DTSTART;TZID=Europe/Berlin:20260507T130000
DTEND;TZID=Europe/Berlin:20260507T170000
UID:26L422423-20260507T130000@KÖLNER VHS
SUMMARY:Deutsch Intensivkurs B2.1 (26L422423) 
LOCATION:VHS im Bezirksrathaus Lindenthal, Raum 1.64, Aachener Str. 220, 50931 Köln
END:VEVENT
BEGIN:VEVENT
DTSTAMP:20260419T204335
DTSTART;TZID=Europe/Berlin:20260508T130000
DTEND;TZID=Europe/Berlin:20260508T170000
UID:26L422423-20260508T130000@KÖLNER VHS
SUMMARY:Deutsch Intensivkurs B2.1 (26L422423) 
LOCATION:VHS im Bezirksrathaus Lindenthal, Raum 1.64, Aachener Str. 220, 50931 Köln
END:VEVENT
BEGIN:VEVENT
DTSTAMP:20260419T204335
DTSTART;TZID=Europe/Berlin:20260511T130000
DTEND;TZID=Europe/Berlin:20260511T170000
UID:26L422423-20260511T130000@KÖLNER VHS
SUMMARY:Deutsch Intensivkurs B2.1 (26L422423) 
LOCATION:VHS im Bezirksrathaus Lindenthal, Raum 1.64, Aachener Str. 220, 50931 Köln
END:VEVENT
BEGIN:VEVENT
DTSTAMP:20260419T204335
DTSTART;TZID=Europe/Berlin:20260513T130000
DTEND;TZID=Europe/Berlin:20260513T170000
UID:26L422423-20260513T130000@KÖLNER VHS
SUMMARY:Deutsch Intensivkurs B2.1 (26L422423) 
LOCATION:VHS im Bezirksrathaus Lindenthal, Raum 1.64, Aachener Str. 220, 50931 Köln
END:VEVENT
BEGIN:VEVENT
DTSTAMP:20260419T204335
DTSTART;TZID=Europe/Berlin:20260518T130000
DTEND;TZID=Europe/Berlin:20260518T170000
UID:26L422423-20260518T130000@KÖLNER VHS
SUMMARY:Deutsch Intensivkurs B2.1 (26L422423) 
LOCATION:VHS im Bezirksrathaus Lindenthal, Raum 1.64, Aachener Str. 220, 50931 Köln
END:VEVENT
BEGIN:VEVENT
DTSTAMP:20260419T204335
DTSTART;TZID=Europe/Berlin:20260520T130000
DTEND;TZID=Europe/Berlin:20260520T170000
UID:26L422423-20260520T130000@KÖLNER VHS
SUMMARY:Deutsch Intensivkurs B2.1 (26L422423) 
LOCATION:VHS im Bezirksrathaus Lindenthal, Raum 1.64, Aachener Str. 220, 50931 Köln
END:VEVENT
BEGIN:VEVENT
DTSTAMP:20260419T204335
DTSTART;TZID=Europe/Berlin:20260521T130000
DTEND;TZID=Europe/Berlin:20260521T170000
UID:26L422423-20260521T130000@KÖLNER VHS
SUMMARY:Deutsch Intensivkurs B2.1 (26L422423) 
LOCATION:VHS im Bezirksrathaus Lindenthal, Raum 1.64, Aachener Str. 220, 50931 Köln
END:VEVENT
BEGIN:VEVENT
DTSTAMP:20260419T204335
DTSTART;TZID=Europe/Berlin:20260522T130000
DTEND;TZID=Europe/Berlin:20260522T170000
UID:26L422423-20260522T130000@KÖLNER VHS
SUMMARY:Deutsch Intensivkurs B2.1 (26L422423) 
LOCATION:VHS im Bezirksrathaus Lindenthal, Raum 1.64, Aachener Str. 220, 50931 Köln
END:VEVENT
BEGIN:VEVENT
DTSTAMP:20260419T204335
DTSTART;TZID=Europe/Berlin:20260527T130000
DTEND;TZID=Europe/Berlin:20260527T170000
UID:26L422423-20260527T130000@KÖLNER VHS
SUMMARY:Deutsch Intensivkurs B2.1 (26L422423) 
LOCATION:VHS im Bezirksrathaus Lindenthal, Raum 1.64, Aachener Str. 220, 50931 Köln
END:VEVENT
BEGIN:VEVENT
DTSTAMP:20260419T204335
DTSTART;TZID=Europe/Berlin:20260528T130000
DTEND;TZID=Europe/Berlin:20260528T170000
UID:26L422423-20260528T130000@KÖLNER VHS
SUMMARY:Deutsch Intensivkurs B2.1 (26L422423) 
LOCATION:VHS im Bezirksrathaus Lindenthal, Raum 1.64, Aachener Str. 220, 50931 Köln
END:VEVENT
BEGIN:VEVENT
DTSTAMP:20260419T204335
DTSTART;TZID=Europe/Berlin:20260529T130000
DTEND;TZID=Europe/Berlin:20260529T170000
UID:26L422423-20260529T130000@KÖLNER VHS
SUMMARY:Deutsch Intensivkurs B2.1 (26L422423) 
LOCATION:VHS im Bezirksrathaus Lindenthal, Raum 1.64, Aachener Str. 220, 50931 Köln
END:VEVENT
BEGIN:VEVENT
DTSTAMP:20260419T204335
DTSTART;TZID=Europe/Berlin:20260601T130000
DTEND;TZID=Europe/Berlin:20260601T170000
UID:26L422423-20260601T130000@KÖLNER VHS
SUMMARY:Deutsch Intensivkurs B2.1 (26L422423) 
LOCATION:VHS im Bezirksrathaus Lindenthal, Raum 1.64, Aachener Str. 220, 50931 Köln
END:VEVENT
BEGIN:VEVENT
DTSTAMP:20260419T204335
DTSTART;TZID=Europe/Berlin:20260603T130000
DTEND;TZID=Europe/Berlin:20260603T170000
UID:26L422423-20260603T130000@KÖLNER VHS
SUMMARY:Deutsch Intensivkurs B2.1 (26L422423) 
LOCATION:VHS im Bezirksrathaus Lindenthal, Raum 1.64, Aachener Str. 220, 50931 Köln
END:VEVENT
BEGIN:VEVENT
DTSTAMP:20260419T204335
DTSTART;TZID=Europe/Berlin:20260608T130000
DTEND;TZID=Europe/Berlin:20260608T170000
UID:26L422423-20260608T130000@KÖLNER VHS
SUMMARY:Deutsch Intensivkurs B2.1 (26L422423) 
LOCATION:VHS im Bezirksrathaus Lindenthal, Raum 1.64, Aachener Str. 220, 50931 Köln
END:VEVENT
BEGIN:VEVENT
DTSTAMP:20260419T204335
DTSTART;TZID=Europe/Berlin:20260610T130000
DTEND;TZID=Europe/Berlin:20260610T170000
UID:26L422423-20260610T130000@KÖLNER VHS
SUMMARY:Deutsch Intensivkurs B2.1 (26L422423) 
LOCATION:VHS im Bezirksrathaus Lindenthal, Raum 1.64, Aachener Str. 220, 50931 Köln
END:VEVENT
BEGIN:VEVENT
DTSTAMP:20260419T204335
DTSTART;TZID=Europe/Berlin:20260611T130000
DTEND;TZID=Europe/Berlin:20260611T170000
UID:26L422423-20260611T130000@KÖLNER VHS
SUMMARY:Deutsch Intensivkurs B2.1 (26L422423) 
LOCATION:VHS im Bezirksrathaus Lindenthal, Raum 1.64, Aachener Str. 220, 50931 Köln
END:VEVENT
BEGIN:VEVENT
DTSTAMP:20260419T204335
DTSTART;TZID=Europe/Berlin:20260612T130000
DTEND;TZID=Europe/Berlin:20260612T170000
UID:26L422423-20260612T130000@KÖLNER VHS
SUMMARY:Deutsch Intensivkurs B2.1 (26L422423) 
LOCATION:VHS im Bezirksrathaus Lindenthal, Raum 1.64, Aachener Str. 220, 50931 Köln
END:VEVENT
BEGIN:VEVENT
DTSTAMP:20260419T204335
DTSTART;TZID=Europe/Berlin:20260615T130000
DTEND;TZID=Europe/Berlin:20260615T170000
UID:26L422423-20260615T130000@KÖLNER VHS
SUMMARY:Deutsch Intensivkurs B2.1 (26L422423) 
LOCATION:VHS im Bezirksrathaus Lindenthal, Raum 1.64, Aachener Str. 220, 50931 Köln
END:VEVENT
BEGIN:VEVENT
DTSTAMP:20260419T204335
DTSTART;TZID=Europe/Berlin:20260617T130000
DTEND;TZID=Europe/Berlin:20260617T170000
UID:26L422423-20260617T130000@KÖLNER VHS
SUMMARY:Deutsch Intensivkurs B2.1 (26L422423) 
LOCATION:VHS im Bezirksrathaus Lindenthal, Raum 1.64, Aachener Str. 220, 50931 Köln
END:VEVENT
BEGIN:VEVENT
DTSTAMP:20260419T204335
DTSTART;TZID=Europe/Berlin:20260618T130000
DTEND;TZID=Europe/Berlin:20260618T170000
UID:26L422423-20260618T130000@KÖLNER VHS
SUMMARY:Deutsch Intensivkurs B2.1 (26L422423) 
LOCATION:VHS im Bezirksrathaus Lindenthal, Raum 1.64, Aachener Str. 220, 50931 Köln
END:VEVENT
BEGIN:VEVENT
DTSTAMP:20260419T204335
DTSTART;TZID=Europe/Berlin:20260619T130000
DTEND;TZID=Europe/Berlin:20260619T170000
UID:26L422423-20260619T130000@KÖLNER VHS
SUMMARY:Deutsch Intensivkurs B2.1 (26L422423) 
LOCATION:VHS im Bezirksrathaus Lindenthal, Raum 1.64, Aachener Str. 220, 50931 Köln
END:VEVENT
BEGIN:VEVENT
DTSTAMP:20260419T204335
DTSTART;TZID=Europe/Berlin:20260622T130000
DTEND;TZID=Europe/Berlin:20260622T170000
UID:26L422423-20260622T130000@KÖLNER VHS
SUMMARY:Deutsch Intensivkurs B2.1 (26L422423) 
LOCATION:VHS im Bezirksrathaus Lindenthal, Raum 1.64, Aachener Str. 220, 50931 Köln
END:VEVENT
BEGIN:VEVENT
DTSTAMP:20260419T204335
DTSTART;TZID=Europe/Berlin:20260624T130000
DTEND;TZID=Europe/Berlin:20260624T170000
UID:26L422423-20260624T130000@KÖLNER VHS
SUMMARY:Deutsch Intensivkurs B2.1 (26L422423) 
LOCATION:VHS im Bezirksrathaus Lindenthal, Raum 1.64, Aachener Str. 220, 50931 Köln
END:VEVENT
BEGIN:VEVENT
DTSTAMP:20260419T204335
DTSTART;TZID=Europe/Berlin:20260625T130000
DTEND;TZID=Europe/Berlin:20260625T170000
UID:26L422423-20260625T130000@KÖLNER VHS
SUMMARY:Deutsch Intensivkurs B2.1 (26L422423) 
LOCATION:VHS im Bezirksrathaus Lindenthal, Raum 1.64, Aachener Str. 220, 50931 Köln
END:VEVENT
BEGIN:VEVENT
DTSTAMP:20260419T204335
DTSTART;TZID=Europe/Berlin:20260626T130000
DTEND;TZID=Europe/Berlin:20260626T170000
UID:26L422423-20260626T130000@KÖLNER VHS
SUMMARY:Deutsch Intensivkurs B2.1 (26L422423) 
LOCATION:VHS im Bezirksrathaus Lindenthal, Raum 1.64, Aachener Str. 220, 50931 Köln
END:VEVENT
BEGIN:VEVENT
DTSTAMP:20260419T204335
DTSTART;TZID=Europe/Berlin:20260629T130000
DTEND;TZID=Europe/Berlin:20260629T170000
UID:26L422423-20260629T130000@KÖLNER VHS
SUMMARY:Deutsch Intensivkurs B2.1 (26L422423) 
LOCATION:VHS im Bezirksrathaus Lindenthal, Raum 1.64, Aachener Str. 220, 50931 Köln
END:VEVENT
BEGIN:VEVENT
DTSTAMP:20260419T204335
DTSTART;TZID=Europe/Berlin:20260701T130000
DTEND;TZID=Europe/Berlin:20260701T170000
UID:26L422423-20260701T130000@KÖLNER VHS
SUMMARY:Deutsch Intensivkurs B2.1 (26L422423) 
LOCATION:VHS im Bezirksrathaus Lindenthal, Raum 1.64, Aachener Str. 220, 50931 Köln
END:VEVENT
END:VCALENDAR