BEGIN:VCALENDAR
VERSION:2.0
PRODID:https://www.kufer.de/kuferweb / DE
METHOD:PUBLISH
CALSCALE:GREGORIAN
X-WR-TIMEZONE:Europe/Berlin
BEGIN:VTIMEZONE
TZID:Europe/Berlin
X-LIC-LOCATION:Europe/Berlin
BEGIN:DAYLIGHT
TZOFFSETFROM:+0100
TZOFFSETTO:+0200
TZNAME:CEST
DTSTART:19700329T020000
RRULE:FREQ=YEARLY;INTERVAL=1;BYDAY=-1SU;BYMONTH=3
END:DAYLIGHT
BEGIN:STANDARD
TZOFFSETFROM:+0200
TZOFFSETTO:+0100
TZNAME:CET
DTSTART:19701025T030000
RRULE:FREQ=YEARLY;INTERVAL=1;BYDAY=-1SU;BYMONTH=10
END:STANDARD
END:VTIMEZONE
BEGIN:VEVENT
DTSTAMP:20260419T235606
DTSTART;TZID=Europe/Berlin:20260414T090000
DTEND;TZID=Europe/Berlin:20260414T130000
UID:26L422385-20260414T090000@KÖLNER VHS
SUMMARY:Deutsch Intensivkurs B1+ (26L422385) 
LOCATION:VHS im Bezirksrathaus Lindenthal, Raum 1.64, Aachener Str. 220, 50931 Köln
END:VEVENT
BEGIN:VEVENT
DTSTAMP:20260419T235606
DTSTART;TZID=Europe/Berlin:20260415T090000
DTEND;TZID=Europe/Berlin:20260415T130000
UID:26L422385-20260415T090000@KÖLNER VHS
SUMMARY:Deutsch Intensivkurs B1+ (26L422385) 
LOCATION:VHS im Bezirksrathaus Lindenthal, Raum 1.64, Aachener Str. 220, 50931 Köln
END:VEVENT
BEGIN:VEVENT
DTSTAMP:20260419T235606
DTSTART;TZID=Europe/Berlin:20260416T090000
DTEND;TZID=Europe/Berlin:20260416T130000
UID:26L422385-20260416T090000@KÖLNER VHS
SUMMARY:Deutsch Intensivkurs B1+ (26L422385) 
LOCATION:VHS im Bezirksrathaus Lindenthal, Raum 1.64, Aachener Str. 220, 50931 Köln
END:VEVENT
BEGIN:VEVENT
DTSTAMP:20260419T235606
DTSTART;TZID=Europe/Berlin:20260417T090000
DTEND;TZID=Europe/Berlin:20260417T130000
UID:26L422385-20260417T090000@KÖLNER VHS
SUMMARY:Deutsch Intensivkurs B1+ (26L422385) 
LOCATION:VHS im Bezirksrathaus Lindenthal, Raum 1.64, Aachener Str. 220, 50931 Köln
END:VEVENT
BEGIN:VEVENT
DTSTAMP:20260419T235606
DTSTART;TZID=Europe/Berlin:20260421T090000
DTEND;TZID=Europe/Berlin:20260421T130000
UID:26L422385-20260421T090000@KÖLNER VHS
SUMMARY:Deutsch Intensivkurs B1+ (26L422385) 
LOCATION:VHS im Bezirksrathaus Lindenthal, Raum 1.64, Aachener Str. 220, 50931 Köln
END:VEVENT
BEGIN:VEVENT
DTSTAMP:20260419T235606
DTSTART;TZID=Europe/Berlin:20260422T090000
DTEND;TZID=Europe/Berlin:20260422T130000
UID:26L422385-20260422T090000@KÖLNER VHS
SUMMARY:Deutsch Intensivkurs B1+ (26L422385) 
LOCATION:VHS im Bezirksrathaus Lindenthal, Raum 1.64, Aachener Str. 220, 50931 Köln
END:VEVENT
BEGIN:VEVENT
DTSTAMP:20260419T235606
DTSTART;TZID=Europe/Berlin:20260423T090000
DTEND;TZID=Europe/Berlin:20260423T130000
UID:26L422385-20260423T090000@KÖLNER VHS
SUMMARY:Deutsch Intensivkurs B1+ (26L422385) 
LOCATION:VHS im Bezirksrathaus Lindenthal, Raum 1.64, Aachener Str. 220, 50931 Köln
END:VEVENT
BEGIN:VEVENT
DTSTAMP:20260419T235606
DTSTART;TZID=Europe/Berlin:20260424T090000
DTEND;TZID=Europe/Berlin:20260424T130000
UID:26L422385-20260424T090000@KÖLNER VHS
SUMMARY:Deutsch Intensivkurs B1+ (26L422385) 
LOCATION:VHS im Bezirksrathaus Lindenthal, Raum 1.64, Aachener Str. 220, 50931 Köln
END:VEVENT
BEGIN:VEVENT
DTSTAMP:20260419T235606
DTSTART;TZID=Europe/Berlin:20260428T090000
DTEND;TZID=Europe/Berlin:20260428T130000
UID:26L422385-20260428T090000@KÖLNER VHS
SUMMARY:Deutsch Intensivkurs B1+ (26L422385) 
LOCATION:VHS im Bezirksrathaus Lindenthal, Raum 1.64, Aachener Str. 220, 50931 Köln
END:VEVENT
BEGIN:VEVENT
DTSTAMP:20260419T235606
DTSTART;TZID=Europe/Berlin:20260429T090000
DTEND;TZID=Europe/Berlin:20260429T130000
UID:26L422385-20260429T090000@KÖLNER VHS
SUMMARY:Deutsch Intensivkurs B1+ (26L422385) 
LOCATION:VHS im Bezirksrathaus Lindenthal, Raum 1.64, Aachener Str. 220, 50931 Köln
END:VEVENT
BEGIN:VEVENT
DTSTAMP:20260419T235606
DTSTART;TZID=Europe/Berlin:20260430T090000
DTEND;TZID=Europe/Berlin:20260430T130000
UID:26L422385-20260430T090000@KÖLNER VHS
SUMMARY:Deutsch Intensivkurs B1+ (26L422385) 
LOCATION:VHS im Bezirksrathaus Lindenthal, Raum 1.64, Aachener Str. 220, 50931 Köln
END:VEVENT
BEGIN:VEVENT
DTSTAMP:20260419T235606
DTSTART;TZID=Europe/Berlin:20260505T090000
DTEND;TZID=Europe/Berlin:20260505T130000
UID:26L422385-20260505T090000@KÖLNER VHS
DESCRIPTION:Ersatz für Ausfall am 07.04.2026
SUMMARY:Deutsch Intensivkurs B1+ (26L422385) 
LOCATION:VHS im Bezirksrathaus Lindenthal, Raum 1.64, Aachener Str. 220, 50931 Köln
END:VEVENT
BEGIN:VEVENT
DTSTAMP:20260419T235606
DTSTART;TZID=Europe/Berlin:20260506T090000
DTEND;TZID=Europe/Berlin:20260506T130000
UID:26L422385-20260506T090000@KÖLNER VHS
DESCRIPTION:Ersatz für Ausfall am 08.04.2026
SUMMARY:Deutsch Intensivkurs B1+ (26L422385) 
LOCATION:VHS im Bezirksrathaus Lindenthal, Raum 1.64, Aachener Str. 220, 50931 Köln
END:VEVENT
BEGIN:VEVENT
DTSTAMP:20260419T235606
DTSTART;TZID=Europe/Berlin:20260507T090000
DTEND;TZID=Europe/Berlin:20260507T130000
UID:26L422385-20260507T090000@KÖLNER VHS
DESCRIPTION:Ersatz für Ausfall am 09.04.2026
SUMMARY:Deutsch Intensivkurs B1+ (26L422385) 
LOCATION:VHS im Bezirksrathaus Lindenthal, Raum 1.64, Aachener Str. 220, 50931 Köln
END:VEVENT
BEGIN:VEVENT
DTSTAMP:20260419T235606
DTSTART;TZID=Europe/Berlin:20260508T090000
DTEND;TZID=Europe/Berlin:20260508T130000
UID:26L422385-20260508T090000@KÖLNER VHS
DESCRIPTION:Ersatz für Ausfall am 10.04.2026
SUMMARY:Deutsch Intensivkurs B1+ (26L422385) 
LOCATION:VHS im Bezirksrathaus Lindenthal, Raum 1.64, Aachener Str. 220, 50931 Köln
END:VEVENT
BEGIN:VEVENT
DTSTAMP:20260419T235606
DTSTART;TZID=Europe/Berlin:20260519T090000
DTEND;TZID=Europe/Berlin:20260519T130000
UID:26L422385-20260519T090000@KÖLNER VHS
SUMMARY:Deutsch Intensivkurs B1+ (26L422385) 
LOCATION:VHS im Bezirksrathaus Lindenthal, Raum 1.64, Aachener Str. 220, 50931 Köln
END:VEVENT
BEGIN:VEVENT
DTSTAMP:20260419T235606
DTSTART;TZID=Europe/Berlin:20260520T090000
DTEND;TZID=Europe/Berlin:20260520T130000
UID:26L422385-20260520T090000@KÖLNER VHS
SUMMARY:Deutsch Intensivkurs B1+ (26L422385) 
LOCATION:VHS im Bezirksrathaus Lindenthal, Raum 1.64, Aachener Str. 220, 50931 Köln
END:VEVENT
BEGIN:VEVENT
DTSTAMP:20260419T235606
DTSTART;TZID=Europe/Berlin:20260521T090000
DTEND;TZID=Europe/Berlin:20260521T130000
UID:26L422385-20260521T090000@KÖLNER VHS
SUMMARY:Deutsch Intensivkurs B1+ (26L422385) 
LOCATION:VHS im Bezirksrathaus Lindenthal, Raum 1.64, Aachener Str. 220, 50931 Köln
END:VEVENT
BEGIN:VEVENT
DTSTAMP:20260419T235606
DTSTART;TZID=Europe/Berlin:20260522T090000
DTEND;TZID=Europe/Berlin:20260522T130000
UID:26L422385-20260522T090000@KÖLNER VHS
SUMMARY:Deutsch Intensivkurs B1+ (26L422385) 
LOCATION:VHS im Bezirksrathaus Lindenthal, Raum 1.64, Aachener Str. 220, 50931 Köln
END:VEVENT
BEGIN:VEVENT
DTSTAMP:20260419T235606
DTSTART;TZID=Europe/Berlin:20260526T090000
DTEND;TZID=Europe/Berlin:20260526T130000
UID:26L422385-20260526T090000@KÖLNER VHS
SUMMARY:Deutsch Intensivkurs B1+ (26L422385) 
LOCATION:VHS im Bezirksrathaus Lindenthal, Raum 1.64, Aachener Str. 220, 50931 Köln
END:VEVENT
BEGIN:VEVENT
DTSTAMP:20260419T235606
DTSTART;TZID=Europe/Berlin:20260527T090000
DTEND;TZID=Europe/Berlin:20260527T130000
UID:26L422385-20260527T090000@KÖLNER VHS
SUMMARY:Deutsch Intensivkurs B1+ (26L422385) 
LOCATION:VHS im Bezirksrathaus Lindenthal, Raum 1.64, Aachener Str. 220, 50931 Köln
END:VEVENT
BEGIN:VEVENT
DTSTAMP:20260419T235606
DTSTART;TZID=Europe/Berlin:20260528T090000
DTEND;TZID=Europe/Berlin:20260528T130000
UID:26L422385-20260528T090000@KÖLNER VHS
SUMMARY:Deutsch Intensivkurs B1+ (26L422385) 
LOCATION:VHS im Bezirksrathaus Lindenthal, Raum 1.64, Aachener Str. 220, 50931 Köln
END:VEVENT
BEGIN:VEVENT
DTSTAMP:20260419T235606
DTSTART;TZID=Europe/Berlin:20260529T090000
DTEND;TZID=Europe/Berlin:20260529T130000
UID:26L422385-20260529T090000@KÖLNER VHS
SUMMARY:Deutsch Intensivkurs B1+ (26L422385) 
LOCATION:VHS im Bezirksrathaus Lindenthal, Raum 1.64, Aachener Str. 220, 50931 Köln
END:VEVENT
BEGIN:VEVENT
DTSTAMP:20260419T235606
DTSTART;TZID=Europe/Berlin:20260602T090000
DTEND;TZID=Europe/Berlin:20260602T130000
UID:26L422385-20260602T090000@KÖLNER VHS
SUMMARY:Deutsch Intensivkurs B1+ (26L422385) 
LOCATION:VHS im Bezirksrathaus Lindenthal, Raum 1.64, Aachener Str. 220, 50931 Köln
END:VEVENT
BEGIN:VEVENT
DTSTAMP:20260419T235606
DTSTART;TZID=Europe/Berlin:20260603T090000
DTEND;TZID=Europe/Berlin:20260603T130000
UID:26L422385-20260603T090000@KÖLNER VHS
SUMMARY:Deutsch Intensivkurs B1+ (26L422385) 
LOCATION:VHS im Bezirksrathaus Lindenthal, Raum 1.64, Aachener Str. 220, 50931 Köln
END:VEVENT
BEGIN:VEVENT
DTSTAMP:20260419T235606
DTSTART;TZID=Europe/Berlin:20260605T090000
DTEND;TZID=Europe/Berlin:20260605T130000
UID:26L422385-20260605T090000@KÖLNER VHS
SUMMARY:Deutsch Intensivkurs B1+ (26L422385) 
LOCATION:VHS im Bezirksrathaus Lindenthal, Raum 1.64, Aachener Str. 220, 50931 Köln
END:VEVENT
BEGIN:VEVENT
DTSTAMP:20260419T235606
DTSTART;TZID=Europe/Berlin:20260609T090000
DTEND;TZID=Europe/Berlin:20260609T130000
UID:26L422385-20260609T090000@KÖLNER VHS
SUMMARY:Deutsch Intensivkurs B1+ (26L422385) 
LOCATION:VHS im Bezirksrathaus Lindenthal, Raum 1.64, Aachener Str. 220, 50931 Köln
END:VEVENT
BEGIN:VEVENT
DTSTAMP:20260419T235606
DTSTART;TZID=Europe/Berlin:20260610T090000
DTEND;TZID=Europe/Berlin:20260610T130000
UID:26L422385-20260610T090000@KÖLNER VHS
SUMMARY:Deutsch Intensivkurs B1+ (26L422385) 
LOCATION:VHS im Bezirksrathaus Lindenthal, Raum 1.64, Aachener Str. 220, 50931 Köln
END:VEVENT
BEGIN:VEVENT
DTSTAMP:20260419T235606
DTSTART;TZID=Europe/Berlin:20260611T090000
DTEND;TZID=Europe/Berlin:20260611T130000
UID:26L422385-20260611T090000@KÖLNER VHS
SUMMARY:Deutsch Intensivkurs B1+ (26L422385) 
LOCATION:VHS im Bezirksrathaus Lindenthal, Raum 1.64, Aachener Str. 220, 50931 Köln
END:VEVENT
BEGIN:VEVENT
DTSTAMP:20260419T235606
DTSTART;TZID=Europe/Berlin:20260616T090000
DTEND;TZID=Europe/Berlin:20260616T130000
UID:26L422385-20260616T090000@KÖLNER VHS
SUMMARY:Deutsch Intensivkurs B1+ (26L422385) 
LOCATION:VHS im Bezirksrathaus Lindenthal, Raum 1.64, Aachener Str. 220, 50931 Köln
END:VEVENT
BEGIN:VEVENT
DTSTAMP:20260419T235606
DTSTART;TZID=Europe/Berlin:20260617T090000
DTEND;TZID=Europe/Berlin:20260617T130000
UID:26L422385-20260617T090000@KÖLNER VHS
SUMMARY:Deutsch Intensivkurs B1+ (26L422385) 
LOCATION:VHS im Bezirksrathaus Lindenthal, Raum 1.64, Aachener Str. 220, 50931 Köln
END:VEVENT
BEGIN:VEVENT
DTSTAMP:20260419T235606
DTSTART;TZID=Europe/Berlin:20260618T090000
DTEND;TZID=Europe/Berlin:20260618T130000
UID:26L422385-20260618T090000@KÖLNER VHS
SUMMARY:Deutsch Intensivkurs B1+ (26L422385) 
LOCATION:VHS im Bezirksrathaus Lindenthal, Raum 1.64, Aachener Str. 220, 50931 Köln
END:VEVENT
BEGIN:VEVENT
DTSTAMP:20260419T235606
DTSTART;TZID=Europe/Berlin:20260619T090000
DTEND;TZID=Europe/Berlin:20260619T130000
UID:26L422385-20260619T090000@KÖLNER VHS
SUMMARY:Deutsch Intensivkurs B1+ (26L422385) 
LOCATION:VHS im Bezirksrathaus Lindenthal, Raum 1.64, Aachener Str. 220, 50931 Köln
END:VEVENT
BEGIN:VEVENT
DTSTAMP:20260419T235606
DTSTART;TZID=Europe/Berlin:20260623T090000
DTEND;TZID=Europe/Berlin:20260623T130000
UID:26L422385-20260623T090000@KÖLNER VHS
SUMMARY:Deutsch Intensivkurs B1+ (26L422385) 
LOCATION:VHS im Bezirksrathaus Lindenthal, Raum 1.64, Aachener Str. 220, 50931 Köln
END:VEVENT
BEGIN:VEVENT
DTSTAMP:20260419T235606
DTSTART;TZID=Europe/Berlin:20260624T090000
DTEND;TZID=Europe/Berlin:20260624T130000
UID:26L422385-20260624T090000@KÖLNER VHS
SUMMARY:Deutsch Intensivkurs B1+ (26L422385) 
LOCATION:VHS im Bezirksrathaus Lindenthal, Raum 1.64, Aachener Str. 220, 50931 Köln
END:VEVENT
BEGIN:VEVENT
DTSTAMP:20260419T235606
DTSTART;TZID=Europe/Berlin:20260625T090000
DTEND;TZID=Europe/Berlin:20260625T130000
UID:26L422385-20260625T090000@KÖLNER VHS
SUMMARY:Deutsch Intensivkurs B1+ (26L422385) 
LOCATION:VHS im Bezirksrathaus Lindenthal, Raum 1.64, Aachener Str. 220, 50931 Köln
END:VEVENT
BEGIN:VEVENT
DTSTAMP:20260419T235606
DTSTART;TZID=Europe/Berlin:20260626T090000
DTEND;TZID=Europe/Berlin:20260626T130000
UID:26L422385-20260626T090000@KÖLNER VHS
SUMMARY:Deutsch Intensivkurs B1+ (26L422385) 
LOCATION:VHS im Bezirksrathaus Lindenthal, Raum 1.64, Aachener Str. 220, 50931 Köln
END:VEVENT
BEGIN:VEVENT
DTSTAMP:20260419T235606
DTSTART;TZID=Europe/Berlin:20260630T090000
DTEND;TZID=Europe/Berlin:20260630T130000
UID:26L422385-20260630T090000@KÖLNER VHS
SUMMARY:Deutsch Intensivkurs B1+ (26L422385) 
LOCATION:VHS im Bezirksrathaus Lindenthal, Raum 1.64, Aachener Str. 220, 50931 Köln
END:VEVENT
BEGIN:VEVENT
DTSTAMP:20260419T235606
DTSTART;TZID=Europe/Berlin:20260701T090000
DTEND;TZID=Europe/Berlin:20260701T130000
UID:26L422385-20260701T090000@KÖLNER VHS
SUMMARY:Deutsch Intensivkurs B1+ (26L422385) 
LOCATION:VHS im Bezirksrathaus Lindenthal, Raum 1.64, Aachener Str. 220, 50931 Köln
END:VEVENT
BEGIN:VEVENT
DTSTAMP:20260419T235606
DTSTART;TZID=Europe/Berlin:20260702T090000
DTEND;TZID=Europe/Berlin:20260702T130000
UID:26L422385-20260702T090000@KÖLNER VHS
DESCRIPTION:Ersatz für Ausfall am 12.06.2026
SUMMARY:Deutsch Intensivkurs B1+ (26L422385) 
LOCATION:VHS im Bezirksrathaus Lindenthal, Raum 1.64, Aachener Str. 220, 50931 Köln
END:VEVENT
END:VCALENDAR