BEGIN:VCALENDAR
VERSION:2.0
PRODID:https://www.kufer.de/kuferweb / DE
METHOD:PUBLISH
CALSCALE:GREGORIAN
X-WR-TIMEZONE:Europe/Berlin
BEGIN:VTIMEZONE
TZID:Europe/Berlin
X-LIC-LOCATION:Europe/Berlin
BEGIN:DAYLIGHT
TZOFFSETFROM:+0100
TZOFFSETTO:+0200
TZNAME:CEST
DTSTART:19700329T020000
RRULE:FREQ=YEARLY;INTERVAL=1;BYDAY=-1SU;BYMONTH=3
END:DAYLIGHT
BEGIN:STANDARD
TZOFFSETFROM:+0200
TZOFFSETTO:+0100
TZNAME:CET
DTSTART:19701025T030000
RRULE:FREQ=YEARLY;INTERVAL=1;BYDAY=-1SU;BYMONTH=10
END:STANDARD
END:VTIMEZONE
BEGIN:VEVENT
DTSTAMP:20260421T142152
DTSTART;TZID=Europe/Berlin:20260423T090000
DTEND;TZID=Europe/Berlin:20260423T133000
UID:26L422041-20260423T090000@KÖLNER VHS
SUMMARY:Deutsch Superintensivkurs für Studierende und Akademiker*innen B2.1 (26L422041) 
LOCATION:VHS im Bezirksrathaus Lindenthal, Raum 1.33, Aachener Str. 220, 50931 Köln
END:VEVENT
BEGIN:VEVENT
DTSTAMP:20260421T142152
DTSTART;TZID=Europe/Berlin:20260424T090000
DTEND;TZID=Europe/Berlin:20260424T133000
UID:26L422041-20260424T090000@KÖLNER VHS
SUMMARY:Deutsch Superintensivkurs für Studierende und Akademiker*innen B2.1 (26L422041) 
LOCATION:VHS im Bezirksrathaus Lindenthal, Raum 1.33, Aachener Str. 220, 50931 Köln
END:VEVENT
BEGIN:VEVENT
DTSTAMP:20260421T142152
DTSTART;TZID=Europe/Berlin:20260427T090000
DTEND;TZID=Europe/Berlin:20260427T133000
UID:26L422041-20260427T090000@KÖLNER VHS
SUMMARY:Deutsch Superintensivkurs für Studierende und Akademiker*innen B2.1 (26L422041) 
LOCATION:VHS im Bezirksrathaus Lindenthal, Raum 1.33, Aachener Str. 220, 50931 Köln
END:VEVENT
BEGIN:VEVENT
DTSTAMP:20260421T142152
DTSTART;TZID=Europe/Berlin:20260428T090000
DTEND;TZID=Europe/Berlin:20260428T133000
UID:26L422041-20260428T090000@KÖLNER VHS
SUMMARY:Deutsch Superintensivkurs für Studierende und Akademiker*innen B2.1 (26L422041) 
LOCATION:VHS im Bezirksrathaus Lindenthal, Raum 1.33, Aachener Str. 220, 50931 Köln
END:VEVENT
BEGIN:VEVENT
DTSTAMP:20260421T142152
DTSTART;TZID=Europe/Berlin:20260429T090000
DTEND;TZID=Europe/Berlin:20260429T133000
UID:26L422041-20260429T090000@KÖLNER VHS
SUMMARY:Deutsch Superintensivkurs für Studierende und Akademiker*innen B2.1 (26L422041) 
LOCATION:VHS im Bezirksrathaus Lindenthal, Raum 1.33, Aachener Str. 220, 50931 Köln
END:VEVENT
BEGIN:VEVENT
DTSTAMP:20260421T142152
DTSTART;TZID=Europe/Berlin:20260430T090000
DTEND;TZID=Europe/Berlin:20260430T133000
UID:26L422041-20260430T090000@KÖLNER VHS
SUMMARY:Deutsch Superintensivkurs für Studierende und Akademiker*innen B2.1 (26L422041) 
LOCATION:VHS im Bezirksrathaus Lindenthal, Raum 1.33, Aachener Str. 220, 50931 Köln
END:VEVENT
BEGIN:VEVENT
DTSTAMP:20260421T142152
DTSTART;TZID=Europe/Berlin:20260504T090000
DTEND;TZID=Europe/Berlin:20260504T133000
UID:26L422041-20260504T090000@KÖLNER VHS
SUMMARY:Deutsch Superintensivkurs für Studierende und Akademiker*innen B2.1 (26L422041) 
LOCATION:VHS im Bezirksrathaus Lindenthal, Raum 1.33, Aachener Str. 220, 50931 Köln
END:VEVENT
BEGIN:VEVENT
DTSTAMP:20260421T142152
DTSTART;TZID=Europe/Berlin:20260505T090000
DTEND;TZID=Europe/Berlin:20260505T133000
UID:26L422041-20260505T090000@KÖLNER VHS
SUMMARY:Deutsch Superintensivkurs für Studierende und Akademiker*innen B2.1 (26L422041) 
LOCATION:VHS im Bezirksrathaus Lindenthal, Raum 1.33, Aachener Str. 220, 50931 Köln
END:VEVENT
BEGIN:VEVENT
DTSTAMP:20260421T142152
DTSTART;TZID=Europe/Berlin:20260506T090000
DTEND;TZID=Europe/Berlin:20260506T133000
UID:26L422041-20260506T090000@KÖLNER VHS
SUMMARY:Deutsch Superintensivkurs für Studierende und Akademiker*innen B2.1 (26L422041) 
LOCATION:VHS im Bezirksrathaus Lindenthal, Raum 1.33, Aachener Str. 220, 50931 Köln
END:VEVENT
BEGIN:VEVENT
DTSTAMP:20260421T142152
DTSTART;TZID=Europe/Berlin:20260507T090000
DTEND;TZID=Europe/Berlin:20260507T133000
UID:26L422041-20260507T090000@KÖLNER VHS
SUMMARY:Deutsch Superintensivkurs für Studierende und Akademiker*innen B2.1 (26L422041) 
LOCATION:VHS im Bezirksrathaus Lindenthal, Raum 1.33, Aachener Str. 220, 50931 Köln
END:VEVENT
BEGIN:VEVENT
DTSTAMP:20260421T142152
DTSTART;TZID=Europe/Berlin:20260508T090000
DTEND;TZID=Europe/Berlin:20260508T133000
UID:26L422041-20260508T090000@KÖLNER VHS
SUMMARY:Deutsch Superintensivkurs für Studierende und Akademiker*innen B2.1 (26L422041) 
LOCATION:VHS im Bezirksrathaus Lindenthal, Raum 1.33, Aachener Str. 220, 50931 Köln
END:VEVENT
BEGIN:VEVENT
DTSTAMP:20260421T142152
DTSTART;TZID=Europe/Berlin:20260511T090000
DTEND;TZID=Europe/Berlin:20260511T133000
UID:26L422041-20260511T090000@KÖLNER VHS
SUMMARY:Deutsch Superintensivkurs für Studierende und Akademiker*innen B2.1 (26L422041) 
LOCATION:VHS im Bezirksrathaus Lindenthal, Raum 1.33, Aachener Str. 220, 50931 Köln
END:VEVENT
BEGIN:VEVENT
DTSTAMP:20260421T142152
DTSTART;TZID=Europe/Berlin:20260512T090000
DTEND;TZID=Europe/Berlin:20260512T133000
UID:26L422041-20260512T090000@KÖLNER VHS
SUMMARY:Deutsch Superintensivkurs für Studierende und Akademiker*innen B2.1 (26L422041) 
LOCATION:VHS im Bezirksrathaus Lindenthal, Raum 1.33, Aachener Str. 220, 50931 Köln
END:VEVENT
BEGIN:VEVENT
DTSTAMP:20260421T142152
DTSTART;TZID=Europe/Berlin:20260513T090000
DTEND;TZID=Europe/Berlin:20260513T133000
UID:26L422041-20260513T090000@KÖLNER VHS
SUMMARY:Deutsch Superintensivkurs für Studierende und Akademiker*innen B2.1 (26L422041) 
LOCATION:VHS im Bezirksrathaus Lindenthal, Raum 1.33, Aachener Str. 220, 50931 Köln
END:VEVENT
BEGIN:VEVENT
DTSTAMP:20260421T142152
DTSTART;TZID=Europe/Berlin:20260518T090000
DTEND;TZID=Europe/Berlin:20260518T133000
UID:26L422041-20260518T090000@KÖLNER VHS
SUMMARY:Deutsch Superintensivkurs für Studierende und Akademiker*innen B2.1 (26L422041) 
LOCATION:VHS im Bezirksrathaus Lindenthal, Raum 1.33, Aachener Str. 220, 50931 Köln
END:VEVENT
BEGIN:VEVENT
DTSTAMP:20260421T142152
DTSTART;TZID=Europe/Berlin:20260519T090000
DTEND;TZID=Europe/Berlin:20260519T133000
UID:26L422041-20260519T090000@KÖLNER VHS
SUMMARY:Deutsch Superintensivkurs für Studierende und Akademiker*innen B2.1 (26L422041) 
LOCATION:VHS im Bezirksrathaus Lindenthal, Raum 1.33, Aachener Str. 220, 50931 Köln
END:VEVENT
BEGIN:VEVENT
DTSTAMP:20260421T142152
DTSTART;TZID=Europe/Berlin:20260520T090000
DTEND;TZID=Europe/Berlin:20260520T133000
UID:26L422041-20260520T090000@KÖLNER VHS
SUMMARY:Deutsch Superintensivkurs für Studierende und Akademiker*innen B2.1 (26L422041) 
LOCATION:VHS im Bezirksrathaus Lindenthal, Raum 1.33, Aachener Str. 220, 50931 Köln
END:VEVENT
BEGIN:VEVENT
DTSTAMP:20260421T142152
DTSTART;TZID=Europe/Berlin:20260521T090000
DTEND;TZID=Europe/Berlin:20260521T133000
UID:26L422041-20260521T090000@KÖLNER VHS
SUMMARY:Deutsch Superintensivkurs für Studierende und Akademiker*innen B2.1 (26L422041) 
LOCATION:VHS im Bezirksrathaus Lindenthal, Raum 1.33, Aachener Str. 220, 50931 Köln
END:VEVENT
BEGIN:VEVENT
DTSTAMP:20260421T142152
DTSTART;TZID=Europe/Berlin:20260522T090000
DTEND;TZID=Europe/Berlin:20260522T133000
UID:26L422041-20260522T090000@KÖLNER VHS
SUMMARY:Deutsch Superintensivkurs für Studierende und Akademiker*innen B2.1 (26L422041) 
LOCATION:VHS im Bezirksrathaus Lindenthal, Raum 1.33, Aachener Str. 220, 50931 Köln
END:VEVENT
BEGIN:VEVENT
DTSTAMP:20260421T142152
DTSTART;TZID=Europe/Berlin:20260527T090000
DTEND;TZID=Europe/Berlin:20260527T133000
UID:26L422041-20260527T090000@KÖLNER VHS
SUMMARY:Deutsch Superintensivkurs für Studierende und Akademiker*innen B2.1 (26L422041) 
LOCATION:VHS im Bezirksrathaus Lindenthal, Raum 1.33, Aachener Str. 220, 50931 Köln
END:VEVENT
BEGIN:VEVENT
DTSTAMP:20260421T142152
DTSTART;TZID=Europe/Berlin:20260528T090000
DTEND;TZID=Europe/Berlin:20260528T133000
UID:26L422041-20260528T090000@KÖLNER VHS
SUMMARY:Deutsch Superintensivkurs für Studierende und Akademiker*innen B2.1 (26L422041) 
LOCATION:VHS im Bezirksrathaus Lindenthal, Raum 1.33, Aachener Str. 220, 50931 Köln
END:VEVENT
BEGIN:VEVENT
DTSTAMP:20260421T142152
DTSTART;TZID=Europe/Berlin:20260529T090000
DTEND;TZID=Europe/Berlin:20260529T133000
UID:26L422041-20260529T090000@KÖLNER VHS
SUMMARY:Deutsch Superintensivkurs für Studierende und Akademiker*innen B2.1 (26L422041) 
LOCATION:VHS im Bezirksrathaus Lindenthal, Raum 1.33, Aachener Str. 220, 50931 Köln
END:VEVENT
BEGIN:VEVENT
DTSTAMP:20260421T142152
DTSTART;TZID=Europe/Berlin:20260601T090000
DTEND;TZID=Europe/Berlin:20260601T133000
UID:26L422041-20260601T090000@KÖLNER VHS
SUMMARY:Deutsch Superintensivkurs für Studierende und Akademiker*innen B2.1 (26L422041) 
LOCATION:VHS im Bezirksrathaus Lindenthal, Raum 1.33, Aachener Str. 220, 50931 Köln
END:VEVENT
BEGIN:VEVENT
DTSTAMP:20260421T142152
DTSTART;TZID=Europe/Berlin:20260602T090000
DTEND;TZID=Europe/Berlin:20260602T133000
UID:26L422041-20260602T090000@KÖLNER VHS
SUMMARY:Deutsch Superintensivkurs für Studierende und Akademiker*innen B2.1 (26L422041) 
LOCATION:VHS im Bezirksrathaus Lindenthal, Raum 1.33, Aachener Str. 220, 50931 Köln
END:VEVENT
BEGIN:VEVENT
DTSTAMP:20260421T142152
DTSTART;TZID=Europe/Berlin:20260603T090000
DTEND;TZID=Europe/Berlin:20260603T133000
UID:26L422041-20260603T090000@KÖLNER VHS
SUMMARY:Deutsch Superintensivkurs für Studierende und Akademiker*innen B2.1 (26L422041) 
LOCATION:VHS im Bezirksrathaus Lindenthal, Raum 1.33, Aachener Str. 220, 50931 Köln
END:VEVENT
BEGIN:VEVENT
DTSTAMP:20260421T142152
DTSTART;TZID=Europe/Berlin:20260608T090000
DTEND;TZID=Europe/Berlin:20260608T133000
UID:26L422041-20260608T090000@KÖLNER VHS
SUMMARY:Deutsch Superintensivkurs für Studierende und Akademiker*innen B2.1 (26L422041) 
LOCATION:VHS im Bezirksrathaus Lindenthal, Raum 1.33, Aachener Str. 220, 50931 Köln
END:VEVENT
BEGIN:VEVENT
DTSTAMP:20260421T142152
DTSTART;TZID=Europe/Berlin:20260609T090000
DTEND;TZID=Europe/Berlin:20260609T133000
UID:26L422041-20260609T090000@KÖLNER VHS
SUMMARY:Deutsch Superintensivkurs für Studierende und Akademiker*innen B2.1 (26L422041) 
LOCATION:VHS im Bezirksrathaus Lindenthal, Raum 1.33, Aachener Str. 220, 50931 Köln
END:VEVENT
BEGIN:VEVENT
DTSTAMP:20260421T142152
DTSTART;TZID=Europe/Berlin:20260610T090000
DTEND;TZID=Europe/Berlin:20260610T133000
UID:26L422041-20260610T090000@KÖLNER VHS
SUMMARY:Deutsch Superintensivkurs für Studierende und Akademiker*innen B2.1 (26L422041) 
LOCATION:VHS im Bezirksrathaus Lindenthal, Raum 1.33, Aachener Str. 220, 50931 Köln
END:VEVENT
BEGIN:VEVENT
DTSTAMP:20260421T142152
DTSTART;TZID=Europe/Berlin:20260611T090000
DTEND;TZID=Europe/Berlin:20260611T133000
UID:26L422041-20260611T090000@KÖLNER VHS
SUMMARY:Deutsch Superintensivkurs für Studierende und Akademiker*innen B2.1 (26L422041) 
LOCATION:VHS im Bezirksrathaus Lindenthal, Raum 1.33, Aachener Str. 220, 50931 Köln
END:VEVENT
BEGIN:VEVENT
DTSTAMP:20260421T142152
DTSTART;TZID=Europe/Berlin:20260612T090000
DTEND;TZID=Europe/Berlin:20260612T133000
UID:26L422041-20260612T090000@KÖLNER VHS
SUMMARY:Deutsch Superintensivkurs für Studierende und Akademiker*innen B2.1 (26L422041) 
LOCATION:VHS im Bezirksrathaus Lindenthal, Raum 1.33, Aachener Str. 220, 50931 Köln
END:VEVENT
END:VCALENDAR